Workbook

Sheet Gala Setup
H1: 100M | I1: 200m | K1: Note to all those using this programme DO NOT USE "CUT & PASTE" or "DRAG & DROP" in any Arena documents
D2: ='Gala Setup'!J7 -> 0 | G2: =DATE(YEAR(NOW()),12,31) -> 43465 | H2: National Arena Swimming League | L2: Import or Edit Teams ↓ | N2: Enter Lane Numbers ALWAYS Starting with the lowest number ↓ | P2: Team names will show here when the team sheet is imported | Q2: Enter 4 digit club code HERE ↓ | AD2: =H2 -> National Arena Swimming League | AG2: =S4 -> NASL.2018 | AH2: LANE | AI2: These are the names that have been entered on the team sheet
H3: Gala recorders:- Please fill in all red boxes.
B4: =H2 -> National Arena Swimming League | C4: =H6 -> Peterborough | D4: =H6 -> Peterborough | E4: =H7 -> 43386 | F4: =IF(J8=25,31,IF(J8=50,11)) -> 31 | G4: League | H4: East Midlands | I4: Division | J4: Premier | L4: TEAM 1 | N4: 1 | O4: =IF(P4=0,"No Team Sheet",IF(M4=0,0,IF(M4=P4,"OK","ERROR"))) -> 0 | P4: =IF('Team 1'!E1=0,"The team in the lowest numbered lane must show here",'Team 1'!E1) -> Norwich Swans | Q4: NOST | S4: NASL.2018 | AD4: League | AE4: =H4 -> East Midlands | AF4: DIVISION | AG4: =J4 -> Premier | AH4: LANE 1 | AI4: =P4 -> Norwich Swans | AJ4: =M4 -> 0 | AK4: =IF(AJ4=0,"No Team Sheet",IF(AI4=0,0,IF(AI4=AJ4,"OK","ERROR"))) -> No Team Sheet | AL4: 6 LANES | AM4: 8 LANES | AN4: 10 LANES
E5: =TEXT(E4,"DD/MM/YY") -> 13/10/18 | G5: Round | H5: 1 | I5: Gala Number | J5: 1 | L5: TEAM 2 | N5: 2 | O5: =IF(P5=0,"No Team Sheet",IF(M5=0,0,IF(M5=P5,"OK","ERROR"))) -> 0 | P5: ='Team 2'!E$1 -> Northampton B | Q5: NHNA | S5: Earlier versions are all still usable | AD5: Round | AE5: =H5 -> 1 | AF5: Gala Number | AG5: =J5 -> 1 | AH5: LANE 2 | AI5: =P5 -> Northampton B | AJ5: =M5 -> 0 | AK5: =IF(AJ5=0,"No Team Sheet",IF(AI5=0,0,IF(AI5=AJ5,"OK","ERROR"))) -> No Team Sheet
E6: =LEFT(E5,2)&MID(E5,4,2)&RIGHT(E5,2) -> 131018 | G6: Gala venue | H6: Peterborough | L6: TEAM 3 | N6: 3 | O6: =IF(P6=0,"No Team Sheet",IF(M6=0,0,IF(M6=P6,"OK","ERROR"))) -> 0 | P6: ='Team 3'!E$1 -> City of Peterborough A | Q6: PETT | AD6: Gala venue | AE6: =H6 -> Peterborough | AH6: LANE 3 | AI6: =P6 -> City of Peterborough A | AJ6: =M6 -> 0 | AK6: =IF(AJ6=0,"No Team Sheet",IF(AI6=0,0,IF(AI6=AJ6,"OK","ERROR"))) -> No Team Sheet
G7: Gala Date | H7: 43386 | I7: License Number (If applicable) | L7: TEAM 4 | N7: 4 | O7: =IF(P7=0,"No Team Sheet",IF(M7=0,0,IF(M7=P7,"OK","ERROR"))) -> 0 | P7: ='Team 4'!E$1 -> City of Milton Keynes | Q7: CMKS | AD7: Gala Date | AE7: =H7 -> 43386 | AH7: LANE 4 | AI7: =P7 -> City of Milton Keynes | AJ7: =M7 -> 0 | AK7: =IF(AJ7=0,"No Team Sheet",IF(AI7=0,0,IF(AI7=AJ7,"OK","ERROR"))) -> No Team Sheet
G8: Pool Length:--- Only enter 25 or 50 (necessary for Rankings if a Licensed gala) | J8: 25 | L8: TEAM 5 | N8: 5 | O8: =IF(P8=0,"No Team Sheet",IF(M8=0,0,IF(M8=P8,"OK","ERROR"))) -> 0 | P8: ='Team 5'!E$1 -> Nottingham Leander | Q8: LEAA | S8: Final Results | X8: Check a Result | AD8: Pool Length | AF8: =J8 -> 25 | AH8: LANE 5 | AI8: =P8 -> Nottingham Leander | AJ8: =M8 -> 0 | AK8: =IF(AJ8=0,"No Team Sheet",IF(AI8=0,0,IF(AI8=AJ8,"OK","ERROR"))) -> No Team Sheet
G9: Enter the IM distance for events 1 & 2 for this gala. This will either be 100M or 200M. | J9: 200M | L9: TEAM 6 | N9: 6 | O9: =IF(P9=0,"No Team Sheet",IF(M9=0,0,IF(M9=P9,"OK","ERROR"))) -> 0 | P9: ='Team 6'!E$1 -> Moderians | Q9: MODT | S9: Swimmer Eligibilty | X9: Club Codes | AG9: Metre | AH9: LANE 6 | AI9: =P9 -> Moderians | AJ9: =M9 -> 0 | AK9: =IF(AJ9=0,"No Team Sheet",IF(AI9=0,0,IF(AI9=AJ9,"OK","ERROR"))) -> No Team Sheet
G10: Notes for Gala recorders. | L10: TEAM 7 | O10: =IF(P10=0,"No Team Sheet",IF(M10=0,0,IF(M10=P10,"OK","ERROR"))) -> No Team Sheet | P10: ='Team 7'!E1 -> 0 | R10: Results Printout 6 Lane | AH10: LANE 7 | AI10: =P10 -> 0 | AJ10: =M10 -> 0 | AK10: =IF(AJ10=0,"No Team Sheet",IF(AI10=0,0,IF(AI10=AJ10,"OK","ERROR"))) -> No Team Sheet
G11: 1/ Please ensure that all gala details are correctly entered. Team names automatically appear as shown on the team sheets. The 4 digit club codes MUST then be entered on this page. 2/ Lane order is as supplied by your league secretary & lanes should be numbered on this sheet, to coincide with the pool setup. | L11: TEAM 8 | O11: =IF(P11=0,"No Team Sheet",IF(M11=0,0,IF(M11=P11,"OK","ERROR"))) -> No Team Sheet | P11: ='Team 8'!E1 -> 0 | R11: Results Printout 8 Lane | AD11: Medley distance | AF11: =J9 -> 200M | AH11: LANE 8 | AI11: =P11 -> 0 | AJ11: =M11 -> 0 | AK11: =IF(AJ11=0,"No Team Sheet",IF(AI11=0,0,IF(AI11=AJ11,"OK","ERROR"))) -> No Team Sheet
L12: TEAM 9 | O12: =IF(P12=0,"No Team Sheet",IF(M12=0,0,IF(M12=P12,"OK","ERROR"))) -> No Team Sheet | P12: ='Team 9'!E1 -> 0 | S12: Results Printout 10 Lane | AH12: LANE 9 | AI12: =P12 -> 0 | AJ12: =M12 -> 0 | AK12: =IF(AJ12=0,"No Team Sheet",IF(AI12=0,0,IF(AI12=AJ12,"OK","ERROR"))) -> No Team Sheet
G13: 3/ Team & lane data must always be entered starting with "Team 1" no matter how many teams are swimming or which number lanes are used. | L13: TEAM 10 | O13: =IF(P13=0,"No Team Sheet",IF(M13=0,0,IF(M13=P13,"OK","ERROR"))) -> No Team Sheet | P13: ='Team 10'!E1 -> 0 | S13: Rankings HDR file | X13: Rankings MRF file | AH13: LANE 0 | AI13: =P13 -> 0 | AJ13: =M13 -> 0 | AK13: =IF(AJ13=0,"No Team Sheet",IF(AI13=0,0,IF(AI13=AJ13,"OK","ERROR"))) -> No Team Sheet
G14: 4/ If an individual gala result is tied, places are automatically calculated on countback using all 50 events. All placings are taken into account when necessary. 5/ The final result sheet also calculates the overall league result. To use this facility, points from galas 1 & 2 must be entered using the information supplied to you by your league secretary. | N14: → | P14: Print Lane timer sheets | X14: ←
L15: → | N15: Run the Gala | Y15: ←
G17: 6/ Navigation between the different parts of the programme can be either by selecting the links located within each page, or by using the sheet tabs at the bottom of the page.
G19: 7/ If a club name is made up entirely with numbers eg 1066 or 1930 then letters must be added for points to score correctly. SC is acceptable. | L19: ↗ | Y19: ↖
G20: Email this complete excel file to your league secretary as soon as possible & at the latest by Midday of the next day.

Sheet Lane Timer sheets
D1: Gala Setup | E1: Gala Recording | F1: Check a Result | G1: Check a Swimmer | H1: Final Result | I1: Team sheets ↓
A2: Lane Timer sheets are now required at Arena League Galas 1. Ensure that you have processed any team changes before printing out these sheets. 2. Now - From this page, Press - Ctrl+P on the keyboard. 3. The default setting is for 10 lanes, with 2 pages per lane, so please select the number of pages to equal the number of lanes in use. Please note Only 1 copy should be selected, as that will print 1 copy of each lane. Individual events are on sheet 1, Relays are on sheet 2. Hand the printed sheets to the Referee who will issue them to the timekeepers. | I2: TEAM 1 | K2: ='Gala Setup'!$H7 -> 43386 | O2: ='Gala Setup'!$H4 -> East Midlands | P2: ='Gala Setup'!$J4 -> Premier | S2: ='Gala Setup'!$H7 -> 43386 | U2: ='Gala Setup'!H4 -> East Midlands | V2: ='Gala Setup'!J4 -> Premier | W2: ='Gala Setup'!$H4 -> East Midlands | X2: ='Gala Setup'!$J4 -> Premier | Y2: ='Gala Setup'!$H7 -> 43386 | AA2: ='Gala Setup'!$H4 -> East Midlands | AB2: ='Gala Setup'!$J4 -> Premier | AC2: ='Gala Setup'!$H4 -> East Midlands | AD2: ='Gala Setup'!$J4 -> Premier | AE2: ='Gala Setup'!$H7 -> 43386 | AG2: ='Gala Setup'!$H4 -> East Midlands | AH2: ='Gala Setup'!$J4 -> Premier | AI2: ='Gala Setup'!$H4 -> East Midlands | AJ2: ='Gala Setup'!$J4 -> Premier | AK2: ='Gala Setup'!$H7 -> 43386 | AM2: ='Gala Setup'!$H4 -> East Midlands | AN2: ='Gala Setup'!$J4 -> Premier | AO2: ='Gala Setup'!$H4 -> East Midlands | AP2: ='Gala Setup'!$J4 -> Premier | AQ2: ='Gala Setup'!$H7 -> 43386 | AS2: ='Gala Setup'!$H4 -> East Midlands | AT2: ='Gala Setup'!$J4 -> Premier | AU2: ='Gala Setup'!$H4 -> East Midlands | AV2: ='Gala Setup'!$J4 -> Premier | AW2: ='Gala Setup'!$H7 -> 43386 | AY2: ='Gala Setup'!$H4 -> East Midlands | AZ2: ='Gala Setup'!$J4 -> Premier | BA2: ='Gala Setup'!$H4 -> East Midlands | BB2: ='Gala Setup'!$J4 -> Premier | BC2: ='Gala Setup'!$H7 -> 43386 | BE2: ='Gala Setup'!$H4 -> East Midlands | BF2: ='Gala Setup'!$J4 -> Premier | BG2: ='Gala Setup'!$H4 -> East Midlands | BH2: ='Gala Setup'!$J4 -> Premier | BI2: ='Gala Setup'!$H7 -> 43386 | BK2: ='Gala Setup'!$H4 -> East Midlands | BL2: ='Gala Setup'!$J4 -> Premier | BM2: ='Gala Setup'!$H4 -> East Midlands | BN2: ='Gala Setup'!$J4 -> Premier | BO2: ='Gala Setup'!$H7 -> 43386 | BQ2: ='Gala Setup'!$H4 -> East Midlands | BR2: ='Gala Setup'!$J4 -> Premier
I3: TEAM 2 | K3: ='Gala Setup'!$H6 -> Peterborough | S3: ='Gala Setup'!$H6 -> Peterborough | Y3: ='Gala Setup'!$H6 -> Peterborough | AE3: ='Gala Setup'!$H6 -> Peterborough | AK3: ='Gala Setup'!$H6 -> Peterborough | AQ3: ='Gala Setup'!$H6 -> Peterborough | AW3: ='Gala Setup'!$H6 -> Peterborough | BC3: ='Gala Setup'!$H6 -> Peterborough | BI3: ='Gala Setup'!$H6 -> Peterborough | BO3: ='Gala Setup'!H6 -> Peterborough
I4: TEAM 3 | K4: Events | O4: ='Gala Setup'!P4 -> Norwich Swans | P4: Time | S4: Events | U4: ='Gala Setup'!P5 -> Northampton B | V4: Time | Y4: Events | AA4: ='Gala Setup'!P6 -> City of Peterborough A | AB4: Time | AE4: Events | AG4: ='Gala Setup'!P7 -> City of Milton Keynes | AH4: Time | AK4: Events | AM4: ='Gala Setup'!P8 -> Nottingham Leander | AN4: Time | AQ4: Events | AS4: ='Gala Setup'!P9 -> Moderians | AT4: Time | AW4: Events | AY4: ='Gala Setup'!P10 -> 0 | AZ4: Time | BC4: Events | BE4: ='Gala Setup'!P11 -> 0 | BF4: Time | BI4: Events | BK4: ='Gala Setup'!P12 -> 0 | BL4: Time | BO4: Events | BQ4: ='Gala Setup'!P13 -> 0 | BR4: Time
I5: TEAM 4 | O5: LANE | U5: LANE | W5: LANE | X5: LANE | AA5: LANE | AC5: LANE | AD5: LANE | AG5: LANE | AI5: LANE | AJ5: LANE | AM5: LANE | AO5: LANE | AP5: LANE | AS5: LANE | AU5: LANE | AV5: LANE | AY5: LANE | BA5: LANE | BB5: LANE | BE5: LANE | BG5: LANE | BH5: LANE | BK5: LANE | BM5: LANE | BN5: LANE | BQ5: LANE
I6: TEAM 5 | O6: ='Gala Setup'!N4 -> 1 | Q6: lane 4 | R6: lane 5 | U6: ='Gala Setup'!N5 -> 2 | W6: ='Gala Setup'!N6 -> 3 | X6: ='Gala Setup'!#REF! -> #REF! | AA6: ='Gala Setup'!N6 -> 3 | AC6: ='Gala Setup'!V4 -> 0 | AD6: ='Gala Setup'!X4 -> 0 | AG6: ='Gala Setup'!N7 -> 4 | AI6: ='Gala Setup'!Z4 -> 0 | AJ6: ='Gala Setup'!AA4 -> 0 | AM6: ='Gala Setup'!N8 -> 5 | AO6: ='Gala Setup'!AC4 -> 0 | AP6: ='Gala Setup'!AD4 -> League | AS6: ='Gala Setup'!N9 -> 6 | AU6: ='Gala Setup'!AF4 -> DIVISION | AV6: ='Gala Setup'!AG4 -> Premier | AY6: ='Gala Setup'!N10 -> 0 | BA6: ='Gala Setup'!AI4 -> Norwich Swans | BB6: ='Gala Setup'!AJ4 -> 0 | BE6: ='Gala Setup'!N11 -> 0 | BG6: ='Gala Setup'!AL4 -> 6 LANES | BH6: ='Gala Setup'!AM4 -> 8 LANES | BK6: ='Gala Setup'!N12 -> 0 | BM6: ='Gala Setup'!AO4 -> 0 | BN6: ='Gala Setup'!AP4 -> 0 | BQ6: ='Gala Setup'!N13 -> 0
I7: TEAM 6 | K7: 1 | L7: LADIES OPEN IM | M7: ='Team 1'!F4 -> India | N7: ='Team 1'!G4 -> 0 | O7: =CONCATENATE(M7, " ",N7) -> India 0 | Q7: ='Team 2'!F4 -> Katie | R7: ='Team 2'!G4 -> 0 | S7: 1 | T7: LADIES OPEN IM | U7: =CONCATENATE(Q7, " ",R7) -> Katie 0 | W7: ='Team 3'!F4 -> Amelia | X7: ='Team 3'!G4 -> 0 | Y7: 1 | Z7: LADIES OPEN IM | AA7: =CONCATENATE(W7, " ",X7) -> Amelia 0 | AC7: ='Team 4'!F4 -> Aiyana | AD7: ='Team 4'!G4 -> 0 | AE7: 1 | AF7: LADIES OPEN IM | AG7: =CONCATENATE(AC7, " ",AD7) -> Aiyana 0 | AI7: ='Team 5'!F4 -> Lauren | AJ7: ='Team 5'!G4 -> 0 | AK7: 1 | AL7: LADIES OPEN IM | AM7: =CONCATENATE(AI7, " ",AJ7) -> Lauren 0 | AO7: ='Team 6'!F4 -> Orla | AP7: ='Team 6'!G4 -> 0 | AQ7: 1 | AR7: LADIES OPEN IM | AS7: =CONCATENATE(AO7, " ",AP7) -> Orla 0 | AU7: ='Team 7'!F4 -> 0 | AV7: ='Team 7'!G4 -> 0 | AW7: 1 | AX7: LADIES OPEN IM | AY7: =CONCATENATE(AU7, " ",AV7) -> 0 0 | BA7: ='Team 8'!F4 -> 0 | BB7: ='Team 8'!G4 -> 0 | BC7: 1 | BD7: LADIES OPEN IM | BE7: =CONCATENATE(BA7, " ",BB7) -> 0 0 | BG7: ='Team 9'!F4 -> 0 | BH7: ='Team 9'!G4 -> 0 | BI7: 1 | BJ7: LADIES OPEN IM | BK7: =CONCATENATE(BG7, " ",BH7) -> 0 0 | BM7: ='Team 10'!F4 -> 0 | BN7: ='Team 10'!G4 -> 0 | BO7: 1 | BP7: LADIES OPEN IM | BQ7: =CONCATENATE(BM7, " ",BN7) -> 0 0
I8: TEAM 7 | K8: 2 | L8: MENS OPEN IM | M8: ='Team 1'!F5 -> Tom | N8: ='Team 1'!G5 -> 0 | O8: =CONCATENATE(M8, " ",N8) -> Tom 0 | Q8: ='Team 2'!F5 -> Samuel | R8: ='Team 2'!G5 -> 0 | S8: 2 | T8: MENS OPEN IM | U8: =CONCATENATE(Q8, " ",R8) -> Samuel 0 | W8: ='Team 3'!F5 -> Jamie | X8: ='Team 3'!G5 -> 0 | Y8: 2 | Z8: MENS OPEN IM | AA8: =CONCATENATE(W8, " ",X8) -> Jamie 0 | AC8: ='Team 4'!F5 -> Miles | AD8: ='Team 4'!G5 -> 0 | AE8: 2 | AF8: MENS OPEN IM | AG8: =CONCATENATE(AC8, " ",AD8) -> Miles 0 | AI8: ='Team 5'!F5 -> Kris | AJ8: ='Team 5'!G5 -> 0 | AK8: 2 | AL8: MENS OPEN IM | AM8: =CONCATENATE(AI8, " ",AJ8) -> Kris 0 | AO8: ='Team 6'!F5 -> Jack | AP8: ='Team 6'!G5 -> 0 | AQ8: 2 | AR8: MENS OPEN IM | AS8: =CONCATENATE(AO8, " ",AP8) -> Jack 0 | AU8: ='Team 7'!F5 -> 0 | AV8: ='Team 7'!G5 -> 0 | AW8: 2 | AX8: MENS OPEN IM | AY8: =CONCATENATE(AU8, " ",AV8) -> 0 0 | BA8: ='Team 8'!F5 -> 0 | BB8: ='Team 8'!G5 -> 0 | BC8: 2 | BD8: MENS OPEN IM | BE8: =CONCATENATE(BA8, " ",BB8) -> 0 0 | BG8: ='Team 9'!F5 -> 0 | BH8: ='Team 9'!G5 -> 0 | BI8: 2 | BJ8: MENS OPEN IM | BK8: =CONCATENATE(BG8, " ",BH8) -> 0 0 | BM8: ='Team 10'!F5 -> 0 | BN8: ='Team 10'!G5 -> 0 | BO8: 2 | BP8: MENS OPEN IM | BQ8: =CONCATENATE(BM8, " ",BN8) -> 0 0
I9: TEAM 8 | K9: 11 | L9: GIRLS 10/11 50M BACKSTROKE | M9: ='Team 1'!F38 -> Charlotte | N9: ='Team 1'!G38 -> 0 | O9: =CONCATENATE(M9, " ",N9) -> Charlotte 0 | Q9: ='Team 2'!F38 -> Elyse | R9: ='Team 2'!G38 -> 0 | S9: 11 | T9: GIRLS 10/11 50M BACKSTROKE | U9: =CONCATENATE(Q9, " ",R9) -> Elyse 0 | W9: ='Team 3'!F38 -> Leah | X9: ='Team 3'!G38 -> 0 | Y9: 11 | Z9: GIRLS 10/11 50M BACKSTROKE | AA9: =CONCATENATE(W9, " ",X9) -> Leah 0 | AC9: ='Team 4'!F38 -> Emma | AD9: ='Team 4'!G38 -> 0 | AE9: 11 | AF9: GIRLS 10/11 50M BACKSTROKE | AG9: =CONCATENATE(AC9, " ",AD9) -> Emma 0 | AI9: ='Team 5'!F38 -> Amy | AJ9: ='Team 5'!G38 -> 0 | AK9: 11 | AL9: GIRLS 10/11 50M BACKSTROKE | AM9: =CONCATENATE(AI9, " ",AJ9) -> Amy 0 | AO9: ='Team 6'!F38 -> Eloise | AP9: ='Team 6'!G38 -> 0 | AQ9: 11 | AR9: GIRLS 10/11 50M BACKSTROKE | AS9: =CONCATENATE(AO9, " ",AP9) -> Eloise 0 | AU9: ='Team 7'!F38 -> 0 | AV9: ='Team 7'!G38 -> 0 | AW9: 11 | AX9: GIRLS 10/11 50M BACKSTROKE | AY9: =CONCATENATE(AU9, " ",AV9) -> 0 0 | BA9: ='Team 8'!F38 -> 0 | BB9: ='Team 8'!G38 -> 0 | BC9: 11 | BD9: GIRLS 10/11 50M BACKSTROKE | BE9: =CONCATENATE(BA9, " ",BB9) -> 0 0 | BG9: ='Team 9'!F38 -> 0 | BH9: ='Team 9'!G38 -> 0 | BI9: 11 | BJ9: GIRLS 10/11 50M BACKSTROKE | BK9: =CONCATENATE(BG9, " ",BH9) -> 0 0 | BM9: ='Team 10'!F38 -> 0 | BN9: ='Team 10'!G38 -> 0 | BO9: 11 | BP9: GIRLS 10/11 50M BACKSTROKE | BQ9: =CONCATENATE(BM9, " ",BN9) -> 0 0
I10: TEAM 9 | K10: 12 | L10: BOYS 10/11 50M BACKSTROKE | M10: ='Team 1'!F39 -> James | N10: ='Team 1'!G39 -> 0 | O10: =CONCATENATE(M10, " ",N10) -> James 0 | Q10: ='Team 2'!F39 -> Max | R10: ='Team 2'!G39 -> 0 | S10: 12 | T10: BOYS 10/11 50M BACKSTROKE | U10: =CONCATENATE(Q10, " ",R10) -> Max 0 | W10: ='Team 3'!F39 -> Orlando | X10: ='Team 3'!G39 -> 0 | Y10: 12 | Z10: BOYS 10/11 50M BACKSTROKE | AA10: =CONCATENATE(W10, " ",X10) -> Orlando 0 | AC10: ='Team 4'!F39 -> Benjamin | AD10: ='Team 4'!G39 -> 0 | AE10: 12 | AF10: BOYS 10/11 50M BACKSTROKE | AG10: =CONCATENATE(AC10, " ",AD10) -> Benjamin 0 | AI10: ='Team 5'!F39 -> Findley | AJ10: ='Team 5'!G39 -> 0 | AK10: 12 | AL10: BOYS 10/11 50M BACKSTROKE | AM10: =CONCATENATE(AI10, " ",AJ10) -> Findley 0 | AO10: ='Team 6'!F39 -> Daniel | AP10: ='Team 6'!G39 -> 0 | AQ10: 12 | AR10: BOYS 10/11 50M BACKSTROKE | AS10: =CONCATENATE(AO10, " ",AP10) -> Daniel 0 | AU10: ='Team 7'!F39 -> 0 | AV10: ='Team 7'!G39 -> 0 | AW10: 12 | AX10: BOYS 10/11 50M BACKSTROKE | AY10: =CONCATENATE(AU10, " ",AV10) -> 0 0 | BA10: ='Team 8'!F39 -> 0 | BB10: ='Team 8'!G39 -> 0 | BC10: 12 | BD10: BOYS 10/11 50M BACKSTROKE | BE10: =CONCATENATE(BA10, " ",BB10) -> 0 0 | BG10: ='Team 9'!F39 -> 0 | BH10: ='Team 9'!G39 -> 0 | BI10: 12 | BJ10: BOYS 10/11 50M BACKSTROKE | BK10: =CONCATENATE(BG10, " ",BH10) -> 0 0 | BM10: ='Team 10'!F39 -> 0 | BN10: ='Team 10'!G39 -> 0 | BO10: 12 | BP10: BOYS 10/11 50M BACKSTROKE | BQ10: =CONCATENATE(BM10, " ",BN10) -> 0 0
I11: TEAM 10 | K11: 13 | L11: GIRLS 13/U 100M BREASTSTROKE | M11: ='Team 1'!F40 -> Sophie | N11: ='Team 1'!G40 -> 0 | O11: =CONCATENATE(M11, " ",N11) -> Sophie 0 | Q11: ='Team 2'!F40 -> Talia-Jay | R11: ='Team 2'!G40 -> 0 | S11: 13 | T11: GIRLS 13/U 100M BREASTSTROKE | U11: =CONCATENATE(Q11, " ",R11) -> Talia-Jay 0 | W11: ='Team 3'!F40 -> Jess | X11: ='Team 3'!G40 -> 0 | Y11: 13 | Z11: GIRLS 13/U 100M BREASTSTROKE | AA11: =CONCATENATE(W11, " ",X11) -> Jess 0 | AC11: ='Team 4'!F40 -> Abby | AD11: ='Team 4'!G40 -> 0 | AE11: 13 | AF11: GIRLS 13/U 100M BREASTSTROKE | AG11: =CONCATENATE(AC11, " ",AD11) -> Abby 0 | AI11: ='Team 5'!F40 -> Samantha | AJ11: ='Team 5'!G40 -> 0 | AK11: 13 | AL11: GIRLS 13/U 100M BREASTSTROKE | AM11: =CONCATENATE(AI11, " ",AJ11) -> Samantha 0 | AO11: ='Team 6'!F40 -> Jessica | AP11: ='Team 6'!G40 -> 0 | AQ11: 13 | AR11: GIRLS 13/U 100M BREASTSTROKE | AS11: =CONCATENATE(AO11, " ",AP11) -> Jessica 0 | AU11: ='Team 7'!F40 -> 0 | AV11: ='Team 7'!G40 -> 0 | AW11: 13 | AX11: GIRLS 13/U 100M BREASTSTROKE | AY11: =CONCATENATE(AU11, " ",AV11) -> 0 0 | BA11: ='Team 8'!F40 -> 0 | BB11: ='Team 8'!G40 -> 0 | BC11: 13 | BD11: GIRLS 13/U 100M BREASTSTROKE | BE11: =CONCATENATE(BA11, " ",BB11) -> 0 0 | BG11: ='Team 9'!F40 -> 0 | BH11: ='Team 9'!G40 -> 0 | BI11: 13 | BJ11: GIRLS 13/U 100M BREASTSTROKE | BK11: =CONCATENATE(BG11, " ",BH11) -> 0 0 | BM11: ='Team 10'!F40 -> 0 | BN11: ='Team 10'!G40 -> 0 | BO11: 13 | BP11: GIRLS 13/U 100M BREASTSTROKE | BQ11: =CONCATENATE(BM11, " ",BN11) -> 0 0
I12: ↑ Team sheets | K12: 14 | L12: BOYS 13/U 100M BREASTSTROKE | M12: ='Team 1'!F41 -> Henri | N12: ='Team 1'!G41 -> 0 | O12: =CONCATENATE(M12, " ",N12) -> Henri 0 | Q12: ='Team 2'!F41 -> Omar | R12: ='Team 2'!G41 -> 0 | S12: 14 | T12: BOYS 13/U 100M BREASTSTROKE | U12: =CONCATENATE(Q12, " ",R12) -> Omar 0 | W12: ='Team 3'!F41 -> Josh | X12: ='Team 3'!G41 -> 0 | Y12: 14 | Z12: BOYS 13/U 100M BREASTSTROKE | AA12: =CONCATENATE(W12, " ",X12) -> Josh 0 | AC12: ='Team 4'!F41 -> Matus | AD12: ='Team 4'!G41 -> 0 | AE12: 14 | AF12: BOYS 13/U 100M BREASTSTROKE | AG12: =CONCATENATE(AC12, " ",AD12) -> Matus 0 | AI12: ='Team 5'!F41 -> James | AJ12: ='Team 5'!G41 -> 0 | AK12: 14 | AL12: BOYS 13/U 100M BREASTSTROKE | AM12: =CONCATENATE(AI12, " ",AJ12) -> James 0 | AO12: ='Team 6'!F41 -> Benjamin | AP12: ='Team 6'!G41 -> 0 | AQ12: 14 | AR12: BOYS 13/U 100M BREASTSTROKE | AS12: =CONCATENATE(AO12, " ",AP12) -> Benjamin 0 | AU12: ='Team 7'!F41 -> 0 | AV12: ='Team 7'!G41 -> 0 | AW12: 14 | AX12: BOYS 13/U 100M BREASTSTROKE | AY12: =CONCATENATE(AU12, " ",AV12) -> 0 0 | BA12: ='Team 8'!F41 -> 0 | BB12: ='Team 8'!G41 -> 0 | BC12: 14 | BD12: BOYS 13/U 100M BREASTSTROKE | BE12: =CONCATENATE(BA12, " ",BB12) -> 0 0 | BG12: ='Team 9'!F41 -> 0 | BH12: ='Team 9'!G41 -> 0 | BI12: 14 | BJ12: BOYS 13/U 100M BREASTSTROKE | BK12: =CONCATENATE(BG12, " ",BH12) -> 0 0 | BM12: ='Team 10'!F41 -> 0 | BN12: ='Team 10'!G41 -> 0 | BO12: 14 | BP12: BOYS 13/U 100M BREASTSTROKE | BQ12: =CONCATENATE(BM12, " ",BN12) -> 0 0
K13: 15 | L13: GIRLS 15/U 100M BACKSTROKE | M13: ='Team 1'!F42 -> Katie | N13: ='Team 1'!G42 -> 0 | O13: =CONCATENATE(M13, " ",N13) -> Katie 0 | Q13: ='Team 2'!F42 -> Rebecca | R13: ='Team 2'!G42 -> 0 | S13: 15 | T13: GIRLS 15/U 100M BACKSTROKE | U13: =CONCATENATE(Q13, " ",R13) -> Rebecca 0 | W13: ='Team 3'!F42 -> Eve | X13: ='Team 3'!G42 -> 0 | Y13: 15 | Z13: GIRLS 15/U 100M BACKSTROKE | AA13: =CONCATENATE(W13, " ",X13) -> Eve 0 | AC13: ='Team 4'!F42 -> Lottie | AD13: ='Team 4'!G42 -> 0 | AE13: 15 | AF13: GIRLS 15/U 100M BACKSTROKE | AG13: =CONCATENATE(AC13, " ",AD13) -> Lottie 0 | AI13: ='Team 5'!F42 -> Emma | AJ13: ='Team 5'!G42 -> 0 | AK13: 15 | AL13: GIRLS 15/U 100M BACKSTROKE | AM13: =CONCATENATE(AI13, " ",AJ13) -> Emma 0 | AO13: ='Team 6'!F42 -> Georgina | AP13: ='Team 6'!G42 -> 0 | AQ13: 15 | AR13: GIRLS 15/U 100M BACKSTROKE | AS13: =CONCATENATE(AO13, " ",AP13) -> Georgina 0 | AU13: ='Team 7'!F42 -> 0 | AV13: ='Team 7'!G42 -> 0 | AW13: 15 | AX13: GIRLS 15/U 100M BACKSTROKE | AY13: =CONCATENATE(AU13, " ",AV13) -> 0 0 | BA13: ='Team 8'!F42 -> 0 | BB13: ='Team 8'!G42 -> 0 | BC13: 15 | BD13: GIRLS 15/U 100M BACKSTROKE | BE13: =CONCATENATE(BA13, " ",BB13) -> 0 0 | BG13: ='Team 9'!F42 -> 0 | BH13: ='Team 9'!G42 -> 0 | BI13: 15 | BJ13: GIRLS 15/U 100M BACKSTROKE | BK13: =CONCATENATE(BG13, " ",BH13) -> 0 0 | BM13: ='Team 10'!F42 -> 0 | BN13: ='Team 10'!G42 -> 0 | BO13: 15 | BP13: GIRLS 15/U 100M BACKSTROKE | BQ13: =CONCATENATE(BM13, " ",BN13) -> 0 0
K14: 16 | L14: BOYS 15/U 100M BACKSTROKE | M14: ='Team 1'!F43 -> Ben | N14: ='Team 1'!G43 -> 0 | O14: =CONCATENATE(M14, " ",N14) -> Ben 0 | Q14: ='Team 2'!F43 -> Thomas | R14: ='Team 2'!G43 -> 0 | S14: 16 | T14: BOYS 15/U 100M BACKSTROKE | U14: =CONCATENATE(Q14, " ",R14) -> Thomas 0 | W14: ='Team 3'!F43 -> Fabian | X14: ='Team 3'!G43 -> 0 | Y14: 16 | Z14: BOYS 15/U 100M BACKSTROKE | AA14: =CONCATENATE(W14, " ",X14) -> Fabian 0 | AC14: ='Team 4'!F43 -> Joshua | AD14: ='Team 4'!G43 -> 0 | AE14: 16 | AF14: BOYS 15/U 100M BACKSTROKE | AG14: =CONCATENATE(AC14, " ",AD14) -> Joshua 0 | AI14: ='Team 5'!F43 -> Andrew | AJ14: ='Team 5'!G43 -> 0 | AK14: 16 | AL14: BOYS 15/U 100M BACKSTROKE | AM14: =CONCATENATE(AI14, " ",AJ14) -> Andrew 0 | AO14: ='Team 6'!F43 -> Thomas | AP14: ='Team 6'!G43 -> 0 | AQ14: 16 | AR14: BOYS 15/U 100M BACKSTROKE | AS14: =CONCATENATE(AO14, " ",AP14) -> Thomas 0 | AU14: ='Team 7'!F43 -> 0 | AV14: ='Team 7'!G43 -> 0 | AW14: 16 | AX14: BOYS 15/U 100M BACKSTROKE | AY14: =CONCATENATE(AU14, " ",AV14) -> 0 0 | BA14: ='Team 8'!F43 -> 0 | BB14: ='Team 8'!G43 -> 0 | BC14: 16 | BD14: BOYS 15/U 100M BACKSTROKE | BE14: =CONCATENATE(BA14, " ",BB14) -> 0 0 | BG14: ='Team 9'!F43 -> 0 | BH14: ='Team 9'!G43 -> 0 | BI14: 16 | BJ14: BOYS 15/U 100M BACKSTROKE | BK14: =CONCATENATE(BG14, " ",BH14) -> 0 0 | BM14: ='Team 10'!F43 -> 0 | BN14: ='Team 10'!G43 -> 0 | BO14: 16 | BP14: BOYS 15/U 100M BACKSTROKE | BQ14: =CONCATENATE(BM14, " ",BN14) -> 0 0
D15: ='Gala Setup'!S4 -> NASL.2018 | K15: 17 | L15: LADIES OPEN 100M BUTTERFLY | M15: ='Team 1'!F44 -> Rebecca | N15: ='Team 1'!G44 -> 0 | O15: =CONCATENATE(M15, " ",N15) -> Rebecca 0 | Q15: ='Team 2'!F44 -> Freya | R15: ='Team 2'!G44 -> 0 | S15: 17 | T15: LADIES OPEN 100M BUTTERFLY | U15: =CONCATENATE(Q15, " ",R15) -> Freya 0 | W15: ='Team 3'!F44 -> Mia | X15: ='Team 3'!G44 -> 0 | Y15: 17 | Z15: LADIES OPEN 100M BUTTERFLY | AA15: =CONCATENATE(W15, " ",X15) -> Mia 0 | AC15: ='Team 4'!F44 -> Kaelah | AD15: ='Team 4'!G44 -> 0 | AE15: 17 | AF15: LADIES OPEN 100M BUTTERFLY | AG15: =CONCATENATE(AC15, " ",AD15) -> Kaelah 0 | AI15: ='Team 5'!F44 -> Lauren | AJ15: ='Team 5'!G44 -> 0 | AK15: 17 | AL15: LADIES OPEN 100M BUTTERFLY | AM15: =CONCATENATE(AI15, " ",AJ15) -> Lauren 0 | AO15: ='Team 6'!F44 -> Emily | AP15: ='Team 6'!G44 -> 0 | AQ15: 17 | AR15: LADIES OPEN 100M BUTTERFLY | AS15: =CONCATENATE(AO15, " ",AP15) -> Emily 0 | AU15: ='Team 7'!F44 -> 0 | AV15: ='Team 7'!G44 -> 0 | AW15: 17 | AX15: LADIES OPEN 100M BUTTERFLY | AY15: =CONCATENATE(AU15, " ",AV15) -> 0 0 | BA15: ='Team 8'!F44 -> 0 | BB15: ='Team 8'!G44 -> 0 | BC15: 17 | BD15: LADIES OPEN 100M BUTTERFLY | BE15: =CONCATENATE(BA15, " ",BB15) -> 0 0 | BG15: ='Team 9'!F44 -> 0 | BH15: ='Team 9'!G44 -> 0 | BI15: 17 | BJ15: LADIES OPEN 100M BUTTERFLY | BK15: =CONCATENATE(BG15, " ",BH15) -> 0 0 | BM15: ='Team 10'!F44 -> 0 | BN15: ='Team 10'!G44 -> 0 | BO15: 17 | BP15: LADIES OPEN 100M BUTTERFLY | BQ15: =CONCATENATE(BM15, " ",BN15) -> 0 0
K16: 18 | L16: MENS OPEN 100M BUTTERFLY | M16: ='Team 1'!F45 -> Harry | N16: ='Team 1'!G45 -> 0 | O16: =CONCATENATE(M16, " ",N16) -> Harry 0 | Q16: ='Team 2'!F45 -> Liam | R16: ='Team 2'!G45 -> 0 | S16: 18 | T16: MENS OPEN 100M BUTTERFLY | U16: =CONCATENATE(Q16, " ",R16) -> Liam 0 | W16: ='Team 3'!F45 -> Harry | X16: ='Team 3'!G45 -> 0 | Y16: 18 | Z16: MENS OPEN 100M BUTTERFLY | AA16: =CONCATENATE(W16, " ",X16) -> Harry 0 | AC16: ='Team 4'!F45 -> Max | AD16: ='Team 4'!G45 -> 0 | AE16: 18 | AF16: MENS OPEN 100M BUTTERFLY | AG16: =CONCATENATE(AC16, " ",AD16) -> Max 0 | AI16: ='Team 5'!F45 -> Tobias | AJ16: ='Team 5'!G45 -> 0 | AK16: 18 | AL16: MENS OPEN 100M BUTTERFLY | AM16: =CONCATENATE(AI16, " ",AJ16) -> Tobias 0 | AO16: ='Team 6'!F45 -> Max | AP16: ='Team 6'!G45 -> 0 | AQ16: 18 | AR16: MENS OPEN 100M BUTTERFLY | AS16: =CONCATENATE(AO16, " ",AP16) -> Max 0 | AU16: ='Team 7'!F45 -> 0 | AV16: ='Team 7'!G45 -> 0 | AW16: 18 | AX16: MENS OPEN 100M BUTTERFLY | AY16: =CONCATENATE(AU16, " ",AV16) -> 0 0 | BA16: ='Team 8'!F45 -> 0 | BB16: ='Team 8'!G45 -> 0 | BC16: 18 | BD16: MENS OPEN 100M BUTTERFLY | BE16: =CONCATENATE(BA16, " ",BB16) -> 0 0 | BG16: ='Team 9'!F45 -> 0 | BH16: ='Team 9'!G45 -> 0 | BI16: 18 | BJ16: MENS OPEN 100M BUTTERFLY | BK16: =CONCATENATE(BG16, " ",BH16) -> 0 0 | BM16: ='Team 10'!F45 -> 0 | BN16: ='Team 10'!G45 -> 0 | BO16: 18 | BP16: MENS OPEN 100M BUTTERFLY | BQ16: =CONCATENATE(BM16, " ",BN16) -> 0 0
K17: 19 | L17: GIRLS 10/11 50M BUTTERFLY | M17: ='Team 1'!F46 -> Charlotte | N17: ='Team 1'!G46 -> 0 | O17: =CONCATENATE(M17, " ",N17) -> Charlotte 0 | Q17: ='Team 2'!F46 -> Milly | R17: ='Team 2'!G46 -> 0 | S17: 19 | T17: GIRLS 10/11 50M BUTTERFLY | U17: =CONCATENATE(Q17, " ",R17) -> Milly 0 | W17: ='Team 3'!F46 -> Megan | X17: ='Team 3'!G46 -> 0 | Y17: 19 | Z17: GIRLS 10/11 50M BUTTERFLY | AA17: =CONCATENATE(W17, " ",X17) -> Megan 0 | AC17: ='Team 4'!F46 -> Despoina | AD17: ='Team 4'!G46 -> 0 | AE17: 19 | AF17: GIRLS 10/11 50M BUTTERFLY | AG17: =CONCATENATE(AC17, " ",AD17) -> Despoina 0 | AI17: ='Team 5'!F46 -> Emma | AJ17: ='Team 5'!G46 -> 0 | AK17: 19 | AL17: GIRLS 10/11 50M BUTTERFLY | AM17: =CONCATENATE(AI17, " ",AJ17) -> Emma 0 | AO17: ='Team 6'!F46 -> Fleur | AP17: ='Team 6'!G46 -> 0 | AQ17: 19 | AR17: GIRLS 10/11 50M BUTTERFLY | AS17: =CONCATENATE(AO17, " ",AP17) -> Fleur 0 | AU17: ='Team 7'!F46 -> 0 | AV17: ='Team 7'!G46 -> 0 | AW17: 19 | AX17: GIRLS 10/11 50M BUTTERFLY | AY17: =CONCATENATE(AU17, " ",AV17) -> 0 0 | BA17: ='Team 8'!F46 -> 0 | BB17: ='Team 8'!G46 -> 0 | BC17: 19 | BD17: GIRLS 10/11 50M BUTTERFLY | BE17: =CONCATENATE(BA17, " ",BB17) -> 0 0 | BG17: ='Team 9'!F46 -> 0 | BH17: ='Team 9'!G46 -> 0 | BI17: 19 | BJ17: GIRLS 10/11 50M BUTTERFLY | BK17: =CONCATENATE(BG17, " ",BH17) -> 0 0 | BM17: ='Team 10'!F46 -> 0 | BN17: ='Team 10'!G46 -> 0 | BO17: 19 | BP17: GIRLS 10/11 50M BUTTERFLY | BQ17: =CONCATENATE(BM17, " ",BN17) -> 0 0
K18: 20 | L18: BOYS 10/11 50M BUTTERFLY | M18: ='Team 1'!F47 -> Finlay | N18: ='Team 1'!G47 -> 0 | O18: =CONCATENATE(M18, " ",N18) -> Finlay 0 | Q18: ='Team 2'!F47 -> Max | R18: ='Team 2'!G47 -> 0 | S18: 20 | T18: BOYS 10/11 50M BUTTERFLY | U18: =CONCATENATE(Q18, " ",R18) -> Max 0 | W18: ='Team 3'!F47 -> Mark | X18: ='Team 3'!G47 -> 0 | Y18: 20 | Z18: BOYS 10/11 50M BUTTERFLY | AA18: =CONCATENATE(W18, " ",X18) -> Mark 0 | AC18: ='Team 4'!F47 -> Michael | AD18: ='Team 4'!G47 -> 0 | AE18: 20 | AF18: BOYS 10/11 50M BUTTERFLY | AG18: =CONCATENATE(AC18, " ",AD18) -> Michael 0 | AI18: ='Team 5'!F47 -> Findley | AJ18: ='Team 5'!G47 -> 0 | AK18: 20 | AL18: BOYS 10/11 50M BUTTERFLY | AM18: =CONCATENATE(AI18, " ",AJ18) -> Findley 0 | AO18: ='Team 6'!F47 -> Daniel | AP18: ='Team 6'!G47 -> 0 | AQ18: 20 | AR18: BOYS 10/11 50M BUTTERFLY | AS18: =CONCATENATE(AO18, " ",AP18) -> Daniel 0 | AU18: ='Team 7'!F47 -> 0 | AV18: ='Team 7'!G47 -> 0 | AW18: 20 | AX18: BOYS 10/11 50M BUTTERFLY | AY18: =CONCATENATE(AU18, " ",AV18) -> 0 0 | BA18: ='Team 8'!F47 -> 0 | BB18: ='Team 8'!G47 -> 0 | BC18: 20 | BD18: BOYS 10/11 50M BUTTERFLY | BE18: =CONCATENATE(BA18, " ",BB18) -> 0 0 | BG18: ='Team 9'!F47 -> 0 | BH18: ='Team 9'!G47 -> 0 | BI18: 20 | BJ18: BOYS 10/11 50M BUTTERFLY | BK18: =CONCATENATE(BG18, " ",BH18) -> 0 0 | BM18: ='Team 10'!F47 -> 0 | BN18: ='Team 10'!G47 -> 0 | BO18: 20 | BP18: BOYS 10/11 50M BUTTERFLY | BQ18: =CONCATENATE(BM18, " ",BN18) -> 0 0
K19: 21 | L19: GIRLS 13/U 100M BACKSTROKE | M19: ='Team 1'!F48 -> Faith | N19: ='Team 1'!G48 -> 0 | O19: =CONCATENATE(M19, " ",N19) -> Faith 0 | Q19: ='Team 2'!F48 -> Anna | R19: ='Team 2'!G48 -> 0 | S19: 21 | T19: GIRLS 13/U 100M BACKSTROKE | U19: =CONCATENATE(Q19, " ",R19) -> Anna 0 | W19: ='Team 3'!F48 -> Hannah | X19: ='Team 3'!G48 -> 0 | Y19: 21 | Z19: GIRLS 13/U 100M BACKSTROKE | AA19: =CONCATENATE(W19, " ",X19) -> Hannah 0 | AC19: ='Team 4'!F48 -> Sophie | AD19: ='Team 4'!G48 -> 0 | AE19: 21 | AF19: GIRLS 13/U 100M BACKSTROKE | AG19: =CONCATENATE(AC19, " ",AD19) -> Sophie 0 | AI19: ='Team 5'!F48 -> Jessica | AJ19: ='Team 5'!G48 -> 0 | AK19: 21 | AL19: GIRLS 13/U 100M BACKSTROKE | AM19: =CONCATENATE(AI19, " ",AJ19) -> Jessica 0 | AO19: ='Team 6'!F48 -> Salma | AP19: ='Team 6'!G48 -> 0 | AQ19: 21 | AR19: GIRLS 13/U 100M BACKSTROKE | AS19: =CONCATENATE(AO19, " ",AP19) -> Salma 0 | AU19: ='Team 7'!F48 -> 0 | AV19: ='Team 7'!G48 -> 0 | AW19: 21 | AX19: GIRLS 13/U 100M BACKSTROKE | AY19: =CONCATENATE(AU19, " ",AV19) -> 0 0 | BA19: ='Team 8'!F48 -> 0 | BB19: ='Team 8'!G48 -> 0 | BC19: 21 | BD19: GIRLS 13/U 100M BACKSTROKE | BE19: =CONCATENATE(BA19, " ",BB19) -> 0 0 | BG19: ='Team 9'!F48 -> 0 | BH19: ='Team 9'!G48 -> 0 | BI19: 21 | BJ19: GIRLS 13/U 100M BACKSTROKE | BK19: =CONCATENATE(BG19, " ",BH19) -> 0 0 | BM19: ='Team 10'!F48 -> 0 | BN19: ='Team 10'!G48 -> 0 | BO19: 21 | BP19: GIRLS 13/U 100M BACKSTROKE | BQ19: =CONCATENATE(BM19, " ",BN19) -> 0 0
K20: 22 | L20: BOYS 13/U 100M BACKSTROKE | M20: ='Team 1'!F49 -> Finley | N20: ='Team 1'!G49 -> 0 | O20: =CONCATENATE(M20, " ",N20) -> Finley 0 | Q20: ='Team 2'!F49 -> Matthew | R20: ='Team 2'!G49 -> 0 | S20: 22 | T20: BOYS 13/U 100M BACKSTROKE | U20: =CONCATENATE(Q20, " ",R20) -> Matthew 0 | W20: ='Team 3'!F49 -> Josh | X20: ='Team 3'!G49 -> 0 | Y20: 22 | Z20: BOYS 13/U 100M BACKSTROKE | AA20: =CONCATENATE(W20, " ",X20) -> Josh 0 | AC20: ='Team 4'!F49 -> Harry | AD20: ='Team 4'!G49 -> 0 | AE20: 22 | AF20: BOYS 13/U 100M BACKSTROKE | AG20: =CONCATENATE(AC20, " ",AD20) -> Harry 0 | AI20: ='Team 5'!F49 -> Finley | AJ20: ='Team 5'!G49 -> 0 | AK20: 22 | AL20: BOYS 13/U 100M BACKSTROKE | AM20: =CONCATENATE(AI20, " ",AJ20) -> Finley 0 | AO20: ='Team 6'!F49 -> Benjamin | AP20: ='Team 6'!G49 -> 0 | AQ20: 22 | AR20: BOYS 13/U 100M BACKSTROKE | AS20: =CONCATENATE(AO20, " ",AP20) -> Benjamin 0 | AU20: ='Team 7'!F49 -> 0 | AV20: ='Team 7'!G49 -> 0 | AW20: 22 | AX20: BOYS 13/U 100M BACKSTROKE | AY20: =CONCATENATE(AU20, " ",AV20) -> 0 0 | BA20: ='Team 8'!F49 -> 0 | BB20: ='Team 8'!G49 -> 0 | BC20: 22 | BD20: BOYS 13/U 100M BACKSTROKE | BE20: =CONCATENATE(BA20, " ",BB20) -> 0 0 | BG20: ='Team 9'!F49 -> 0 | BH20: ='Team 9'!G49 -> 0 | BI20: 22 | BJ20: BOYS 13/U 100M BACKSTROKE | BK20: =CONCATENATE(BG20, " ",BH20) -> 0 0 | BM20: ='Team 10'!F49 -> 0 | BN20: ='Team 10'!G49 -> 0 | BO20: 22 | BP20: BOYS 13/U 100M BACKSTROKE | BQ20: =CONCATENATE(BM20, " ",BN20) -> 0 0
K21: 23 | L21: GIRLS 15/U 100M BUTTERFLY | M21: ='Team 1'!F50 -> Rebecca | N21: ='Team 1'!G50 -> 0 | O21: =CONCATENATE(M21, " ",N21) -> Rebecca 0 | Q21: ='Team 2'!F50 -> Ella | R21: ='Team 2'!G50 -> 0 | S21: 23 | T21: GIRLS 15/U 100M BUTTERFLY | U21: =CONCATENATE(Q21, " ",R21) -> Ella 0 | W21: ='Team 3'!F50 -> Iona | X21: ='Team 3'!G50 -> 0 | Y21: 23 | Z21: GIRLS 15/U 100M BUTTERFLY | AA21: =CONCATENATE(W21, " ",X21) -> Iona 0 | AC21: ='Team 4'!F50 -> Lottie | AD21: ='Team 4'!G50 -> 0 | AE21: 23 | AF21: GIRLS 15/U 100M BUTTERFLY | AG21: =CONCATENATE(AC21, " ",AD21) -> Lottie 0 | AI21: ='Team 5'!F50 -> Emma | AJ21: ='Team 5'!G50 -> 0 | AK21: 23 | AL21: GIRLS 15/U 100M BUTTERFLY | AM21: =CONCATENATE(AI21, " ",AJ21) -> Emma 0 | AO21: ='Team 6'!F50 -> Orla | AP21: ='Team 6'!G50 -> 0 | AQ21: 23 | AR21: GIRLS 15/U 100M BUTTERFLY | AS21: =CONCATENATE(AO21, " ",AP21) -> Orla 0 | AU21: ='Team 7'!F50 -> 0 | AV21: ='Team 7'!G50 -> 0 | AW21: 23 | AX21: GIRLS 15/U 100M BUTTERFLY | AY21: =CONCATENATE(AU21, " ",AV21) -> 0 0 | BA21: ='Team 8'!F50 -> 0 | BB21: ='Team 8'!G50 -> 0 | BC21: 23 | BD21: GIRLS 15/U 100M BUTTERFLY | BE21: =CONCATENATE(BA21, " ",BB21) -> 0 0 | BG21: ='Team 9'!F50 -> 0 | BH21: ='Team 9'!G50 -> 0 | BI21: 23 | BJ21: GIRLS 15/U 100M BUTTERFLY | BK21: =CONCATENATE(BG21, " ",BH21) -> 0 0 | BM21: ='Team 10'!F50 -> 0 | BN21: ='Team 10'!G50 -> 0 | BO21: 23 | BP21: GIRLS 15/U 100M BUTTERFLY | BQ21: =CONCATENATE(BM21, " ",BN21) -> 0 0
K22: 24 | L22: BOYS 15/U 100M BUTTERFLY | M22: ='Team 1'!F51 -> Ben | N22: ='Team 1'!G51 -> 0 | O22: =CONCATENATE(M22, " ",N22) -> Ben 0 | Q22: ='Team 2'!F51 -> Patrick | R22: ='Team 2'!G51 -> 0 | S22: 24 | T22: BOYS 15/U 100M BUTTERFLY | U22: =CONCATENATE(Q22, " ",R22) -> Patrick 0 | W22: ='Team 3'!F51 -> Connor | X22: ='Team 3'!G51 -> 0 | Y22: 24 | Z22: BOYS 15/U 100M BUTTERFLY | AA22: =CONCATENATE(W22, " ",X22) -> Connor 0 | AC22: ='Team 4'!F51 -> Tyler | AD22: ='Team 4'!G51 -> 0 | AE22: 24 | AF22: BOYS 15/U 100M BUTTERFLY | AG22: =CONCATENATE(AC22, " ",AD22) -> Tyler 0 | AI22: ='Team 5'!F51 -> Andrew | AJ22: ='Team 5'!G51 -> 0 | AK22: 24 | AL22: BOYS 15/U 100M BUTTERFLY | AM22: =CONCATENATE(AI22, " ",AJ22) -> Andrew 0 | AO22: ='Team 6'!F51 -> Thomas | AP22: ='Team 6'!G51 -> 0 | AQ22: 24 | AR22: BOYS 15/U 100M BUTTERFLY | AS22: =CONCATENATE(AO22, " ",AP22) -> Thomas 0 | AU22: ='Team 7'!F51 -> 0 | AV22: ='Team 7'!G51 -> 0 | AW22: 24 | AX22: BOYS 15/U 100M BUTTERFLY | AY22: =CONCATENATE(AU22, " ",AV22) -> 0 0 | BA22: ='Team 8'!F51 -> 0 | BB22: ='Team 8'!G51 -> 0 | BC22: 24 | BD22: BOYS 15/U 100M BUTTERFLY | BE22: =CONCATENATE(BA22, " ",BB22) -> 0 0 | BG22: ='Team 9'!F51 -> 0 | BH22: ='Team 9'!G51 -> 0 | BI22: 24 | BJ22: BOYS 15/U 100M BUTTERFLY | BK22: =CONCATENATE(BG22, " ",BH22) -> 0 0 | BM22: ='Team 10'!F51 -> 0 | BN22: ='Team 10'!G51 -> 0 | BO22: 24 | BP22: BOYS 15/U 100M BUTTERFLY | BQ22: =CONCATENATE(BM22, " ",BN22) -> 0 0
K23: 25 | L23: LADIES OPEN 100M BACKSTROKE | M23: ='Team 1'!F52 -> India | N23: ='Team 1'!G52 -> 0 | O23: =CONCATENATE(M23, " ",N23) -> India 0 | Q23: ='Team 2'!F52 -> Ella | R23: ='Team 2'!G52 -> 0 | S23: 25 | T23: LADIES OPEN 100M BACKSTROKE | U23: =CONCATENATE(Q23, " ",R23) -> Ella 0 | W23: ='Team 3'!F52 -> Mollie | X23: ='Team 3'!G52 -> 0 | Y23: 25 | Z23: LADIES OPEN 100M BACKSTROKE | AA23: =CONCATENATE(W23, " ",X23) -> Mollie 0 | AC23: ='Team 4'!F52 -> Grace | AD23: ='Team 4'!G52 -> 0 | AE23: 25 | AF23: LADIES OPEN 100M BACKSTROKE | AG23: =CONCATENATE(AC23, " ",AD23) -> Grace 0 | AI23: ='Team 5'!F52 -> Jessica | AJ23: ='Team 5'!G52 -> 0 | AK23: 25 | AL23: LADIES OPEN 100M BACKSTROKE | AM23: =CONCATENATE(AI23, " ",AJ23) -> Jessica 0 | AO23: ='Team 6'!F52 -> Emma | AP23: ='Team 6'!G52 -> 0 | AQ23: 25 | AR23: LADIES OPEN 100M BACKSTROKE | AS23: =CONCATENATE(AO23, " ",AP23) -> Emma 0 | AU23: ='Team 7'!F52 -> 0 | AV23: ='Team 7'!G52 -> 0 | AW23: 25 | AX23: LADIES OPEN 100M BACKSTROKE | AY23: =CONCATENATE(AU23, " ",AV23) -> 0 0 | BA23: ='Team 8'!F52 -> 0 | BB23: ='Team 8'!G52 -> 0 | BC23: 25 | BD23: LADIES OPEN 100M BACKSTROKE | BE23: =CONCATENATE(BA23, " ",BB23) -> 0 0 | BG23: ='Team 9'!F52 -> 0 | BH23: ='Team 9'!G52 -> 0 | BI23: 25 | BJ23: LADIES OPEN 100M BACKSTROKE | BK23: =CONCATENATE(BG23, " ",BH23) -> 0 0 | BM23: ='Team 10'!F52 -> 0 | BN23: ='Team 10'!G52 -> 0 | BO23: 25 | BP23: LADIES OPEN 100M BACKSTROKE | BQ23: =CONCATENATE(BM23, " ",BN23) -> 0 0
K24: 26 | L24: MENS OPEN 100M BACKSTROKE | M24: ='Team 1'!F53 -> Tom | N24: ='Team 1'!G53 -> 0 | O24: =CONCATENATE(M24, " ",N24) -> Tom 0 | Q24: ='Team 2'!F53 -> Samuel | R24: ='Team 2'!G53 -> 0 | S24: 26 | T24: MENS OPEN 100M BACKSTROKE | U24: =CONCATENATE(Q24, " ",R24) -> Samuel 0 | W24: ='Team 3'!F53 -> Jamie | X24: ='Team 3'!G53 -> 0 | Y24: 26 | Z24: MENS OPEN 100M BACKSTROKE | AA24: =CONCATENATE(W24, " ",X24) -> Jamie 0 | AC24: ='Team 4'!F53 -> Marcus | AD24: ='Team 4'!G53 -> 0 | AE24: 26 | AF24: MENS OPEN 100M BACKSTROKE | AG24: =CONCATENATE(AC24, " ",AD24) -> Marcus 0 | AI24: ='Team 5'!F53 -> Christopher | AJ24: ='Team 5'!G53 -> 0 | AK24: 26 | AL24: MENS OPEN 100M BACKSTROKE | AM24: =CONCATENATE(AI24, " ",AJ24) -> Christopher 0 | AO24: ='Team 6'!F53 -> Jack | AP24: ='Team 6'!G53 -> 0 | AQ24: 26 | AR24: MENS OPEN 100M BACKSTROKE | AS24: =CONCATENATE(AO24, " ",AP24) -> Jack 0 | AU24: ='Team 7'!F53 -> 0 | AV24: ='Team 7'!G53 -> 0 | AW24: 26 | AX24: MENS OPEN 100M BACKSTROKE | AY24: =CONCATENATE(AU24, " ",AV24) -> 0 0 | BA24: ='Team 8'!F53 -> 0 | BB24: ='Team 8'!G53 -> 0 | BC24: 26 | BD24: MENS OPEN 100M BACKSTROKE | BE24: =CONCATENATE(BA24, " ",BB24) -> 0 0 | BG24: ='Team 9'!F53 -> 0 | BH24: ='Team 9'!G53 -> 0 | BI24: 26 | BJ24: MENS OPEN 100M BACKSTROKE | BK24: =CONCATENATE(BG24, " ",BH24) -> 0 0 | BM24: ='Team 10'!F53 -> 0 | BN24: ='Team 10'!G53 -> 0 | BO24: 26 | BP24: MENS OPEN 100M BACKSTROKE | BQ24: =CONCATENATE(BM24, " ",BN24) -> 0 0
K25: 27 | L25: GIRLS 10/11 50M BREASTSTROKE | M25: ='Team 1'!F54 -> Ellie Rose | N25: ='Team 1'!G54 -> 0 | O25: =CONCATENATE(M25, " ",N25) -> Ellie Rose 0 | Q25: ='Team 2'!F54 -> Sophie | R25: ='Team 2'!G54 -> 0 | S25: 27 | T25: GIRLS 10/11 50M BREASTSTROKE | U25: =CONCATENATE(Q25, " ",R25) -> Sophie 0 | W25: ='Team 3'!F54 -> Charlotte | X25: ='Team 3'!G54 -> 0 | Y25: 27 | Z25: GIRLS 10/11 50M BREASTSTROKE | AA25: =CONCATENATE(W25, " ",X25) -> Charlotte 0 | AC25: ='Team 4'!F54 -> Danielle | AD25: ='Team 4'!G54 -> 0 | AE25: 27 | AF25: GIRLS 10/11 50M BREASTSTROKE | AG25: =CONCATENATE(AC25, " ",AD25) -> Danielle 0 | AI25: ='Team 5'!F54 -> Amy | AJ25: ='Team 5'!G54 -> 0 | AK25: 27 | AL25: GIRLS 10/11 50M BREASTSTROKE | AM25: =CONCATENATE(AI25, " ",AJ25) -> Amy 0 | AO25: ='Team 6'!F54 -> Fleur | AP25: ='Team 6'!G54 -> 0 | AQ25: 27 | AR25: GIRLS 10/11 50M BREASTSTROKE | AS25: =CONCATENATE(AO25, " ",AP25) -> Fleur 0 | AU25: ='Team 7'!F54 -> 0 | AV25: ='Team 7'!G54 -> 0 | AW25: 27 | AX25: GIRLS 10/11 50M BREASTSTROKE | AY25: =CONCATENATE(AU25, " ",AV25) -> 0 0 | BA25: ='Team 8'!F54 -> 0 | BB25: ='Team 8'!G54 -> 0 | BC25: 27 | BD25: GIRLS 10/11 50M BREASTSTROKE | BE25: =CONCATENATE(BA25, " ",BB25) -> 0 0 | BG25: ='Team 9'!F54 -> 0 | BH25: ='Team 9'!G54 -> 0 | BI25: 27 | BJ25: GIRLS 10/11 50M BREASTSTROKE | BK25: =CONCATENATE(BG25, " ",BH25) -> 0 0 | BM25: ='Team 10'!F54 -> 0 | BN25: ='Team 10'!G54 -> 0 | BO25: 27 | BP25: GIRLS 10/11 50M BREASTSTROKE | BQ25: =CONCATENATE(BM25, " ",BN25) -> 0 0
K26: 28 | L26: BOYS 10/11 50M BREASTSTROKE | M26: ='Team 1'!F55 -> Juneau | N26: ='Team 1'!G55 -> 0 | O26: =CONCATENATE(M26, " ",N26) -> Juneau 0 | Q26: ='Team 2'!F55 -> Jasper | R26: ='Team 2'!G55 -> 0 | S26: 28 | T26: BOYS 10/11 50M BREASTSTROKE | U26: =CONCATENATE(Q26, " ",R26) -> Jasper 0 | W26: ='Team 3'!F55 -> Isaac | X26: ='Team 3'!G55 -> 0 | Y26: 28 | Z26: BOYS 10/11 50M BREASTSTROKE | AA26: =CONCATENATE(W26, " ",X26) -> Isaac 0 | AC26: ='Team 4'!F55 -> Benjamin | AD26: ='Team 4'!G55 -> 0 | AE26: 28 | AF26: BOYS 10/11 50M BREASTSTROKE | AG26: =CONCATENATE(AC26, " ",AD26) -> Benjamin 0 | AI26: ='Team 5'!F55 -> George | AJ26: ='Team 5'!G55 -> 0 | AK26: 28 | AL26: BOYS 10/11 50M BREASTSTROKE | AM26: =CONCATENATE(AI26, " ",AJ26) -> George 0 | AO26: ='Team 6'!F55 -> Harvey | AP26: ='Team 6'!G55 -> 0 | AQ26: 28 | AR26: BOYS 10/11 50M BREASTSTROKE | AS26: =CONCATENATE(AO26, " ",AP26) -> Harvey 0 | AU26: ='Team 7'!F55 -> 0 | AV26: ='Team 7'!G55 -> 0 | AW26: 28 | AX26: BOYS 10/11 50M BREASTSTROKE | AY26: =CONCATENATE(AU26, " ",AV26) -> 0 0 | BA26: ='Team 8'!F55 -> 0 | BB26: ='Team 8'!G55 -> 0 | BC26: 28 | BD26: BOYS 10/11 50M BREASTSTROKE | BE26: =CONCATENATE(BA26, " ",BB26) -> 0 0 | BG26: ='Team 9'!F55 -> 0 | BH26: ='Team 9'!G55 -> 0 | BI26: 28 | BJ26: BOYS 10/11 50M BREASTSTROKE | BK26: =CONCATENATE(BG26, " ",BH26) -> 0 0 | BM26: ='Team 10'!F55 -> 0 | BN26: ='Team 10'!G55 -> 0 | BO26: 28 | BP26: BOYS 10/11 50M BREASTSTROKE | BQ26: =CONCATENATE(BM26, " ",BN26) -> 0 0
K27: 29 | L27: GIRLS 13/U 100M BUTTERFLY | M27: ='Team 1'!F56 -> Lorne | N27: ='Team 1'!G56 -> 0 | O27: =CONCATENATE(M27, " ",N27) -> Lorne 0 | Q27: ='Team 2'!F56 -> Emmie | R27: ='Team 2'!G56 -> 0 | S27: 29 | T27: GIRLS 13/U 100M BUTTERFLY | U27: =CONCATENATE(Q27, " ",R27) -> Emmie 0 | W27: ='Team 3'!F56 -> Jess | X27: ='Team 3'!G56 -> 0 | Y27: 29 | Z27: GIRLS 13/U 100M BUTTERFLY | AA27: =CONCATENATE(W27, " ",X27) -> Jess 0 | AC27: ='Team 4'!F56 -> Sophie | AD27: ='Team 4'!G56 -> 0 | AE27: 29 | AF27: GIRLS 13/U 100M BUTTERFLY | AG27: =CONCATENATE(AC27, " ",AD27) -> Sophie 0 | AI27: ='Team 5'!F56 -> Rose | AJ27: ='Team 5'!G56 -> 0 | AK27: 29 | AL27: GIRLS 13/U 100M BUTTERFLY | AM27: =CONCATENATE(AI27, " ",AJ27) -> Rose 0 | AO27: ='Team 6'!F56 -> Lucy | AP27: ='Team 6'!G56 -> 0 | AQ27: 29 | AR27: GIRLS 13/U 100M BUTTERFLY | AS27: =CONCATENATE(AO27, " ",AP27) -> Lucy 0 | AU27: ='Team 7'!F56 -> 0 | AV27: ='Team 7'!G56 -> 0 | AW27: 29 | AX27: GIRLS 13/U 100M BUTTERFLY | AY27: =CONCATENATE(AU27, " ",AV27) -> 0 0 | BA27: ='Team 8'!F56 -> 0 | BB27: ='Team 8'!G56 -> 0 | BC27: 29 | BD27: GIRLS 13/U 100M BUTTERFLY | BE27: =CONCATENATE(BA27, " ",BB27) -> 0 0 | BG27: ='Team 9'!F56 -> 0 | BH27: ='Team 9'!G56 -> 0 | BI27: 29 | BJ27: GIRLS 13/U 100M BUTTERFLY | BK27: =CONCATENATE(BG27, " ",BH27) -> 0 0 | BM27: ='Team 10'!F56 -> 0 | BN27: ='Team 10'!G56 -> 0 | BO27: 29 | BP27: GIRLS 13/U 100M BUTTERFLY | BQ27: =CONCATENATE(BM27, " ",BN27) -> 0 0
... K40: 42 | L40: MENS OPEN 100M FREESTYLE | M40: ='Team 1'!F69 -> Bradley | N40: ='Team 1'!G69 -> 0 | O40: =CONCATENATE(M40, " ",N40) -> Bradley 0 | Q40: ='Team 2'!F69 -> Liam | R40: ='Team 2'!G69 -> 0 | S40: 42 | T40: MENS OPEN 100M FREESTYLE | U40: =CONCATENATE(Q40, " ",R40) -> Liam 0 | W40: ='Team 3'!F69 -> Myles | X40: ='Team 3'!G69 -> 0 | Y40: 42 | Z40: MENS OPEN 100M FREESTYLE | AA40: =CONCATENATE(W40, " ",X40) -> Myles 0 | AC40: ='Team 4'!F69 -> Max | AD40: ='Team 4'!G69 -> 0 | AE40: 42 | AF40: MENS OPEN 100M FREESTYLE | AG40: =CONCATENATE(AC40, " ",AD40) -> Max 0 | AI40: ='Team 5'!F69 -> Kris | AJ40: ='Team 5'!G69 -> 0 | AK40: 42 | AL40: MENS OPEN 100M FREESTYLE | AM40: =CONCATENATE(AI40, " ",AJ40) -> Kris 0 | AO40: ='Team 6'!F69 -> Joshua | AP40: ='Team 6'!G69 -> 0 | AQ40: 42 | AR40: MENS OPEN 100M FREESTYLE | AS40: =CONCATENATE(AO40, " ",AP40) -> Joshua 0 | AU40: ='Team 7'!F69 -> 0 | AV40: ='Team 7'!G69 -> 0 | AW40: 42 | AX40: MENS OPEN 100M FREESTYLE | AY40: =CONCATENATE(AU40, " ",AV40) -> 0 0 | BA40: ='Team 8'!F69 -> 0 | BB40: ='Team 8'!G69 -> 0 | BC40: 42 | BD40: MENS OPEN 100M FREESTYLE | BE40: =CONCATENATE(BA40, " ",BB40) -> 0 0 | BG40: ='Team 9'!F69 -> 0 | BH40: ='Team 9'!G69 -> 0 | BI40: 42 | BJ40: MENS OPEN 100M FREESTYLE | BK40: =CONCATENATE(BG40, " ",BH40) -> 0 0 | BM40: ='Team 10'!F69 -> 0 | BN40: ='Team 10'!G69 -> 0 | BO40: 42 | BP40: MENS OPEN 100M FREESTYLE | BQ40: =CONCATENATE(BM40, " ",BN40) -> 0 0
K41: RELAY EVENTS | S41: RELAY EVENTS | Y41: RELAY EVENTS | AE41: RELAY EVENTS | AK41: RELAY EVENTS | AQ41: RELAY EVENTS | AW41: RELAY EVENTS | BC41: RELAY EVENTS | BI41: RELAY EVENTS | BO41: RELAY EVENTS
K42: Relay events are shown separately as they are not licensed events. Arena league rules do not require the teams to swim in the declared order. This is a times check and comments sheet only. | S42: Relay events are shown separately as they are not licensed events. Arena league rules do not require the teams to swim in a declared order. This is a times check and comments sheet only. | Y42: Relay events are shown separately as they are not licensed events. Arena league rules do not require the teams to swim in a declared order. This is a times check and comments sheet only. | AE42: Relay events are shown separately as they are not licensed events. Arena league rules do not require the teams to swim in a declared order. This is a times check and comments sheet only. | AK42: Relay events are shown separately as they are not licensed events. Arena league rules do not require the teams to swim in a declared order. This is a times check and comments sheet only. | AQ42: Relay events are shown separately as they are not licensed events. Arena league rules do not require the teams to swim in a declared order. This is a times check and comments sheet only. | AW42: Relay events are shown separately as they are not licensed events. Arena league rules do not require the teams to swim in a declared order. This is a times check and comments sheet only. | BC42: Relay events are shown separately as they are not licensed events. Arena league rules do not require the teams to swim in a declared order. This is a times check and comments sheet only. | BI42: Relay events are shown separately as they are not licensed events. Arena league rules do not require the teams to swim in a declared order. This is a times check and comments sheet only. | BO42: Relay events are shown separately as they are not licensed events. Arena league rules do not require the teams to swim in a declared order. This is a times check and comments sheet only.
K43: 3 | L43: Girls 9/11 4 x 50m Free | O43: =CONCATENATE('Team 1'!$F6, " ",'Team 1'!$G6) -> Charlotte | P43: =CONCATENATE('Team 1'!$F7, " ",'Team 1'!$G7) -> Isla | S43: 3 | T43: Girls 9/11 4 x 50m Free | U43: =CONCATENATE('Team 2'!$F6, " ",'Team 2'!$G6) -> Elyse | V43: =CONCATENATE('Team 2'!$F7, " ",'Team 2'!$G7) -> Milly | W43: =CONCATENATE('Team 1'!$F6, " ",'Team 1'!$G6) -> Charlotte | X43: =CONCATENATE('Team 1'!$F7, " ",'Team 1'!$G7) -> Isla | Y43: 3 | Z43: Girls 9/11 4 x 50m Free | AA43: =CONCATENATE('Team 3'!$F6, " ",'Team 3'!$G6) -> Lily | AB43: =CONCATENATE('Team 3'!$F7, " ",'Team 3'!$G7) -> Charlotte | AC43: =CONCATENATE('Team 1'!$F6, " ",'Team 1'!$G6) -> Charlotte | AD43: =CONCATENATE('Team 1'!$F7, " ",'Team 1'!$G7) -> Isla | AE43: 3 | AF43: Girls 9/11 4 x 50m Free | AG43: =CONCATENATE('Team 4'!$F6, " ",'Team 4'!$G6) -> Emma | AH43: =CONCATENATE('Team 4'!$F7, " ",'Team 4'!$G7) -> Danielle | AI43: =CONCATENATE('Team 1'!$F6, " ",'Team 1'!$G6) -> Charlotte | AJ43: =CONCATENATE('Team 1'!$F7, " ",'Team 1'!$G7) -> Isla | AK43: 3 | AL43: Girls 9/11 4 x 50m Free | AM43: =CONCATENATE('Team 5'!$F6, " ",'Team 5'!$G6) -> Evie | AN43: =CONCATENATE('Team 5'!$F7, " ",'Team 5'!$G7) -> Amy | AO43: =CONCATENATE('Team 1'!$F6, " ",'Team 1'!$G6) -> Charlotte | AP43: =CONCATENATE('Team 1'!$F7, " ",'Team 1'!$G7) -> Isla | AQ43: 3 | AR43: Girls 9/11 4 x 50m Free | AS43: =CONCATENATE('Team 6'!$F6, " ",'Team 6'!$G6) -> Fleur | AT43: =CONCATENATE('Team 6'!$F7, " ",'Team 6'!$G7) -> Eleanor | AU43: =CONCATENATE('Team 1'!$F6, " ",'Team 1'!$G6) -> Charlotte | AV43: =CONCATENATE('Team 1'!$F7, " ",'Team 1'!$G7) -> Isla | AW43: 3 | AX43: Girls 9/11 4 x 50m Free | AY43: =CONCATENATE('Team 7'!$F6, " ",'Team 7'!$G6) | AZ43: =CONCATENATE('Team 7'!$F7, " ",'Team 7'!$G7) | BA43: =CONCATENATE('Team 1'!$F6, " ",'Team 1'!$G6) -> Charlotte | BB43: =CONCATENATE('Team 1'!$F7, " ",'Team 1'!$G7) -> Isla | BC43: 3 | BD43: Girls 9/11 4 x 50m Free | BE43: =CONCATENATE('Team 8'!$F6, " ",'Team 8'!$G6) | BF43: =CONCATENATE('Team 8'!$F7, " ",'Team 8'!$G7) | BG43: =CONCATENATE('Team 1'!$F6, " ",'Team 1'!$G6) -> Charlotte | BH43: =CONCATENATE('Team 1'!$F7, " ",'Team 1'!$G7) -> Isla | BI43: 3 | BJ43: Girls 9/11 4 x 50m Free | BK43: =CONCATENATE('Team 9'!$F6, " ",'Team 9'!$G6) | BL43: =CONCATENATE('Team 9'!$F7, " ",'Team 9'!$G7) | BM43: =CONCATENATE('Team 1'!$F6, " ",'Team 1'!$G6) -> Charlotte | BN43: =CONCATENATE('Team 1'!$F7, " ",'Team 1'!$G7) -> Isla | BO43: 3 | BP43: Girls 9/11 4 x 50m Free | BQ43: =CONCATENATE('Team 10'!$F6, " ",'Team 10'!$G6) | BR43: =CONCATENATE('Team 10'!$F7, " ",'Team 10'!$G7) | BS43: =CONCATENATE('Team 1'!$F6, " ",'Team 1'!$G6) -> Charlotte | BT43: =CONCATENATE('Team 1'!$F7, " ",'Team 1'!$G7) -> Isla
O44: =CONCATENATE('Team 1'!$F8, " ",'Team 1'!$G8) -> Ellie Rose | P44: =CONCATENATE('Team 1'!$F9, " ",'Team 1'!$G9) -> Sienna | U44: =CONCATENATE('Team 2'!$F8, " ",'Team 2'!$G8) -> Olivia | V44: =CONCATENATE('Team 2'!$F9, " ",'Team 2'!$G9) -> Sophie | W44: =CONCATENATE('Team 1'!$F8, " ",'Team 1'!$G8) -> Ellie Rose | X44: =CONCATENATE('Team 1'!$F9, " ",'Team 1'!$G9) -> Sienna | AA44: =CONCATENATE('Team 3'!$F8, " ",'Team 3'!$G8) -> Megan | AB44: =CONCATENATE('Team 3'!$F9, " ",'Team 3'!$G9) -> Leah | AC44: =CONCATENATE('Team 1'!$F8, " ",'Team 1'!$G8) -> Ellie Rose | AD44: =CONCATENATE('Team 1'!$F9, " ",'Team 1'!$G9) -> Sienna | AG44: =CONCATENATE('Team 4'!$F8, " ",'Team 4'!$G8) -> Despoina | AH44: =CONCATENATE('Team 4'!$F9, " ",'Team 4'!$G9) -> Grace | AI44: =CONCATENATE('Team 1'!$F8, " ",'Team 1'!$G8) -> Ellie Rose | AJ44: =CONCATENATE('Team 1'!$F9, " ",'Team 1'!$G9) -> Sienna | AM44: =CONCATENATE('Team 5'!$F8, " ",'Team 5'!$G8) -> Emma | AN44: =CONCATENATE('Team 5'!$F9, " ",'Team 5'!$G9) -> Marissa | AO44: =CONCATENATE('Team 1'!$F8, " ",'Team 1'!$G8) -> Ellie Rose | AP44: =CONCATENATE('Team 1'!$F9, " ",'Team 1'!$G9) -> Sienna | AS44: =CONCATENATE('Team 6'!$F8, " ",'Team 6'!$G8) -> Amelie | AT44: =CONCATENATE('Team 6'!$F9, " ",'Team 6'!$G9) -> Eloise | AU44: =CONCATENATE('Team 1'!$F8, " ",'Team 1'!$G8) -> Ellie Rose | AV44: =CONCATENATE('Team 1'!$F9, " ",'Team 1'!$G9) -> Sienna | AY44: =CONCATENATE('Team 7'!$F8, " ",'Team 7'!$G8) | AZ44: =CONCATENATE('Team 7'!$F9, " ",'Team 7'!$G9) | BA44: =CONCATENATE('Team 1'!$F8, " ",'Team 1'!$G8) -> Ellie Rose | BB44: =CONCATENATE('Team 1'!$F9, " ",'Team 1'!$G9) -> Sienna | BE44: =CONCATENATE('Team 8'!$F8, " ",'Team 8'!$G8) | BF44: =CONCATENATE('Team 8'!$F9, " ",'Team 8'!$G9) | BG44: =CONCATENATE('Team 1'!$F8, " ",'Team 1'!$G8) -> Ellie Rose | BH44: =CONCATENATE('Team 1'!$F9, " ",'Team 1'!$G9) -> Sienna | BK44: =CONCATENATE('Team 9'!$F8, " ",'Team 9'!$G8) | BL44: =CONCATENATE('Team 9'!$F9, " ",'Team 9'!$G9) | BM44: =CONCATENATE('Team 1'!$F8, " ",'Team 1'!$G8) -> Ellie Rose | BN44: =CONCATENATE('Team 1'!$F9, " ",'Team 1'!$G9) -> Sienna | BQ44: =CONCATENATE('Team 10'!$F8, " ",'Team 10'!$G8) | BR44: =CONCATENATE('Team 10'!$F9, " ",'Team 10'!$G9) | BS44: =CONCATENATE('Team 1'!$F8, " ",'Team 1'!$G8) -> Ellie Rose | BT44: =CONCATENATE('Team 1'!$F9, " ",'Team 1'!$G9) -> Sienna
K45: 4 | L45: Boys 9/11 4 x 50m Free | O45: =CONCATENATE('Team 1'!$F10, " ",'Team 1'!$G10) -> Finlay | P45: =CONCATENATE('Team 1'!$F11, " ",'Team 1'!$G11) -> James | S45: 4 | T45: Boys 9/11 4 x 50m Free | U45: =CONCATENATE('Team 2'!$F10, " ",'Team 2'!$G10) -> Aston | V45: =CONCATENATE('Team 2'!$F11, " ",'Team 2'!$G11) -> Jasper | W45: =CONCATENATE('Team 1'!$F10, " ",'Team 1'!$G10) -> Finlay | X45: =CONCATENATE('Team 1'!$F11, " ",'Team 1'!$G11) -> James | Y45: 4 | Z45: Boys 9/11 4 x 50m Free | AA45: =CONCATENATE('Team 3'!$F10, " ",'Team 3'!$G10) -> Mark | AB45: =CONCATENATE('Team 3'!$F11, " ",'Team 3'!$G11) -> Isaac | AC45: =CONCATENATE('Team 1'!$F10, " ",'Team 1'!$G10) -> Finlay | AD45: =CONCATENATE('Team 1'!$F11, " ",'Team 1'!$G11) -> James | AE45: 4 | AF45: Boys 9/11 4 x 50m Free | AG45: =CONCATENATE('Team 4'!$F10, " ",'Team 4'!$G10) -> Benjamin | AH45: =CONCATENATE('Team 4'!$F11, " ",'Team 4'!$G11) -> Michael | AI45: =CONCATENATE('Team 1'!$F10, " ",'Team 1'!$G10) -> Finlay | AJ45: =CONCATENATE('Team 1'!$F11, " ",'Team 1'!$G11) -> James | AK45: 4 | AL45: Boys 9/11 4 x 50m Free | AM45: =CONCATENATE('Team 5'!$F10, " ",'Team 5'!$G10) -> Oliver | AN45: =CONCATENATE('Team 5'!$F11, " ",'Team 5'!$G11) -> George | AO45: =CONCATENATE('Team 1'!$F10, " ",'Team 1'!$G10) -> Finlay | AP45: =CONCATENATE('Team 1'!$F11, " ",'Team 1'!$G11) -> James | AQ45: 4 | AR45: Boys 9/11 4 x 50m Free | AS45: =CONCATENATE('Team 6'!$F10, " ",'Team 6'!$G10) -> Harvey | AT45: =CONCATENATE('Team 6'!$F11, " ",'Team 6'!$G11) -> Adam | AU45: =CONCATENATE('Team 1'!$F10, " ",'Team 1'!$G10) -> Finlay | AV45: =CONCATENATE('Team 1'!$F11, " ",'Team 1'!$G11) -> James | AW45: 4 | AX45: Boys 9/11 4 x 50m Free | AY45: =CONCATENATE('Team 7'!$F10, " ",'Team 7'!$G10) | AZ45: =CONCATENATE('Team 7'!$F11, " ",'Team 7'!$G11) | BA45: =CONCATENATE('Team 1'!$F10, " ",'Team 1'!$G10) -> Finlay | BB45: =CONCATENATE('Team 1'!$F11, " ",'Team 1'!$G11) -> James | BC45: 4 | BD45: Boys 9/11 4 x 50m Free | BE45: =CONCATENATE('Team 8'!$F10, " ",'Team 8'!$G10) | BF45: =CONCATENATE('Team 8'!$F11, " ",'Team 8'!$G11) | BG45: =CONCATENATE('Team 1'!$F10, " ",'Team 1'!$G10) -> Finlay | BH45: =CONCATENATE('Team 1'!$F11, " ",'Team 1'!$G11) -> James | BI45: 4 | BJ45: Boys 9/11 4 x 50m Free | BK45: =CONCATENATE('Team 9'!$F10, " ",'Team 9'!$G10) | BL45: =CONCATENATE('Team 9'!$F11, " ",'Team 9'!$G11) | BM45: =CONCATENATE('Team 1'!$F10, " ",'Team 1'!$G10) -> Finlay | BN45: =CONCATENATE('Team 1'!$F11, " ",'Team 1'!$G11) -> James | BO45: 4 | BP45: Boys 9/11 4 x 50m Free | BQ45: =CONCATENATE('Team 10'!$F10, " ",'Team 10'!$G10) | BR45: =CONCATENATE('Team 10'!$F11, " ",'Team 10'!$G11) | BS45: =CONCATENATE('Team 1'!$F10, " ",'Team 1'!$G10) -> Finlay | BT45: =CONCATENATE('Team 1'!$F11, " ",'Team 1'!$G11) -> James
O46: =CONCATENATE('Team 1'!$F12, " ",'Team 1'!$G12) -> Miller | P46: =CONCATENATE('Team 1'!$F13, " ",'Team 1'!$G13) -> Austin | U46: =CONCATENATE('Team 2'!$F12, " ",'Team 2'!$G12) -> Max | V46: =CONCATENATE('Team 2'!$F13, " ",'Team 2'!$G13) -> Maximillan | W46: =CONCATENATE('Team 1'!$F12, " ",'Team 1'!$G12) -> Miller | X46: =CONCATENATE('Team 1'!$F13, " ",'Team 1'!$G13) -> Austin | AA46: =CONCATENATE('Team 3'!$F12, " ",'Team 3'!$G12) -> Jack | AB46: =CONCATENATE('Team 3'!$F13, " ",'Team 3'!$G13) -> Orlando | AC46: =CONCATENATE('Team 1'!$F12, " ",'Team 1'!$G12) -> Miller | AD46: =CONCATENATE('Team 1'!$F13, " ",'Team 1'!$G13) -> Austin | AG46: =CONCATENATE('Team 4'!$F12, " ",'Team 4'!$G12) -> Harry | AH46: =CONCATENATE('Team 4'!$F13, " ",'Team 4'!$G13) -> Jonathan | AI46: =CONCATENATE('Team 1'!$F12, " ",'Team 1'!$G12) -> Miller | AJ46: =CONCATENATE('Team 1'!$F13, " ",'Team 1'!$G13) -> Austin | AM46: =CONCATENATE('Team 5'!$F12, " ",'Team 5'!$G12) -> Findley | AN46: =CONCATENATE('Team 5'!$F13, " ",'Team 5'!$G13) -> Charlie | AO46: =CONCATENATE('Team 1'!$F12, " ",'Team 1'!$G12) -> Miller | AP46: =CONCATENATE('Team 1'!$F13, " ",'Team 1'!$G13) -> Austin | AS46: =CONCATENATE('Team 6'!$F12, " ",'Team 6'!$G12) -> Euan | AT46: =CONCATENATE('Team 6'!$F13, " ",'Team 6'!$G13) -> Daniel | AU46: =CONCATENATE('Team 1'!$F12, " ",'Team 1'!$G12) -> Miller | AV46: =CONCATENATE('Team 1'!$F13, " ",'Team 1'!$G13) -> Austin | AY46: =CONCATENATE('Team 7'!$F12, " ",'Team 7'!$G12) | AZ46: =CONCATENATE('Team 7'!$F13, " ",'Team 7'!$G13) | BA46: =CONCATENATE('Team 1'!$F12, " ",'Team 1'!$G12) -> Miller | BB46: =CONCATENATE('Team 1'!$F13, " ",'Team 1'!$G13) -> Austin | BE46: =CONCATENATE('Team 8'!$F12, " ",'Team 8'!$G12) | BF46: =CONCATENATE('Team 8'!$F13, " ",'Team 8'!$G13) | BG46: =CONCATENATE('Team 1'!$F12, " ",'Team 1'!$G12) -> Miller | BH46: =CONCATENATE('Team 1'!$F13, " ",'Team 1'!$G13) -> Austin | BK46: =CONCATENATE('Team 9'!$F12, " ",'Team 9'!$G12) | BL46: =CONCATENATE('Team 9'!$F13, " ",'Team 9'!$G13) | BM46: =CONCATENATE('Team 1'!$F12, " ",'Team 1'!$G12) -> Miller | BN46: =CONCATENATE('Team 1'!$F13, " ",'Team 1'!$G13) -> Austin | BQ46: =CONCATENATE('Team 10'!$F12, " ",'Team 10'!$G12) | BR46: =CONCATENATE('Team 10'!$F13, " ",'Team 10'!$G13) | BS46: =CONCATENATE('Team 1'!$F12, " ",'Team 1'!$G12) -> Miller | BT46: =CONCATENATE('Team 1'!$F13, " ",'Team 1'!$G13) -> Austin
K47: 5 | L47: Girls 13/U 4 x 50m Medley | O47: =CONCATENATE('Team 1'!$F14, " ",'Team 1'!$G14) -> Faith | P47: =CONCATENATE('Team 1'!$F15, " ",'Team 1'!$G15) -> Sophie | S47: 5 | T47: Girls 13/U 4 x 50m Medley | U47: =CONCATENATE('Team 2'!$F14, " ",'Team 2'!$G14) -> Anna | V47: =CONCATENATE('Team 2'!$F15, " ",'Team 2'!$G15) -> Talia-Jay | W47: =CONCATENATE('Team 1'!$F14, " ",'Team 1'!$G14) -> Faith | X47: =CONCATENATE('Team 1'!$F15, " ",'Team 1'!$G15) -> Sophie | Y47: 5 | Z47: Girls 13/U 4 x 50m Medley | AA47: =CONCATENATE('Team 3'!$F14, " ",'Team 3'!$G14) -> Hannah | AB47: =CONCATENATE('Team 3'!$F15, " ",'Team 3'!$G15) -> Jess | AC47: =CONCATENATE('Team 1'!$F14, " ",'Team 1'!$G14) -> Faith | AD47: =CONCATENATE('Team 1'!$F15, " ",'Team 1'!$G15) -> Sophie | AE47: 5 | AF47: Girls 13/U 4 x 50m Medley | AG47: =CONCATENATE('Team 4'!$F14, " ",'Team 4'!$G14) -> Sophie | AH47: =CONCATENATE('Team 4'!$F15, " ",'Team 4'!$G15) -> Abby | AI47: =CONCATENATE('Team 1'!$F14, " ",'Team 1'!$G14) -> Faith | AJ47: =CONCATENATE('Team 1'!$F15, " ",'Team 1'!$G15) -> Sophie | AK47: 5 | AL47: Girls 13/U 4 x 50m Medley | AM47: =CONCATENATE('Team 5'!$F14, " ",'Team 5'!$G14) -> Jessica | AN47: =CONCATENATE('Team 5'!$F15, " ",'Team 5'!$G15) -> Samantha | AO47: =CONCATENATE('Team 1'!$F14, " ",'Team 1'!$G14) -> Faith | AP47: =CONCATENATE('Team 1'!$F15, " ",'Team 1'!$G15) -> Sophie | AQ47: 5 | AR47: Girls 13/U 4 x 50m Medley | AS47: =CONCATENATE('Team 6'!$F14, " ",'Team 6'!$G14) -> Salma | AT47: =CONCATENATE('Team 6'!$F15, " ",'Team 6'!$G15) -> Jessica | AU47: =CONCATENATE('Team 1'!$F14, " ",'Team 1'!$G14) -> Faith | AV47: =CONCATENATE('Team 1'!$F15, " ",'Team 1'!$G15) -> Sophie | AW47: 5 | AX47: Girls 13/U 4 x 50m Medley | AY47: =CONCATENATE('Team 7'!$F14, " ",'Team 7'!$G14) | AZ47: =CONCATENATE('Team 7'!$F15, " ",'Team 7'!$G15) | BA47: =CONCATENATE('Team 1'!$F14, " ",'Team 1'!$G14) -> Faith | BB47: =CONCATENATE('Team 1'!$F15, " ",'Team 1'!$G15) -> Sophie | BC47: 5 | BD47: Girls 13/U 4 x 50m Medley | BE47: =CONCATENATE('Team 8'!$F14, " ",'Team 8'!$G14) | BF47: =CONCATENATE('Team 8'!$F15, " ",'Team 8'!$G15) | BG47: =CONCATENATE('Team 1'!$F14, " ",'Team 1'!$G14) -> Faith | BH47: =CONCATENATE('Team 1'!$F15, " ",'Team 1'!$G15) -> Sophie | BI47: 5 | BJ47: Girls 13/U 4 x 50m Medley | BK47: =CONCATENATE('Team 9'!$F14, " ",'Team 9'!$G14) | BL47: =CONCATENATE('Team 9'!$F15, " ",'Team 9'!$G15) | BM47: =CONCATENATE('Team 1'!$F14, " ",'Team 1'!$G14) -> Faith | BN47: =CONCATENATE('Team 1'!$F15, " ",'Team 1'!$G15) -> Sophie | BO47: 5 | BP47: Girls 13/U 4 x 50m Medley | BQ47: =CONCATENATE('Team 10'!$F14, " ",'Team 10'!$G14) | BR47: =CONCATENATE('Team 10'!$F15, " ",'Team 10'!$G15) | BS47: =CONCATENATE('Team 1'!$F14, " ",'Team 1'!$G14) -> Faith | BT47: =CONCATENATE('Team 1'!$F15, " ",'Team 1'!$G15) -> Sophie
O48: =CONCATENATE('Team 1'!$F16, " ",'Team 1'!$G16) -> Lorne | P48: =CONCATENATE('Team 1'!$F17, " ",'Team 1'!$G17) -> Lily | U48: =CONCATENATE('Team 2'!$F16, " ",'Team 2'!$G16) -> Emmie | V48: =CONCATENATE('Team 2'!$F17, " ",'Team 2'!$G17) -> Chloe | W48: =CONCATENATE('Team 1'!$F16, " ",'Team 1'!$G16) -> Lorne | X48: =CONCATENATE('Team 1'!$F17, " ",'Team 1'!$G17) -> Lily | AA48: =CONCATENATE('Team 3'!$F16, " ",'Team 3'!$G16) -> Jess | AB48: =CONCATENATE('Team 3'!$F17, " ",'Team 3'!$G17) -> Lily | AC48: =CONCATENATE('Team 1'!$F16, " ",'Team 1'!$G16) -> Lorne | AD48: =CONCATENATE('Team 1'!$F17, " ",'Team 1'!$G17) -> Lily | AG48: =CONCATENATE('Team 4'!$F16, " ",'Team 4'!$G16) -> Holly | AH48: =CONCATENATE('Team 4'!$F17, " ",'Team 4'!$G17) -> Fern | AI48: =CONCATENATE('Team 1'!$F16, " ",'Team 1'!$G16) -> Lorne | AJ48: =CONCATENATE('Team 1'!$F17, " ",'Team 1'!$G17) -> Lily | AM48: =CONCATENATE('Team 5'!$F16, " ",'Team 5'!$G16) -> Rose | AN48: =CONCATENATE('Team 5'!$F17, " ",'Team 5'!$G17) -> Heaven | AO48: =CONCATENATE('Team 1'!$F16, " ",'Team 1'!$G16) -> Lorne | AP48: =CONCATENATE('Team 1'!$F17, " ",'Team 1'!$G17) -> Lily | AS48: =CONCATENATE('Team 6'!$F16, " ",'Team 6'!$G16) -> Louise | AT48: =CONCATENATE('Team 6'!$F17, " ",'Team 6'!$G17) -> Arabella | AU48: =CONCATENATE('Team 1'!$F16, " ",'Team 1'!$G16) -> Lorne | AV48: =CONCATENATE('Team 1'!$F17, " ",'Team 1'!$G17) -> Lily | AY48: =CONCATENATE('Team 7'!$F16, " ",'Team 7'!$G16) | AZ48: =CONCATENATE('Team 7'!$F17, " ",'Team 7'!$G17) | BA48: =CONCATENATE('Team 1'!$F16, " ",'Team 1'!$G16) -> Lorne | BB48: =CONCATENATE('Team 1'!$F17, " ",'Team 1'!$G17) -> Lily | BE48: =CONCATENATE('Team 8'!$F16, " ",'Team 8'!$G16) | BF48: =CONCATENATE('Team 8'!$F17, " ",'Team 8'!$G17) | BG48: =CONCATENATE('Team 1'!$F16, " ",'Team 1'!$G16) -> Lorne | BH48: =CONCATENATE('Team 1'!$F17, " ",'Team 1'!$G17) -> Lily | BK48: =CONCATENATE('Team 9'!$F16, " ",'Team 9'!$G16) | BL48: =CONCATENATE('Team 9'!$F17, " ",'Team 9'!$G17) | BM48: =CONCATENATE('Team 1'!$F16, " ",'Team 1'!$G16) -> Lorne | BN48: =CONCATENATE('Team 1'!$F17, " ",'Team 1'!$G17) -> Lily | BQ48: =CONCATENATE('Team 10'!$F16, " ",'Team 10'!$G16) | BR48: =CONCATENATE('Team 10'!$F17, " ",'Team 10'!$G17) | BS48: =CONCATENATE('Team 1'!$F16, " ",'Team 1'!$G16) -> Lorne | BT48: =CONCATENATE('Team 1'!$F17, " ",'Team 1'!$G17) -> Lily
K49: 6 | L49: Boys 13/U y 4 x 50m Medley | O49: =CONCATENATE('Team 1'!$F18, " ",'Team 1'!$G18) -> Finley | P49: =CONCATENATE('Team 1'!$F19, " ",'Team 1'!$G19) -> Henri | S49: 6 | T49: Boys 13/U y 4 x 50m Medley | U49: =CONCATENATE('Team 2'!$F18, " ",'Team 2'!$G18) -> Matthew | V49: =CONCATENATE('Team 2'!$F19, " ",'Team 2'!$G19) -> Omar | W49: =CONCATENATE('Team 1'!$F18, " ",'Team 1'!$G18) -> Finley | X49: =CONCATENATE('Team 1'!$F19, " ",'Team 1'!$G19) -> Henri | Y49: 6 | Z49: Boys 13/U y 4 x 50m Medley | AA49: =CONCATENATE('Team 3'!$F18, " ",'Team 3'!$G18) -> Josh | AB49: =CONCATENATE('Team 3'!$F19, " ",'Team 3'!$G19) -> Josh | AC49: =CONCATENATE('Team 1'!$F18, " ",'Team 1'!$G18) -> Finley | AD49: =CONCATENATE('Team 1'!$F19, " ",'Team 1'!$G19) -> Henri | AE49: 6 | AF49: Boys 13/U y 4 x 50m Medley | AG49: =CONCATENATE('Team 4'!$F18, " ",'Team 4'!$G18) -> Harry | AH49: =CONCATENATE('Team 4'!$F19, " ",'Team 4'!$G19) -> Leo | AI49: =CONCATENATE('Team 1'!$F18, " ",'Team 1'!$G18) -> Finley | AJ49: =CONCATENATE('Team 1'!$F19, " ",'Team 1'!$G19) -> Henri | AK49: 6 | AL49: Boys 13/U y 4 x 50m Medley | AM49: =CONCATENATE('Team 5'!$F18, " ",'Team 5'!$G18) -> Finley | AN49: =CONCATENATE('Team 5'!$F19, " ",'Team 5'!$G19) -> James | AO49: =CONCATENATE('Team 1'!$F18, " ",'Team 1'!$G18) -> Finley | AP49: =CONCATENATE('Team 1'!$F19, " ",'Team 1'!$G19) -> Henri | AQ49: 6 | AR49: Boys 13/U y 4 x 50m Medley | AS49: =CONCATENATE('Team 6'!$F18, " ",'Team 6'!$G18) -> Oliver | AT49: =CONCATENATE('Team 6'!$F19, " ",'Team 6'!$G19) -> Benjamin | AU49: =CONCATENATE('Team 1'!$F18, " ",'Team 1'!$G18) -> Finley | AV49: =CONCATENATE('Team 1'!$F19, " ",'Team 1'!$G19) -> Henri | AW49: 6 | AX49: Boys 13/U y 4 x 50m Medley | AY49: =CONCATENATE('Team 7'!$F18, " ",'Team 7'!$G18) | AZ49: =CONCATENATE('Team 7'!$F19, " ",'Team 7'!$G19) | BA49: =CONCATENATE('Team 1'!$F18, " ",'Team 1'!$G18) -> Finley | BB49: =CONCATENATE('Team 1'!$F19, " ",'Team 1'!$G19) -> Henri | BC49: 6 | BD49: Boys 13/U y 4 x 50m Medley | BE49: =CONCATENATE('Team 8'!$F18, " ",'Team 8'!$G18) | BF49: =CONCATENATE('Team 8'!$F19, " ",'Team 8'!$G19) | BG49: =CONCATENATE('Team 1'!$F18, " ",'Team 1'!$G18) -> Finley | BH49: =CONCATENATE('Team 1'!$F19, " ",'Team 1'!$G19) -> Henri | BI49: 6 | BJ49: Boys 13/U y 4 x 50m Medley | BK49: =CONCATENATE('Team 9'!$F18, " ",'Team 9'!$G18) | BL49: =CONCATENATE('Team 9'!$F19, " ",'Team 9'!$G19) | BM49: =CONCATENATE('Team 1'!$F18, " ",'Team 1'!$G18) -> Finley | BN49: =CONCATENATE('Team 1'!$F19, " ",'Team 1'!$G19) -> Henri | BO49: 6 | BP49: Boys 13/U y 4 x 50m Medley | BQ49: =CONCATENATE('Team 10'!$F18, " ",'Team 10'!$G18) | BR49: =CONCATENATE('Team 10'!$F19, " ",'Team 10'!$G19) | BS49: =CONCATENATE('Team 1'!$F18, " ",'Team 1'!$G18) -> Finley | BT49: =CONCATENATE('Team 1'!$F19, " ",'Team 1'!$G19) -> Henri
O50: =CONCATENATE('Team 1'!$F20, " ",'Team 1'!$G20) -> Menuka | P50: =CONCATENATE('Team 1'!$F21, " ",'Team 1'!$G21) -> James | U50: =CONCATENATE('Team 2'!$F20, " ",'Team 2'!$G20) -> Masoud | V50: =CONCATENATE('Team 2'!$F21, " ",'Team 2'!$G21) -> Ethan | W50: =CONCATENATE('Team 1'!$F20, " ",'Team 1'!$G20) -> Menuka | X50: =CONCATENATE('Team 1'!$F21, " ",'Team 1'!$G21) -> James | AA50: =CONCATENATE('Team 3'!$F20, " ",'Team 3'!$G20) -> Michael | AB50: =CONCATENATE('Team 3'!$F21, " ",'Team 3'!$G21) -> Max | AC50: =CONCATENATE('Team 1'!$F20, " ",'Team 1'!$G20) -> Menuka | AD50: =CONCATENATE('Team 1'!$F21, " ",'Team 1'!$G21) -> James | AG50: =CONCATENATE('Team 4'!$F20, " ",'Team 4'!$G20) -> Max | AH50: =CONCATENATE('Team 4'!$F21, " ",'Team 4'!$G21) -> Matus | AI50: =CONCATENATE('Team 1'!$F20, " ",'Team 1'!$G20) -> Menuka | AJ50: =CONCATENATE('Team 1'!$F21, " ",'Team 1'!$G21) -> James | AM50: =CONCATENATE('Team 5'!$F20, " ",'Team 5'!$G20) -> Connor | AN50: =CONCATENATE('Team 5'!$F21, " ",'Team 5'!$G21) -> McKenzie | AO50: =CONCATENATE('Team 1'!$F20, " ",'Team 1'!$G20) -> Menuka | AP50: =CONCATENATE('Team 1'!$F21, " ",'Team 1'!$G21) -> James | AS50: =CONCATENATE('Team 6'!$F20, " ",'Team 6'!$G20) -> Henry | AT50: =CONCATENATE('Team 6'!$F21, " ",'Team 6'!$G21) -> Harrison | AU50: =CONCATENATE('Team 1'!$F20, " ",'Team 1'!$G20) -> Menuka | AV50: =CONCATENATE('Team 1'!$F21, " ",'Team 1'!$G21) -> James | AY50: =CONCATENATE('Team 7'!$F20, " ",'Team 7'!$G20) | AZ50: =CONCATENATE('Team 7'!$F21, " ",'Team 7'!$G21) | BA50: =CONCATENATE('Team 1'!$F20, " ",'Team 1'!$G20) -> Menuka | BB50: =CONCATENATE('Team 1'!$F21, " ",'Team 1'!$G21) -> James | BE50: =CONCATENATE('Team 8'!$F20, " ",'Team 8'!$G20) | BF50: =CONCATENATE('Team 8'!$F21, " ",'Team 8'!$G21) | BG50: =CONCATENATE('Team 1'!$F20, " ",'Team 1'!$G20) -> Menuka | BH50: =CONCATENATE('Team 1'!$F21, " ",'Team 1'!$G21) -> James | BK50: =CONCATENATE('Team 9'!$F20, " ",'Team 9'!$G20) | BL50: =CONCATENATE('Team 9'!$F21, " ",'Team 9'!$G21) | BM50: =CONCATENATE('Team 1'!$F20, " ",'Team 1'!$G20) -> Menuka | BN50: =CONCATENATE('Team 1'!$F21, " ",'Team 1'!$G21) -> James | BQ50: =CONCATENATE('Team 10'!$F20, " ",'Team 10'!$G20) | BR50: =CONCATENATE('Team 10'!$F21, " ",'Team 10'!$G21) | BS50: =CONCATENATE('Team 1'!$F20, " ",'Team 1'!$G20) -> Menuka | BT50: =CONCATENATE('Team 1'!$F21, " ",'Team 1'!$G21) -> James
K51: 7 | L51: Girls 15/U 4 x 50m Free | O51: =CONCATENATE('Team 1'!$F22, " ",'Team 1'!$G22) -> Julianna | P51: =CONCATENATE('Team 1'!$F23, " ",'Team 1'!$G23) -> Isabel | S51: 7 | T51: Girls 15/U 4 x 50m Free | U51: =CONCATENATE('Team 2'!$F22, " ",'Team 2'!$G22) -> Rebecca | V51: =CONCATENATE('Team 2'!$F23, " ",'Team 2'!$G23) -> Chloe | W51: =CONCATENATE('Team 1'!$F22, " ",'Team 1'!$G22) -> Julianna | X51: =CONCATENATE('Team 1'!$F23, " ",'Team 1'!$G23) -> Isabel | Y51: 7 | Z51: Girls 15/U 4 x 50m Free | AA51: =CONCATENATE('Team 3'!$F22, " ",'Team 3'!$G22) -> Kiara | AB51: =CONCATENATE('Team 3'!$F23, " ",'Team 3'!$G23) -> Eve | AC51: =CONCATENATE('Team 1'!$F22, " ",'Team 1'!$G22) -> Julianna | AD51: =CONCATENATE('Team 1'!$F23, " ",'Team 1'!$G23) -> Isabel | AE51: 7 | AF51: Girls 15/U 4 x 50m Free | AG51: =CONCATENATE('Team 4'!$F22, " ",'Team 4'!$G22) -> Lottie | AH51: =CONCATENATE('Team 4'!$F23, " ",'Team 4'!$G23) -> Lottie | AI51: =CONCATENATE('Team 1'!$F22, " ",'Team 1'!$G22) -> Julianna | AJ51: =CONCATENATE('Team 1'!$F23, " ",'Team 1'!$G23) -> Isabel | AK51: 7 | AL51: Girls 15/U 4 x 50m Free | AM51: =CONCATENATE('Team 5'!$F22, " ",'Team 5'!$G22) -> Holly | AN51: =CONCATENATE('Team 5'!$F23, " ",'Team 5'!$G23) -> Emma | AO51: =CONCATENATE('Team 1'!$F22, " ",'Team 1'!$G22) -> Julianna | AP51: =CONCATENATE('Team 1'!$F23, " ",'Team 1'!$G23) -> Isabel | AQ51: 7 | AR51: Girls 15/U 4 x 50m Free | AS51: =CONCATENATE('Team 6'!$F22, " ",'Team 6'!$G22) -> Georgina | AT51: =CONCATENATE('Team 6'!$F23, " ",'Team 6'!$G23) -> Morgan | AU51: =CONCATENATE('Team 1'!$F22, " ",'Team 1'!$G22) -> Julianna | AV51: =CONCATENATE('Team 1'!$F23, " ",'Team 1'!$G23) -> Isabel | AW51: 7 | AX51: Girls 15/U 4 x 50m Free | AY51: =CONCATENATE('Team 7'!$F22, " ",'Team 7'!$G22) | AZ51: =CONCATENATE('Team 7'!$F23, " ",'Team 7'!$G23) | BA51: =CONCATENATE('Team 1'!$F22, " ",'Team 1'!$G22) -> Julianna | BB51: =CONCATENATE('Team 1'!$F23, " ",'Team 1'!$G23) -> Isabel | BC51: 7 | BD51: Girls 15/U 4 x 50m Free | BE51: =CONCATENATE('Team 8'!$F22, " ",'Team 8'!$G22) | BF51: =CONCATENATE('Team 8'!$F23, " ",'Team 8'!$G23) | BG51: =CONCATENATE('Team 1'!$F22, " ",'Team 1'!$G22) -> Julianna | BH51: =CONCATENATE('Team 1'!$F23, " ",'Team 1'!$G23) -> Isabel | BI51: 7 | BJ51: Girls 15/U 4 x 50m Free | BK51: =CONCATENATE('Team 9'!$F22, " ",'Team 9'!$G22) | BL51: =CONCATENATE('Team 9'!$F23, " ",'Team 9'!$G23) | BM51: =CONCATENATE('Team 1'!$F22, " ",'Team 1'!$G22) -> Julianna | BN51: =CONCATENATE('Team 1'!$F23, " ",'Team 1'!$G23) -> Isabel | BO51: 7 | BP51: Girls 15/U 4 x 50m Free | BQ51: =CONCATENATE('Team 10'!$F22, " ",'Team 10'!$G22) | BR51: =CONCATENATE('Team 10'!$F23, " ",'Team 10'!$G23) | BS51: =CONCATENATE('Team 1'!$F22, " ",'Team 1'!$G22) -> Julianna | BT51: =CONCATENATE('Team 1'!$F23, " ",'Team 1'!$G23) -> Isabel
O52: =CONCATENATE('Team 1'!$F24, " ",'Team 1'!$G24) -> Jessica | P52: =CONCATENATE('Team 1'!$F25, " ",'Team 1'!$G25) -> Rebecca | U52: =CONCATENATE('Team 2'!$F24, " ",'Team 2'!$G24) -> Jessica-May | V52: =CONCATENATE('Team 2'!$F25, " ",'Team 2'!$G25) -> Ella | W52: =CONCATENATE('Team 1'!$F24, " ",'Team 1'!$G24) -> Jessica | X52: =CONCATENATE('Team 1'!$F25, " ",'Team 1'!$G25) -> Rebecca | AA52: =CONCATENATE('Team 3'!$F24, " ",'Team 3'!$G24) -> Iona | AB52: =CONCATENATE('Team 3'!$F25, " ",'Team 3'!$G25) -> Olivia | AC52: =CONCATENATE('Team 1'!$F24, " ",'Team 1'!$G24) -> Jessica | AD52: =CONCATENATE('Team 1'!$F25, " ",'Team 1'!$G25) -> Rebecca | AG52: =CONCATENATE('Team 4'!$F24, " ",'Team 4'!$G24) -> Edith | AH52: =CONCATENATE('Team 4'!$F25, " ",'Team 4'!$G25) -> Ellie | AI52: =CONCATENATE('Team 1'!$F24, " ",'Team 1'!$G24) -> Jessica | AJ52: =CONCATENATE('Team 1'!$F25, " ",'Team 1'!$G25) -> Rebecca | AM52: =CONCATENATE('Team 5'!$F24, " ",'Team 5'!$G24) -> Merewyn | AN52: =CONCATENATE('Team 5'!$F25, " ",'Team 5'!$G25) -> Rose | AO52: =CONCATENATE('Team 1'!$F24, " ",'Team 1'!$G24) -> Jessica | AP52: =CONCATENATE('Team 1'!$F25, " ",'Team 1'!$G25) -> Rebecca | AS52: =CONCATENATE('Team 6'!$F24, " ",'Team 6'!$G24) -> Orla | AT52: =CONCATENATE('Team 6'!$F25, " ",'Team 6'!$G25) -> Isabel | AU52: =CONCATENATE('Team 1'!$F24, " ",'Team 1'!$G24) -> Jessica | AV52: =CONCATENATE('Team 1'!$F25, " ",'Team 1'!$G25) -> Rebecca | AY52: =CONCATENATE('Team 7'!$F24, " ",'Team 7'!$G24) | AZ52: =CONCATENATE('Team 7'!$F25, " ",'Team 7'!$G25) | BA52: =CONCATENATE('Team 1'!$F24, " ",'Team 1'!$G24) -> Jessica | BB52: =CONCATENATE('Team 1'!$F25, " ",'Team 1'!$G25) -> Rebecca | BE52: =CONCATENATE('Team 8'!$F24, " ",'Team 8'!$G24) | BF52: =CONCATENATE('Team 8'!$F25, " ",'Team 8'!$G25) | BG52: =CONCATENATE('Team 1'!$F24, " ",'Team 1'!$G24) -> Jessica | BH52: =CONCATENATE('Team 1'!$F25, " ",'Team 1'!$G25) -> Rebecca | BK52: =CONCATENATE('Team 9'!$F24, " ",'Team 9'!$G24) | BL52: =CONCATENATE('Team 9'!$F25, " ",'Team 9'!$G25) | BM52: =CONCATENATE('Team 1'!$F24, " ",'Team 1'!$G24) -> Jessica | BN52: =CONCATENATE('Team 1'!$F25, " ",'Team 1'!$G25) -> Rebecca | BQ52: =CONCATENATE('Team 10'!$F24, " ",'Team 10'!$G24) | BR52: =CONCATENATE('Team 10'!$F25, " ",'Team 10'!$G25) | BS52: =CONCATENATE('Team 1'!$F24, " ",'Team 1'!$G24) -> Jessica | BT52: =CONCATENATE('Team 1'!$F25, " ",'Team 1'!$G25) -> Rebecca
K53: 8 | L53: Boys 15/U 4 x 50m Free | O53: =CONCATENATE('Team 1'!$F26, " ",'Team 1'!$G26) -> Bradley | P53: =CONCATENATE('Team 1'!$F27, " ",'Team 1'!$G27) -> Ben | S53: 8 | T53: Boys 15/U 4 x 50m Free | U53: =CONCATENATE('Team 2'!$F26, " ",'Team 2'!$G26) -> Thomas | V53: =CONCATENATE('Team 2'!$F27, " ",'Team 2'!$G27) -> Cameron | W53: =CONCATENATE('Team 1'!$F26, " ",'Team 1'!$G26) -> Bradley | X53: =CONCATENATE('Team 1'!$F27, " ",'Team 1'!$G27) -> Ben | Y53: 8 | Z53: Boys 15/U 4 x 50m Free | AA53: =CONCATENATE('Team 3'!$F26, " ",'Team 3'!$G26) -> Fabian | AB53: =CONCATENATE('Team 3'!$F27, " ",'Team 3'!$G27) -> Connor | AC53: =CONCATENATE('Team 1'!$F26, " ",'Team 1'!$G26) -> Bradley | AD53: =CONCATENATE('Team 1'!$F27, " ",'Team 1'!$G27) -> Ben | AE53: 8 | AF53: Boys 15/U 4 x 50m Free | AG53: =CONCATENATE('Team 4'!$F26, " ",'Team 4'!$G26) -> Tyler | AH53: =CONCATENATE('Team 4'!$F27, " ",'Team 4'!$G27) -> Simon | AI53: =CONCATENATE('Team 1'!$F26, " ",'Team 1'!$G26) -> Bradley | AJ53: =CONCATENATE('Team 1'!$F27, " ",'Team 1'!$G27) -> Ben | AK53: 8 | AL53: Boys 15/U 4 x 50m Free | AM53: =CONCATENATE('Team 5'!$F26, " ",'Team 5'!$G26) -> William | AN53: =CONCATENATE('Team 5'!$F27, " ",'Team 5'!$G27) -> Luke | AO53: =CONCATENATE('Team 1'!$F26, " ",'Team 1'!$G26) -> Bradley | AP53: =CONCATENATE('Team 1'!$F27, " ",'Team 1'!$G27) -> Ben | AQ53: 8 | AR53: Boys 15/U 4 x 50m Free | AS53: =CONCATENATE('Team 6'!$F26, " ",'Team 6'!$G26) -> Thomas | AT53: =CONCATENATE('Team 6'!$F27, " ",'Team 6'!$G27) -> Ethan | AU53: =CONCATENATE('Team 1'!$F26, " ",'Team 1'!$G26) -> Bradley | AV53: =CONCATENATE('Team 1'!$F27, " ",'Team 1'!$G27) -> Ben | AW53: 8 | AX53: Boys 15/U 4 x 50m Free | AY53: =CONCATENATE('Team 7'!$F26, " ",'Team 7'!$G26) | AZ53: =CONCATENATE('Team 7'!$F27, " ",'Team 7'!$G27) | BA53: =CONCATENATE('Team 1'!$F26, " ",'Team 1'!$G26) -> Bradley | BB53: =CONCATENATE('Team 1'!$F27, " ",'Team 1'!$G27) -> Ben | BC53: 8 | BD53: Boys 15/U 4 x 50m Free | BE53: =CONCATENATE('Team 8'!$F26, " ",'Team 8'!$G26) | BF53: =CONCATENATE('Team 8'!$F27, " ",'Team 8'!$G27) | BG53: =CONCATENATE('Team 1'!$F26, " ",'Team 1'!$G26) -> Bradley | BH53: =CONCATENATE('Team 1'!$F27, " ",'Team 1'!$G27) -> Ben | BI53: 8 | BJ53: Boys 15/U 4 x 50m Free | BK53: =CONCATENATE('Team 9'!$F26, " ",'Team 9'!$G26) | BL53: =CONCATENATE('Team 9'!$F27, " ",'Team 9'!$G27) | BM53: =CONCATENATE('Team 1'!$F26, " ",'Team 1'!$G26) -> Bradley | BN53: =CONCATENATE('Team 1'!$F27, " ",'Team 1'!$G27) -> Ben | BO53: 8 | BP53: Boys 15/U 4 x 50m Free | BQ53: =CONCATENATE('Team 10'!$F26, " ",'Team 10'!$G26) | BR53: =CONCATENATE('Team 10'!$F27, " ",'Team 10'!$G27) | BS53: =CONCATENATE('Team 1'!$F26, " ",'Team 1'!$G26) -> Bradley | BT53: =CONCATENATE('Team 1'!$F27, " ",'Team 1'!$G27) -> Ben
O54: =CONCATENATE('Team 1'!$F28, " ",'Team 1'!$G28) -> Isaac | P54: =CONCATENATE('Team 1'!$F29, " ",'Team 1'!$G29) -> Finley | U54: =CONCATENATE('Team 2'!$F28, " ",'Team 2'!$G28) -> Patrick | V54: =CONCATENATE('Team 2'!$F29, " ",'Team 2'!$G29) -> Jevon | W54: =CONCATENATE('Team 1'!$F28, " ",'Team 1'!$G28) -> Isaac | X54: =CONCATENATE('Team 1'!$F29, " ",'Team 1'!$G29) -> Finley | AA54: =CONCATENATE('Team 3'!$F28, " ",'Team 3'!$G28) -> Matthew | AB54: =CONCATENATE('Team 3'!$F29, " ",'Team 3'!$G29) -> James | AC54: =CONCATENATE('Team 1'!$F28, " ",'Team 1'!$G28) -> Isaac | AD54: =CONCATENATE('Team 1'!$F29, " ",'Team 1'!$G29) -> Finley | AG54: =CONCATENATE('Team 4'!$F28, " ",'Team 4'!$G28) -> Marcus | AH54: =CONCATENATE('Team 4'!$F29, " ",'Team 4'!$G29) -> Jamie | AI54: =CONCATENATE('Team 1'!$F28, " ",'Team 1'!$G28) -> Isaac | AJ54: =CONCATENATE('Team 1'!$F29, " ",'Team 1'!$G29) -> Finley | AM54: =CONCATENATE('Team 5'!$F28, " ",'Team 5'!$G28) -> Andrew | AN54: =CONCATENATE('Team 5'!$F29, " ",'Team 5'!$G29) -> Gabriel | AO54: =CONCATENATE('Team 1'!$F28, " ",'Team 1'!$G28) -> Isaac | AP54: =CONCATENATE('Team 1'!$F29, " ",'Team 1'!$G29) -> Finley | AS54: =CONCATENATE('Team 6'!$F28, " ",'Team 6'!$G28) -> Owen | AT54: =CONCATENATE('Team 6'!$F29, " ",'Team 6'!$G29) -> Jamie | AU54: =CONCATENATE('Team 1'!$F28, " ",'Team 1'!$G28) -> Isaac | AV54: =CONCATENATE('Team 1'!$F29, " ",'Team 1'!$G29) -> Finley | AY54: =CONCATENATE('Team 7'!$F28, " ",'Team 7'!$G28) | AZ54: =CONCATENATE('Team 7'!$F29, " ",'Team 7'!$G29) | BA54: =CONCATENATE('Team 1'!$F28, " ",'Team 1'!$G28) -> Isaac | BB54: =CONCATENATE('Team 1'!$F29, " ",'Team 1'!$G29) -> Finley | BE54: =CONCATENATE('Team 8'!$F28, " ",'Team 8'!$G28) | BF54: =CONCATENATE('Team 8'!$F29, " ",'Team 8'!$G29) | BG54: =CONCATENATE('Team 1'!$F28, " ",'Team 1'!$G28) -> Isaac | BH54: =CONCATENATE('Team 1'!$F29, " ",'Team 1'!$G29) -> Finley | BK54: =CONCATENATE('Team 9'!$F28, " ",'Team 9'!$G28) | BL54: =CONCATENATE('Team 9'!$F29, " ",'Team 9'!$G29) | BM54: =CONCATENATE('Team 1'!$F28, " ",'Team 1'!$G28) -> Isaac | BN54: =CONCATENATE('Team 1'!$F29, " ",'Team 1'!$G29) -> Finley | BQ54: =CONCATENATE('Team 10'!$F28, " ",'Team 10'!$G28) | BR54: =CONCATENATE('Team 10'!$F29, " ",'Team 10'!$G29) | BS54: =CONCATENATE('Team 1'!$F28, " ",'Team 1'!$G28) -> Isaac | BT54: =CONCATENATE('Team 1'!$F29, " ",'Team 1'!$G29) -> Finley
K55: 9 | L55: Girls Open 4 x 50m Medley | O55: =CONCATENATE('Team 1'!$F30, " ",'Team 1'!$G30) -> Isabella | P55: =CONCATENATE('Team 1'!$F31, " ",'Team 1'!$G31) -> India | S55: 9 | T55: Girls Open 4 x 50m Medley | U55: =CONCATENATE('Team 2'!$F30, " ",'Team 2'!$G30) -> Rebecca | V55: =CONCATENATE('Team 2'!$F31, " ",'Team 2'!$G31) -> Katie | W55: =CONCATENATE('Team 1'!$F30, " ",'Team 1'!$G30) -> Isabella | X55: =CONCATENATE('Team 1'!$F31, " ",'Team 1'!$G31) -> India | Y55: 9 | Z55: Girls Open 4 x 50m Medley | AA55: =CONCATENATE('Team 3'!$F30, " ",'Team 3'!$G30) -> Mollie | AB55: =CONCATENATE('Team 3'!$F31, " ",'Team 3'!$G31) -> Amelia | AC55: =CONCATENATE('Team 1'!$F30, " ",'Team 1'!$G30) -> Isabella | AD55: =CONCATENATE('Team 1'!$F31, " ",'Team 1'!$G31) -> India | AE55: 9 | AF55: Girls Open 4 x 50m Medley | AG55: =CONCATENATE('Team 4'!$F30, " ",'Team 4'!$G30) -> Grace | AH55: =CONCATENATE('Team 4'!$F31, " ",'Team 4'!$G31) -> Aiyana | AI55: =CONCATENATE('Team 1'!$F30, " ",'Team 1'!$G30) -> Isabella | AJ55: =CONCATENATE('Team 1'!$F31, " ",'Team 1'!$G31) -> India | AK55: 9 | AL55: Girls Open 4 x 50m Medley | AM55: =CONCATENATE('Team 5'!$F30, " ",'Team 5'!$G30) -> Jessica | AN55: =CONCATENATE('Team 5'!$F31, " ",'Team 5'!$G31) -> Amy | AO55: =CONCATENATE('Team 1'!$F30, " ",'Team 1'!$G30) -> Isabella | AP55: =CONCATENATE('Team 1'!$F31, " ",'Team 1'!$G31) -> India | AQ55: 9 | AR55: Girls Open 4 x 50m Medley | AS55: =CONCATENATE('Team 6'!$F30, " ",'Team 6'!$G30) -> Emma | AT55: =CONCATENATE('Team 6'!$F31, " ",'Team 6'!$G31) -> Emily | AU55: =CONCATENATE('Team 1'!$F30, " ",'Team 1'!$G30) -> Isabella | AV55: =CONCATENATE('Team 1'!$F31, " ",'Team 1'!$G31) -> India | AW55: 9 | AX55: Girls Open 4 x 50m Medley | AY55: =CONCATENATE('Team 7'!$F30, " ",'Team 7'!$G30) | AZ55: =CONCATENATE('Team 7'!$F31, " ",'Team 7'!$G31) | BA55: =CONCATENATE('Team 1'!$F30, " ",'Team 1'!$G30) -> Isabella | BB55: =CONCATENATE('Team 1'!$F31, " ",'Team 1'!$G31) -> India | BC55: 9 | BD55: Girls Open 4 x 50m Medley | BE55: =CONCATENATE('Team 8'!$F30, " ",'Team 8'!$G30) | BF55: =CONCATENATE('Team 8'!$F31, " ",'Team 8'!$G31) | BG55: =CONCATENATE('Team 1'!$F30, " ",'Team 1'!$G30) -> Isabella | BH55: =CONCATENATE('Team 1'!$F31, " ",'Team 1'!$G31) -> India | BI55: 9 | BJ55: Girls Open 4 x 50m Medley | BK55: =CONCATENATE('Team 9'!$F30, " ",'Team 9'!$G30) | BL55: =CONCATENATE('Team 9'!$F31, " ",'Team 9'!$G31) | BM55: =CONCATENATE('Team 1'!$F30, " ",'Team 1'!$G30) -> Isabella | BN55: =CONCATENATE('Team 1'!$F31, " ",'Team 1'!$G31) -> India | BO55: 9 | BP55: Girls Open 4 x 50m Medley | BQ55: =CONCATENATE('Team 10'!$F30, " ",'Team 10'!$G30) | BR55: =CONCATENATE('Team 10'!$F31, " ",'Team 10'!$G31) | BS55: =CONCATENATE('Team 1'!$F30, " ",'Team 1'!$G30) -> Isabella | BT55: =CONCATENATE('Team 1'!$F31, " ",'Team 1'!$G31) -> India
O56: =CONCATENATE('Team 1'!$F32, " ",'Team 1'!$G32) -> Rebecca | P56: =CONCATENATE('Team 1'!$F33, " ",'Team 1'!$G33) -> Hannah | U56: =CONCATENATE('Team 2'!$F32, " ",'Team 2'!$G32) -> Ella | V56: =CONCATENATE('Team 2'!$F33, " ",'Team 2'!$G33) -> Freya | W56: =CONCATENATE('Team 1'!$F32, " ",'Team 1'!$G32) -> Rebecca | X56: =CONCATENATE('Team 1'!$F33, " ",'Team 1'!$G33) -> Hannah | AA56: =CONCATENATE('Team 3'!$F32, " ",'Team 3'!$G32) -> Mia | AB56: =CONCATENATE('Team 3'!$F33, " ",'Team 3'!$G33) -> Kenzie | AC56: =CONCATENATE('Team 1'!$F32, " ",'Team 1'!$G32) -> Rebecca | AD56: =CONCATENATE('Team 1'!$F33, " ",'Team 1'!$G33) -> Hannah | AG56: =CONCATENATE('Team 4'!$F32, " ",'Team 4'!$G32) -> Lottie | AH56: =CONCATENATE('Team 4'!$F33, " ",'Team 4'!$G33) -> Kaitlyn | AI56: =CONCATENATE('Team 1'!$F32, " ",'Team 1'!$G32) -> Rebecca | AJ56: =CONCATENATE('Team 1'!$F33, " ",'Team 1'!$G33) -> Hannah | AM56: =CONCATENATE('Team 5'!$F32, " ",'Team 5'!$G32) -> Holly | AN56: =CONCATENATE('Team 5'!$F33, " ",'Team 5'!$G33) -> Lauren | AO56: =CONCATENATE('Team 1'!$F32, " ",'Team 1'!$G32) -> Rebecca | AP56: =CONCATENATE('Team 1'!$F33, " ",'Team 1'!$G33) -> Hannah | AS56: =CONCATENATE('Team 6'!$F32, " ",'Team 6'!$G32) -> Hannah | AT56: =CONCATENATE('Team 6'!$F33, " ",'Team 6'!$G33) -> Emily | AU56: =CONCATENATE('Team 1'!$F32, " ",'Team 1'!$G32) -> Rebecca | AV56: =CONCATENATE('Team 1'!$F33, " ",'Team 1'!$G33) -> Hannah | AY56: =CONCATENATE('Team 7'!$F32, " ",'Team 7'!$G32) | AZ56: =CONCATENATE('Team 7'!$F33, " ",'Team 7'!$G33) | BA56: =CONCATENATE('Team 1'!$F32, " ",'Team 1'!$G32) -> Rebecca | BB56: =CONCATENATE('Team 1'!$F33, " ",'Team 1'!$G33) -> Hannah | BE56: =CONCATENATE('Team 8'!$F32, " ",'Team 8'!$G32) | BF56: =CONCATENATE('Team 8'!$F33, " ",'Team 8'!$G33) | BG56: =CONCATENATE('Team 1'!$F32, " ",'Team 1'!$G32) -> Rebecca | BH56: =CONCATENATE('Team 1'!$F33, " ",'Team 1'!$G33) -> Hannah | BK56: =CONCATENATE('Team 9'!$F32, " ",'Team 9'!$G32) | BL56: =CONCATENATE('Team 9'!$F33, " ",'Team 9'!$G33) | BM56: =CONCATENATE('Team 1'!$F32, " ",'Team 1'!$G32) -> Rebecca | BN56: =CONCATENATE('Team 1'!$F33, " ",'Team 1'!$G33) -> Hannah | BQ56: =CONCATENATE('Team 10'!$F32, " ",'Team 10'!$G32) | BR56: =CONCATENATE('Team 10'!$F33, " ",'Team 10'!$G33) | BS56: =CONCATENATE('Team 1'!$F32, " ",'Team 1'!$G32) -> Rebecca | BT56: =CONCATENATE('Team 1'!$F33, " ",'Team 1'!$G33) -> Hannah
K57: 10 | L57: Boys Open 4 x 50m Medley | O57: =CONCATENATE('Team 1'!$F34, " ",'Team 1'!$G34) -> Tom | P57: =CONCATENATE('Team 1'!$F35, " ",'Team 1'!$G35) -> Tom | S57: 10 | T57: Boys Open 4 x 50m Medley | U57: =CONCATENATE('Team 2'!$F34, " ",'Team 2'!$G34) -> Matthew | V57: =CONCATENATE('Team 2'!$F35, " ",'Team 2'!$G35) -> Jack | W57: =CONCATENATE('Team 1'!$F34, " ",'Team 1'!$G34) -> Tom | X57: =CONCATENATE('Team 1'!$F35, " ",'Team 1'!$G35) -> Tom | Y57: 10 | Z57: Boys Open 4 x 50m Medley | AA57: =CONCATENATE('Team 3'!$F34, " ",'Team 3'!$G34) -> Jamie | AB57: =CONCATENATE('Team 3'!$F35, " ",'Team 3'!$G35) -> Tom | AC57: =CONCATENATE('Team 1'!$F34, " ",'Team 1'!$G34) -> Tom | AD57: =CONCATENATE('Team 1'!$F35, " ",'Team 1'!$G35) -> Tom | AE57: 10 | AF57: Boys Open 4 x 50m Medley | AG57: =CONCATENATE('Team 4'!$F34, " ",'Team 4'!$G34) -> Marcus | AH57: =CONCATENATE('Team 4'!$F35, " ",'Team 4'!$G35) -> Miles | AI57: =CONCATENATE('Team 1'!$F34, " ",'Team 1'!$G34) -> Tom | AJ57: =CONCATENATE('Team 1'!$F35, " ",'Team 1'!$G35) -> Tom | AK57: 10 | AL57: Boys Open 4 x 50m Medley | AM57: =CONCATENATE('Team 5'!$F36, " ",'Team 5'!$G36) -> Kris | AN57: =CONCATENATE('Team 5'!$F35, " ",'Team 5'!$G35) -> Luke | AO57: =CONCATENATE('Team 1'!$F34, " ",'Team 1'!$G34) -> Tom | AP57: =CONCATENATE('Team 1'!$F35, " ",'Team 1'!$G35) -> Tom | AQ57: 10 | AR57: Boys Open 4 x 50m Medley | AS57: =CONCATENATE('Team 6'!$F34, " ",'Team 6'!$G34) -> Jack | AT57: =CONCATENATE('Team 6'!$F35, " ",'Team 6'!$G35) -> Joshua | AU57: =CONCATENATE('Team 1'!$F34, " ",'Team 1'!$G34) -> Tom | AV57: =CONCATENATE('Team 1'!$F35, " ",'Team 1'!$G35) -> Tom | AW57: 10 | AX57: Boys Open 4 x 50m Medley | AY57: =CONCATENATE('Team 7'!$F34, " ",'Team 7'!$G34) | AZ57: =CONCATENATE('Team 7'!$F35, " ",'Team 7'!$G35) | BA57: =CONCATENATE('Team 1'!$F34, " ",'Team 1'!$G34) -> Tom | BB57: =CONCATENATE('Team 1'!$F35, " ",'Team 1'!$G35) -> Tom | BC57: 10 | BD57: Boys Open 4 x 50m Medley | BE57: =CONCATENATE('Team 8'!$F34, " ",'Team 8'!$G34) | BF57: =CONCATENATE('Team 8'!$F35, " ",'Team 8'!$G35) | BG57: =CONCATENATE('Team 1'!$F34, " ",'Team 1'!$G34) -> Tom | BH57: =CONCATENATE('Team 1'!$F35, " ",'Team 1'!$G35) -> Tom | BI57: 10 | BJ57: Boys Open 4 x 50m Medley | BK57: =CONCATENATE('Team 9'!$F34, " ",'Team 9'!$G34) | BL57: =CONCATENATE('Team 9'!$F35, " ",'Team 9'!$G35) | BM57: =CONCATENATE('Team 1'!$F34, " ",'Team 1'!$G34) -> Tom | BN57: =CONCATENATE('Team 1'!$F35, " ",'Team 1'!$G35) -> Tom | BO57: 10 | BP57: Boys Open 4 x 50m Medley | BQ57: =CONCATENATE('Team 10'!$F34, " ",'Team 10'!$G34) | BR57: =CONCATENATE('Team 10'!$F35, " ",'Team 10'!$G35) | BS57: =CONCATENATE('Team 1'!$F34, " ",'Team 1'!$G34) -> Tom | BT57: =CONCATENATE('Team 1'!$F35, " ",'Team 1'!$G35) -> Tom
O58: =CONCATENATE('Team 1'!$F36, " ",'Team 1'!$G36) -> Harry | P58: =CONCATENATE('Team 1'!$F37, " ",'Team 1'!$G37) -> Sam | U58: =CONCATENATE('Team 2'!$F36, " ",'Team 2'!$G36) -> Liam | V58: =CONCATENATE('Team 2'!$F37, " ",'Team 2'!$G37) -> Aaron | W58: =CONCATENATE('Team 1'!N36, " ",'Team 1'!O36) | X58: =CONCATENATE('Team 1'!$F37, " ",'Team 1'!$G37) -> Sam | AA58: =CONCATENATE('Team 3'!$F36, " ",'Team 3'!$G36) -> Harry | AB58: =CONCATENATE('Team 3'!$F37, " ",'Team 3'!$G37) -> Stuart | AC58: =CONCATENATE('Team 1'!T36, " ",'Team 1'!U36) | AD58: =CONCATENATE('Team 1'!$F37, " ",'Team 1'!$G37) -> Sam | AG58: =CONCATENATE('Team 4'!$F36, " ",'Team 4'!$G36) -> Ryan | AH58: =CONCATENATE('Team 4'!$F37, " ",'Team 4'!$G37) -> Matthew | AI58: =CONCATENATE('Team 1'!Z36, " ",'Team 1'!AA36) | AJ58: =CONCATENATE('Team 1'!$F37, " ",'Team 1'!$G37) -> Sam | AM58: =CONCATENATE('Team 5'!#REF!, " ",'Team 5'!#REF!) -> #REF! | AN58: =CONCATENATE('Team 5'!$F37, " ",'Team 5'!$G37) -> Christopher | AO58: =CONCATENATE('Team 1'!AF36, " ",'Team 1'!AG36) | AP58: =CONCATENATE('Team 1'!$F37, " ",'Team 1'!$G37) -> Sam | AS58: =CONCATENATE('Team 6'!$F36, " ",'Team 6'!$G36) -> Max | AT58: =CONCATENATE('Team 6'!$F37, " ",'Team 6'!$G37) -> Marcel | AU58: =CONCATENATE('Team 1'!AL36, " ",'Team 1'!AM36) | AV58: =CONCATENATE('Team 1'!$F37, " ",'Team 1'!$G37) -> Sam | AY58: =CONCATENATE('Team 7'!$F36, " ",'Team 7'!$G36) | AZ58: =CONCATENATE('Team 7'!$F37, " ",'Team 7'!$G37) | BA58: =CONCATENATE('Team 1'!AR36, " ",'Team 1'!AS36) | BB58: =CONCATENATE('Team 1'!$F37, " ",'Team 1'!$G37) -> Sam | BE58: =CONCATENATE('Team 8'!$F36, " ",'Team 8'!$G36) | BF58: =CONCATENATE('Team 8'!$F37, " ",'Team 8'!$G37) | BG58: =CONCATENATE('Team 1'!AX36, " ",'Team 1'!AY36) | BH58: =CONCATENATE('Team 1'!$F37, " ",'Team 1'!$G37) -> Sam | BK58: =CONCATENATE('Team 9'!$F36, " ",'Team 9'!$G36) | BL58: =CONCATENATE('Team 9'!$F37, " ",'Team 9'!$G37) | BM58: =CONCATENATE('Team 1'!BD36, " ",'Team 1'!BE36) | BN58: =CONCATENATE('Team 1'!$F37, " ",'Team 1'!$G37) -> Sam | BQ58: =CONCATENATE('Team 10'!$F36, " ",'Team 10'!$G36) | BR58: =CONCATENATE('Team 10'!$F37, " ",'Team 10'!$G37) | BS58: =CONCATENATE('Team 1'!BJ36, " ",'Team 1'!BK36) | BT58: =CONCATENATE('Team 1'!$F37, " ",'Team 1'!$G37) -> Sam
K60: 43 | L60: Girls 9/11 4 x 50m medley | O60: =CONCATENATE('Team 1'!$F70, " ",'Team 1'!$G70) -> Isla | P60: =CONCATENATE('Team 1'!$F71, " ",'Team 1'!$G71) -> Ellie Rose | S60: 43 | T60: Girls 9/11 4 x 50m medley | U60: =CONCATENATE('Team 2'!$F70, " ",'Team 2'!$G70) -> Elyse | V60: =CONCATENATE('Team 2'!$F71, " ",'Team 2'!$G71) -> Sophie | W60: =CONCATENATE('Team 1'!$F70, " ",'Team 1'!$G70) -> Isla | X60: =CONCATENATE('Team 1'!$F71, " ",'Team 1'!$G71) -> Ellie Rose | Y60: 43 | Z60: Girls 9/11 4 x 50m medley | AA60: =CONCATENATE('Team 3'!$F70, " ",'Team 3'!$G70) -> Leah | AB60: =CONCATENATE('Team 3'!$F71, " ",'Team 3'!$G71) -> Charlotte | AC60: =CONCATENATE('Team 1'!$F70, " ",'Team 1'!$G70) -> Isla | AD60: =CONCATENATE('Team 1'!$F71, " ",'Team 1'!$G71) -> Ellie Rose | AE60: 43 | AF60: Girls 9/11 4 x 50m medley | AG60: =CONCATENATE('Team 4'!$F70, " ",'Team 4'!$G70) -> Emma | AH60: =CONCATENATE('Team 4'!$F71, " ",'Team 4'!$G71) -> Danielle | AI60: =CONCATENATE('Team 1'!$F70, " ",'Team 1'!$G70) -> Isla | AJ60: =CONCATENATE('Team 1'!$F71, " ",'Team 1'!$G71) -> Ellie Rose | AK60: 43 | AL60: Girls 9/11 4 x 50m medley | AM60: =CONCATENATE('Team 5'!$F70, " ",'Team 5'!$G70) -> Evie | AN60: =CONCATENATE('Team 5'!$F71, " ",'Team 5'!$G71) -> Amy | AO60: =CONCATENATE('Team 1'!$F70, " ",'Team 1'!$G70) -> Isla | AP60: =CONCATENATE('Team 1'!$F71, " ",'Team 1'!$G71) -> Ellie Rose | AQ60: 43 | AR60: Girls 9/11 4 x 50m medley | AS60: =CONCATENATE('Team 6'!$F70, " ",'Team 6'!$G70) -> Eleanor | AT60: =CONCATENATE('Team 6'!$F71, " ",'Team 6'!$G71) -> Fleur | AU60: =CONCATENATE('Team 1'!$F70, " ",'Team 1'!$G70) -> Isla | AV60: =CONCATENATE('Team 1'!$F71, " ",'Team 1'!$G71) -> Ellie Rose | AW60: 43 | AX60: Girls 9/11 4 x 50m medley | AY60: =CONCATENATE('Team 7'!$F70, " ",'Team 7'!$G70) | AZ60: =CONCATENATE('Team 7'!$F71, " ",'Team 7'!$G71) | BA60: =CONCATENATE('Team 1'!$F70, " ",'Team 1'!$G70) -> Isla | BB60: =CONCATENATE('Team 1'!$F71, " ",'Team 1'!$G71) -> Ellie Rose | BC60: 43 | BD60: Girls 9/11 4 x 50m medley | BE60: =CONCATENATE('Team 8'!$F70, " ",'Team 8'!$G70) | BF60: =CONCATENATE('Team 8'!$F71, " ",'Team 8'!$G71) | BG60: =CONCATENATE('Team 1'!$F70, " ",'Team 1'!$G70) -> Isla | BH60: =CONCATENATE('Team 1'!$F71, " ",'Team 1'!$G71) -> Ellie Rose | BI60: 43 | BJ60: Girls 9/11 4 x 50m medley | BK60: =CONCATENATE('Team 9'!$F70, " ",'Team 9'!$G70) | BL60: =CONCATENATE('Team 9'!$F71, " ",'Team 9'!$G71) | BM60: =CONCATENATE('Team 1'!$F70, " ",'Team 1'!$G70) -> Isla | BN60: =CONCATENATE('Team 1'!$F71, " ",'Team 1'!$G71) -> Ellie Rose | BO60: 43 | BP60: Girls 9/11 4 x 50m medley | BQ60: =CONCATENATE('Team 10'!$F70, " ",'Team 10'!$G70) | BR60: =CONCATENATE('Team 10'!$F71, " ",'Team 10'!$G71) | BS60: =CONCATENATE('Team 1'!$F70, " ",'Team 1'!$G70) -> Isla | BT60: =CONCATENATE('Team 1'!$F71, " ",'Team 1'!$G71) -> Ellie Rose
O61: =CONCATENATE('Team 1'!$F72, " ",'Team 1'!$G72) -> Charlotte | P61: =CONCATENATE('Team 1'!$F73, " ",'Team 1'!$G73) -> Sienna | U61: =CONCATENATE('Team 2'!$F72, " ",'Team 2'!$G72) -> Milly | V61: =CONCATENATE('Team 2'!$F73, " ",'Team 2'!$G73) -> Olivia | W61: =CONCATENATE('Team 1'!$F72, " ",'Team 1'!$G72) -> Charlotte | X61: =CONCATENATE('Team 1'!$F73, " ",'Team 1'!$G73) -> Sienna | AA61: =CONCATENATE('Team 3'!$F72, " ",'Team 3'!$G72) -> Megan | AB61: =CONCATENATE('Team 3'!$F73, " ",'Team 3'!$G73) -> Lily | AC61: =CONCATENATE('Team 1'!$F72, " ",'Team 1'!$G72) -> Charlotte | AD61: =CONCATENATE('Team 1'!$F73, " ",'Team 1'!$G73) -> Sienna | AG61: =CONCATENATE('Team 4'!$F72, " ",'Team 4'!$G72) -> Despoina | AH61: =CONCATENATE('Team 4'!$F73, " ",'Team 4'!$G73) -> Amelie | AI61: =CONCATENATE('Team 1'!$F72, " ",'Team 1'!$G72) -> Charlotte | AJ61: =CONCATENATE('Team 1'!$F73, " ",'Team 1'!$G73) -> Sienna | AM61: =CONCATENATE('Team 5'!$F72, " ",'Team 5'!$G72) -> Emma | AN61: =CONCATENATE('Team 5'!$F73, " ",'Team 5'!$G73) -> Marissa | AO61: =CONCATENATE('Team 1'!$F72, " ",'Team 1'!$G72) -> Charlotte | AP61: =CONCATENATE('Team 1'!$F73, " ",'Team 1'!$G73) -> Sienna | AS61: =CONCATENATE('Team 6'!$F72, " ",'Team 6'!$G72) -> Eloise | AT61: =CONCATENATE('Team 6'!$F73, " ",'Team 6'!$G73) -> Amelie | AU61: =CONCATENATE('Team 1'!$F72, " ",'Team 1'!$G72) -> Charlotte | AV61: =CONCATENATE('Team 1'!$F73, " ",'Team 1'!$G73) -> Sienna | AY61: =CONCATENATE('Team 7'!$F72, " ",'Team 7'!$G72) | AZ61: =CONCATENATE('Team 7'!$F73, " ",'Team 7'!$G73) | BA61: =CONCATENATE('Team 1'!$F72, " ",'Team 1'!$G72) -> Charlotte | BB61: =CONCATENATE('Team 1'!$F73, " ",'Team 1'!$G73) -> Sienna | BE61: =CONCATENATE('Team 8'!$F72, " ",'Team 8'!$G72) | BF61: =CONCATENATE('Team 8'!$F73, " ",'Team 8'!$G73) | BG61: =CONCATENATE('Team 1'!$F72, " ",'Team 1'!$G72) -> Charlotte | BH61: =CONCATENATE('Team 1'!$F73, " ",'Team 1'!$G73) -> Sienna | BK61: =CONCATENATE('Team 9'!$F72, " ",'Team 9'!$G72) | BL61: =CONCATENATE('Team 9'!$F73, " ",'Team 9'!$G73) | BM61: =CONCATENATE('Team 1'!$F72, " ",'Team 1'!$G72) -> Charlotte | BN61: =CONCATENATE('Team 1'!$F73, " ",'Team 1'!$G73) -> Sienna | BQ61: =CONCATENATE('Team 10'!$F72, " ",'Team 10'!$G72) | BR61: =CONCATENATE('Team 10'!$F73, " ",'Team 10'!$G73) | BS61: =CONCATENATE('Team 1'!$F72, " ",'Team 1'!$G72) -> Charlotte | BT61: =CONCATENATE('Team 1'!$F73, " ",'Team 1'!$G73) -> Sienna
K62: 44 | L62: Boys 9/11 4 x 50m medley | O62: =CONCATENATE('Team 1'!$F74, " ",'Team 1'!$G74) -> James | P62: =CONCATENATE('Team 1'!$F75, " ",'Team 1'!$G75) -> Juneau | S62: 44 | T62: Boys 9/11 4 x 50m medley | U62: =CONCATENATE('Team 2'!$F74, " ",'Team 2'!$G74) -> Aston | V62: =CONCATENATE('Team 2'!$F75, " ",'Team 2'!$G75) -> Jasper | W62: =CONCATENATE('Team 1'!$F74, " ",'Team 1'!$G74) -> James | X62: =CONCATENATE('Team 1'!$F75, " ",'Team 1'!$G75) -> Juneau | Y62: 44 | Z62: Boys 9/11 4 x 50m medley | AA62: =CONCATENATE('Team 3'!$F74, " ",'Team 3'!$G74) -> Jack | AB62: =CONCATENATE('Team 3'!$F75, " ",'Team 3'!$G75) -> Isaac | AC62: =CONCATENATE('Team 1'!$F74, " ",'Team 1'!$G74) -> James | AD62: =CONCATENATE('Team 1'!$F75, " ",'Team 1'!$G75) -> Juneau | AE62: 44 | AF62: Boys 9/11 4 x 50m medley | AG62: =CONCATENATE('Team 4'!$F74, " ",'Team 4'!$G74) -> Michael | AH62: =CONCATENATE('Team 4'!$F75, " ",'Team 4'!$G75) -> Benjamin | AI62: =CONCATENATE('Team 1'!$F74, " ",'Team 1'!$G74) -> James | AJ62: =CONCATENATE('Team 1'!$F75, " ",'Team 1'!$G75) -> Juneau | AK62: 44 | AL62: Boys 9/11 4 x 50m medley | AM62: =CONCATENATE('Team 5'!$F74, " ",'Team 5'!$G74) -> Oliver | AN62: =CONCATENATE('Team 5'!$F75, " ",'Team 5'!$G75) -> George | AO62: =CONCATENATE('Team 1'!$F74, " ",'Team 1'!$G74) -> James | AP62: =CONCATENATE('Team 1'!$F75, " ",'Team 1'!$G75) -> Juneau | AQ62: 44 | AR62: Boys 9/11 4 x 50m medley | AS62: =CONCATENATE('Team 6'!$F74, " ",'Team 6'!$G74) -> Harvey | AT62: =CONCATENATE('Team 6'!$F75, " ",'Team 6'!$G75) -> Euan | AU62: =CONCATENATE('Team 1'!$F74, " ",'Team 1'!$G74) -> James | AV62: =CONCATENATE('Team 1'!$F75, " ",'Team 1'!$G75) -> Juneau | AW62: 44 | AX62: Boys 9/11 4 x 50m medley | AY62: =CONCATENATE('Team 7'!$F74, " ",'Team 7'!$G74) | AZ62: =CONCATENATE('Team 7'!$F75, " ",'Team 7'!$G75) | BA62: =CONCATENATE('Team 1'!$F74, " ",'Team 1'!$G74) -> James | BB62: =CONCATENATE('Team 1'!$F75, " ",'Team 1'!$G75) -> Juneau | BC62: 44 | BD62: Boys 9/11 4 x 50m medley | BE62: =CONCATENATE('Team 8'!$F74, " ",'Team 8'!$G74) | BF62: =CONCATENATE('Team 8'!$F75, " ",'Team 8'!$G75) | BG62: =CONCATENATE('Team 1'!$F74, " ",'Team 1'!$G74) -> James | BH62: =CONCATENATE('Team 1'!$F75, " ",'Team 1'!$G75) -> Juneau | BI62: 44 | BJ62: Boys 9/11 4 x 50m medley | BK62: =CONCATENATE('Team 9'!$F74, " ",'Team 9'!$G74) | BL62: =CONCATENATE('Team 9'!$F75, " ",'Team 9'!$G75) | BM62: =CONCATENATE('Team 1'!$F74, " ",'Team 1'!$G74) -> James | BN62: =CONCATENATE('Team 1'!$F75, " ",'Team 1'!$G75) -> Juneau | BO62: 44 | BP62: Boys 9/11 4 x 50m medley | BQ62: =CONCATENATE('Team 10'!$F74, " ",'Team 10'!$G74) | BR62: =CONCATENATE('Team 10'!$F75, " ",'Team 10'!$G75) | BS62: =CONCATENATE('Team 1'!$F74, " ",'Team 1'!$G74) -> James | BT62: =CONCATENATE('Team 1'!$F75, " ",'Team 1'!$G75) -> Juneau
O63: =CONCATENATE('Team 1'!$F76, " ",'Team 1'!$G76) -> Finlay | P63: =CONCATENATE('Team 1'!$F77, " ",'Team 1'!$G77) -> Miller | U63: =CONCATENATE('Team 2'!$F76, " ",'Team 2'!$G76) -> Max | V63: =CONCATENATE('Team 2'!$F77, " ",'Team 2'!$G77) -> Maximillan | W63: =CONCATENATE('Team 1'!$F76, " ",'Team 1'!$G76) -> Finlay | X63: =CONCATENATE('Team 1'!$F77, " ",'Team 1'!$G77) -> Miller | AA63: =CONCATENATE('Team 3'!$F76, " ",'Team 3'!$G76) -> Mark | AB63: =CONCATENATE('Team 3'!$F77, " ",'Team 3'!$G77) -> Orlando | AC63: =CONCATENATE('Team 1'!$F76, " ",'Team 1'!$G76) -> Finlay | AD63: =CONCATENATE('Team 1'!$F77, " ",'Team 1'!$G77) -> Miller | AG63: =CONCATENATE('Team 4'!$F76, " ",'Team 4'!$G76) -> Harry | AH63: =CONCATENATE('Team 4'!$F77, " ",'Team 4'!$G77) -> Mykhailo | AI63: =CONCATENATE('Team 1'!$F76, " ",'Team 1'!$G76) -> Finlay | AJ63: =CONCATENATE('Team 1'!$F77, " ",'Team 1'!$G77) -> Miller | AM63: =CONCATENATE('Team 5'!$F76, " ",'Team 5'!$G76) -> Findley | AN63: =CONCATENATE('Team 5'!$F77, " ",'Team 5'!$G77) -> Charlie | AO63: =CONCATENATE('Team 1'!$F76, " ",'Team 1'!$G76) -> Finlay | AP63: =CONCATENATE('Team 1'!$F77, " ",'Team 1'!$G77) -> Miller | AS63: =CONCATENATE('Team 6'!$F76, " ",'Team 6'!$G76) -> Daniel | AT63: =CONCATENATE('Team 6'!$F77, " ",'Team 6'!$G77) -> Adam | AU63: =CONCATENATE('Team 1'!$F76, " ",'Team 1'!$G76) -> Finlay | AV63: =CONCATENATE('Team 1'!$F77, " ",'Team 1'!$G77) -> Miller | AY63: =CONCATENATE('Team 7'!$F76, " ",'Team 7'!$G76) | AZ63: =CONCATENATE('Team 7'!$F77, " ",'Team 7'!$G77) | BA63: =CONCATENATE('Team 1'!$F76, " ",'Team 1'!$G76) -> Finlay | BB63: =CONCATENATE('Team 1'!$F77, " ",'Team 1'!$G77) -> Miller | BE63: =CONCATENATE('Team 8'!$F76, " ",'Team 8'!$G76) | BF63: =CONCATENATE('Team 8'!$F77, " ",'Team 8'!$G77) | BG63: =CONCATENATE('Team 1'!$F76, " ",'Team 1'!$G76) -> Finlay | BH63: =CONCATENATE('Team 1'!$F77, " ",'Team 1'!$G77) -> Miller | BK63: =CONCATENATE('Team 9'!$F76, " ",'Team 9'!$G76) | BL63: =CONCATENATE('Team 9'!$F77, " ",'Team 9'!$G77) | BM63: =CONCATENATE('Team 1'!$F76, " ",'Team 1'!$G76) -> Finlay | BN63: =CONCATENATE('Team 1'!$F77, " ",'Team 1'!$G77) -> Miller | BQ63: =CONCATENATE('Team 10'!$F76, " ",'Team 10'!$G76) | BR63: =CONCATENATE('Team 10'!$F77, " ",'Team 10'!$G77) | BS63: =CONCATENATE('Team 1'!$F76, " ",'Team 1'!$G76) -> Finlay | BT63: =CONCATENATE('Team 1'!$F77, " ",'Team 1'!$G77) -> Miller
K64: 45 | L64: Girls 13/U 4 x 50m Free | O64: =CONCATENATE('Team 1'!$F78, " ",'Team 1'!$G78) -> Lily | P64: =CONCATENATE('Team 1'!$F79, " ",'Team 1'!$G79) -> Lorne | S64: 45 | T64: Girls 13/U 4 x 50m Free | U64: =CONCATENATE('Team 2'!$F78, " ",'Team 2'!$G78) -> Chloe | V64: =CONCATENATE('Team 2'!$F79, " ",'Team 2'!$G79) -> Anna | W64: =CONCATENATE('Team 1'!$F78, " ",'Team 1'!$G78) -> Lily | X64: =CONCATENATE('Team 1'!$F79, " ",'Team 1'!$G79) -> Lorne | Y64: 45 | Z64: Girls 13/U 4 x 50m Free | AA64: =CONCATENATE('Team 3'!$F78, " ",'Team 3'!$G78) -> Jess | AB64: =CONCATENATE('Team 3'!$F79, " ",'Team 3'!$G79) -> Hannah | AC64: =CONCATENATE('Team 1'!$F78, " ",'Team 1'!$G78) -> Lily | AD64: =CONCATENATE('Team 1'!$F79, " ",'Team 1'!$G79) -> Lorne | AE64: 45 | AF64: Girls 13/U 4 x 50m Free | AG64: =CONCATENATE('Team 4'!$F78, " ",'Team 4'!$G78) -> Sophie | AH64: =CONCATENATE('Team 4'!$F79, " ",'Team 4'!$G79) -> Fern | AI64: =CONCATENATE('Team 1'!$F78, " ",'Team 1'!$G78) -> Lily | AJ64: =CONCATENATE('Team 1'!$F79, " ",'Team 1'!$G79) -> Lorne | AK64: 45 | AL64: Girls 13/U 4 x 50m Free | AM64: =CONCATENATE('Team 5'!$F78, " ",'Team 5'!$G78) -> Jessica | AN64: =CONCATENATE('Team 5'!$F79, " ",'Team 5'!$G79) -> Samantha | AO64: =CONCATENATE('Team 1'!$F78, " ",'Team 1'!$G78) -> Lily | AP64: =CONCATENATE('Team 1'!$F79, " ",'Team 1'!$G79) -> Lorne | AQ64: 45 | AR64: Girls 13/U 4 x 50m Free | AS64: =CONCATENATE('Team 6'!$F78, " ",'Team 6'!$G78) -> Salma | AT64: =CONCATENATE('Team 6'!$F79, " ",'Team 6'!$G79) -> Arabella | AU64: =CONCATENATE('Team 1'!$F78, " ",'Team 1'!$G78) -> Lily | AV64: =CONCATENATE('Team 1'!$F79, " ",'Team 1'!$G79) -> Lorne | AW64: 45 | AX64: Girls 13/U 4 x 50m Free | AY64: =CONCATENATE('Team 7'!$F78, " ",'Team 7'!$G78) | AZ64: =CONCATENATE('Team 7'!$F79, " ",'Team 7'!$G79) | BA64: =CONCATENATE('Team 1'!$F78, " ",'Team 1'!$G78) -> Lily | BB64: =CONCATENATE('Team 1'!$F79, " ",'Team 1'!$G79) -> Lorne | BC64: 45 | BD64: Girls 13/U 4 x 50m Free | BE64: =CONCATENATE('Team 8'!$F78, " ",'Team 8'!$G78) | BF64: =CONCATENATE('Team 8'!$F79, " ",'Team 8'!$G79) | BG64: =CONCATENATE('Team 1'!$F78, " ",'Team 1'!$G78) -> Lily | BH64: =CONCATENATE('Team 1'!$F79, " ",'Team 1'!$G79) -> Lorne | BI64: 45 | BJ64: Girls 13/U 4 x 50m Free | BK64: =CONCATENATE('Team 9'!$F78, " ",'Team 9'!$G78) | BL64: =CONCATENATE('Team 9'!$F79, " ",'Team 9'!$G79) | BM64: =CONCATENATE('Team 1'!$F78, " ",'Team 1'!$G78) -> Lily | BN64: =CONCATENATE('Team 1'!$F79, " ",'Team 1'!$G79) -> Lorne | BO64: 45 | BP64: Girls 13/U 4 x 50m Free | BQ64: =CONCATENATE('Team 10'!$F78, " ",'Team 10'!$G78) | BR64: =CONCATENATE('Team 10'!$F79, " ",'Team 10'!$G79) | BS64: =CONCATENATE('Team 1'!$F78, " ",'Team 1'!$G78) -> Lily | BT64: =CONCATENATE('Team 1'!$F79, " ",'Team 1'!$G79) -> Lorne
O65: =CONCATENATE('Team 1'!$F80, " ",'Team 1'!$G80) -> Francesca | P65: =CONCATENATE('Team 1'!$F81, " ",'Team 1'!$G81) -> Sophie | U65: =CONCATENATE('Team 2'!$F80, " ",'Team 2'!$G80) -> Emmie | V65: =CONCATENATE('Team 2'!$F81, " ",'Team 2'!$G81) -> Talia-Jay | W65: =CONCATENATE('Team 1'!$F80, " ",'Team 1'!$G80) -> Francesca | X65: =CONCATENATE('Team 1'!$F81, " ",'Team 1'!$G81) -> Sophie | AA65: =CONCATENATE('Team 3'!$F80, " ",'Team 3'!$G80) -> Jess | AB65: =CONCATENATE('Team 3'!$F81, " ",'Team 3'!$G81) -> Lily | AC65: =CONCATENATE('Team 1'!$F80, " ",'Team 1'!$G80) -> Francesca | AD65: =CONCATENATE('Team 1'!$F81, " ",'Team 1'!$G81) -> Sophie | AG65: =CONCATENATE('Team 4'!$F80, " ",'Team 4'!$G80) -> Sophie | AH65: =CONCATENATE('Team 4'!$F81, " ",'Team 4'!$G81) -> Holly | AI65: =CONCATENATE('Team 1'!$F80, " ",'Team 1'!$G80) -> Francesca | AJ65: =CONCATENATE('Team 1'!$F81, " ",'Team 1'!$G81) -> Sophie | AM65: =CONCATENATE('Team 5'!$F80, " ",'Team 5'!$G80) -> Rose | AN65: =CONCATENATE('Team 5'!$F81, " ",'Team 5'!$G81) -> Heaven | AO65: =CONCATENATE('Team 1'!$F80, " ",'Team 1'!$G80) -> Francesca | AP65: =CONCATENATE('Team 1'!$F81, " ",'Team 1'!$G81) -> Sophie | AS65: =CONCATENATE('Team 6'!$F80, " ",'Team 6'!$G80) -> Louise | AT65: =CONCATENATE('Team 6'!$F81, " ",'Team 6'!$G81) -> Lucy | AU65: =CONCATENATE('Team 1'!$F80, " ",'Team 1'!$G80) -> Francesca | AV65: =CONCATENATE('Team 1'!$F81, " ",'Team 1'!$G81) -> Sophie | AY65: =CONCATENATE('Team 7'!$F80, " ",'Team 7'!$G80) | AZ65: =CONCATENATE('Team 7'!$F81, " ",'Team 7'!$G81) | BA65: =CONCATENATE('Team 1'!$F80, " ",'Team 1'!$G80) -> Francesca | BB65: =CONCATENATE('Team 1'!$F81, " ",'Team 1'!$G81) -> Sophie | BE65: =CONCATENATE('Team 8'!$F80, " ",'Team 8'!$G80) | BF65: =CONCATENATE('Team 8'!$F81, " ",'Team 8'!$G81) | BG65: =CONCATENATE('Team 1'!$F80, " ",'Team 1'!$G80) -> Francesca | BH65: =CONCATENATE('Team 1'!$F81, " ",'Team 1'!$G81) -> Sophie | BK65: =CONCATENATE('Team 9'!$F80, " ",'Team 9'!$G80) | BL65: =CONCATENATE('Team 9'!$F81, " ",'Team 9'!$G81) | BM65: =CONCATENATE('Team 1'!$F80, " ",'Team 1'!$G80) -> Francesca | BN65: =CONCATENATE('Team 1'!$F81, " ",'Team 1'!$G81) -> Sophie | BQ65: =CONCATENATE('Team 10'!$F80, " ",'Team 10'!$G80) | BR65: =CONCATENATE('Team 10'!$F81, " ",'Team 10'!$G81) | BS65: =CONCATENATE('Team 1'!$F80, " ",'Team 1'!$G80) -> Francesca | BT65: =CONCATENATE('Team 1'!$F81, " ",'Team 1'!$G81) -> Sophie
K66: 46 | L66: Boys 13/U 4 x 50m Free | O66: =CONCATENATE('Team 1'!$F82, " ",'Team 1'!$G82) -> Henri | P66: =CONCATENATE('Team 1'!$F83, " ",'Team 1'!$G83) -> Sam | S66: 46 | T66: Boys 13/U 4 x 50m Free | U66: =CONCATENATE('Team 2'!$F82, " ",'Team 2'!$G82) -> Omar | V66: =CONCATENATE('Team 2'!$F83, " ",'Team 2'!$G83) -> Matthew | W66: =CONCATENATE('Team 1'!$F82, " ",'Team 1'!$G82) -> Henri | X66: =CONCATENATE('Team 1'!$F83, " ",'Team 1'!$G83) -> Sam | Y66: 46 | Z66: Boys 13/U 4 x 50m Free | AA66: =CONCATENATE('Team 3'!$F82, " ",'Team 3'!$G82) -> Michael | AB66: =CONCATENATE('Team 3'!$F83, " ",'Team 3'!$G83) -> Josh | AC66: =CONCATENATE('Team 1'!$F82, " ",'Team 1'!$G82) -> Henri | AD66: =CONCATENATE('Team 1'!$F83, " ",'Team 1'!$G83) -> Sam | AE66: 46 | AF66: Boys 13/U 4 x 50m Free | AG66: =CONCATENATE('Team 4'!$F82, " ",'Team 4'!$G82) -> Harry | AH66: =CONCATENATE('Team 4'!$F83, " ",'Team 4'!$G83) -> Matus | AI66: =CONCATENATE('Team 1'!$F82, " ",'Team 1'!$G82) -> Henri | AJ66: =CONCATENATE('Team 1'!$F83, " ",'Team 1'!$G83) -> Sam | AK66: 46 | AL66: Boys 13/U 4 x 50m Free | AM66: =CONCATENATE('Team 5'!$F82, " ",'Team 5'!$G82) -> Finley | AN66: =CONCATENATE('Team 5'!$F83, " ",'Team 5'!$G83) -> James | AO66: =CONCATENATE('Team 1'!$F82, " ",'Team 1'!$G82) -> Henri | AP66: =CONCATENATE('Team 1'!$F83, " ",'Team 1'!$G83) -> Sam | AQ66: 46 | AR66: Boys 13/U 4 x 50m Free | AS66: =CONCATENATE('Team 6'!$F82, " ",'Team 6'!$G82) -> Henry | AT66: =CONCATENATE('Team 6'!$F83, " ",'Team 6'!$G83) -> Oliver | AU66: =CONCATENATE('Team 1'!$F82, " ",'Team 1'!$G82) -> Henri | AV66: =CONCATENATE('Team 1'!$F83, " ",'Team 1'!$G83) -> Sam | AW66: 46 | AX66: Boys 13/U 4 x 50m Free | AY66: =CONCATENATE('Team 7'!$F82, " ",'Team 7'!$G82) | AZ66: =CONCATENATE('Team 7'!$F83, " ",'Team 7'!$G83) | BA66: =CONCATENATE('Team 1'!$F82, " ",'Team 1'!$G82) -> Henri | BB66: =CONCATENATE('Team 1'!$F83, " ",'Team 1'!$G83) -> Sam | BC66: 46 | BD66: Boys 13/U 4 x 50m Free | BE66: =CONCATENATE('Team 8'!$F82, " ",'Team 8'!$G82) | BF66: =CONCATENATE('Team 8'!$F83, " ",'Team 8'!$G83) | BG66: =CONCATENATE('Team 1'!$F82, " ",'Team 1'!$G82) -> Henri | BH66: =CONCATENATE('Team 1'!$F83, " ",'Team 1'!$G83) -> Sam | BI66: 46 | BJ66: Boys 13/U 4 x 50m Free | BK66: =CONCATENATE('Team 9'!$F82, " ",'Team 9'!$G82) | BL66: =CONCATENATE('Team 9'!$F83, " ",'Team 9'!$G83) | BM66: =CONCATENATE('Team 1'!$F82, " ",'Team 1'!$G82) -> Henri | BN66: =CONCATENATE('Team 1'!$F83, " ",'Team 1'!$G83) -> Sam | BO66: 46 | BP66: Boys 13/U 4 x 50m Free | BQ66: =CONCATENATE('Team 10'!$F82, " ",'Team 10'!$G82) | BR66: =CONCATENATE('Team 10'!$F83, " ",'Team 10'!$G83) | BS66: =CONCATENATE('Team 1'!$F82, " ",'Team 1'!$G82) -> Henri | BT66: =CONCATENATE('Team 1'!$F83, " ",'Team 1'!$G83) -> Sam
O67: =CONCATENATE('Team 1'!$F84, " ",'Team 1'!$G84) -> James | P67: =CONCATENATE('Team 1'!$F85, " ",'Team 1'!$G85) -> Finley | U67: =CONCATENATE('Team 2'!$F84, " ",'Team 2'!$G84) -> Masoud | V67: =CONCATENATE('Team 2'!$F85, " ",'Team 2'!$G85) -> Ethan | W67: =CONCATENATE('Team 1'!$F84, " ",'Team 1'!$G84) -> James | X67: =CONCATENATE('Team 1'!$F85, " ",'Team 1'!$G85) -> Finley | AA67: =CONCATENATE('Team 3'!$F84, " ",'Team 3'!$G84) -> Max | AB67: =CONCATENATE('Team 3'!$F85, " ",'Team 3'!$G85) -> Josh | AC67: =CONCATENATE('Team 1'!$F84, " ",'Team 1'!$G84) -> James | AD67: =CONCATENATE('Team 1'!$F85, " ",'Team 1'!$G85) -> Finley | AG67: =CONCATENATE('Team 4'!$F84, " ",'Team 4'!$G84) -> Max | AH67: =CONCATENATE('Team 4'!$F85, " ",'Team 4'!$G85) -> Leo | AI67: =CONCATENATE('Team 1'!$F84, " ",'Team 1'!$G84) -> James | AJ67: =CONCATENATE('Team 1'!$F85, " ",'Team 1'!$G85) -> Finley | AM67: =CONCATENATE('Team 5'!$F84, " ",'Team 5'!$G84) -> Connor | AN67: =CONCATENATE('Team 5'!$F85, " ",'Team 5'!$G85) -> McKenzie | AO67: =CONCATENATE('Team 1'!$F84, " ",'Team 1'!$G84) -> James | AP67: =CONCATENATE('Team 1'!$F85, " ",'Team 1'!$G85) -> Finley | AS67: =CONCATENATE('Team 6'!$F84, " ",'Team 6'!$G84) -> Harrison | AT67: =CONCATENATE('Team 6'!$F85, " ",'Team 6'!$G85) -> Benjamin | AU67: =CONCATENATE('Team 1'!$F84, " ",'Team 1'!$G84) -> James | AV67: =CONCATENATE('Team 1'!$F85, " ",'Team 1'!$G85) -> Finley | AY67: =CONCATENATE('Team 7'!$F84, " ",'Team 7'!$G84) | AZ67: =CONCATENATE('Team 7'!$F85, " ",'Team 7'!$G85) | BA67: =CONCATENATE('Team 1'!$F84, " ",'Team 1'!$G84) -> James | BB67: =CONCATENATE('Team 1'!$F85, " ",'Team 1'!$G85) -> Finley | BE67: =CONCATENATE('Team 8'!$F84, " ",'Team 8'!$G84) | BF67: =CONCATENATE('Team 8'!$F85, " ",'Team 8'!$G85) | BG67: =CONCATENATE('Team 1'!$F84, " ",'Team 1'!$G84) -> James | BH67: =CONCATENATE('Team 1'!$F85, " ",'Team 1'!$G85) -> Finley | BK67: =CONCATENATE('Team 9'!$F84, " ",'Team 9'!$G84) | BL67: =CONCATENATE('Team 9'!$F85, " ",'Team 9'!$G85) | BM67: =CONCATENATE('Team 1'!$F84, " ",'Team 1'!$G84) -> James | BN67: =CONCATENATE('Team 1'!$F85, " ",'Team 1'!$G85) -> Finley | BQ67: =CONCATENATE('Team 10'!$F84, " ",'Team 10'!$G84) | BR67: =CONCATENATE('Team 10'!$F85, " ",'Team 10'!$G85) | BS67: =CONCATENATE('Team 1'!$F84, " ",'Team 1'!$G84) -> James | BT67: =CONCATENATE('Team 1'!$F85, " ",'Team 1'!$G85) -> Finley
K68: 47 | L68: Girls 15/U 4 x 50m Medley | O68: =CONCATENATE('Team 1'!$F86, " ",'Team 1'!$G86) -> Isabella | P68: =CONCATENATE('Team 1'!$F87, " ",'Team 1'!$G87) -> Jessica | S68: 47 | T68: Girls 15/U 4 x 50m Medley | U68: =CONCATENATE('Team 2'!$F86, " ",'Team 2'!$G86) -> Rebecca | V68: =CONCATENATE('Team 2'!$F87, " ",'Team 2'!$G87) -> Chloe | W68: =CONCATENATE('Team 1'!$F86, " ",'Team 1'!$G86) -> Isabella | X68: =CONCATENATE('Team 1'!$F87, " ",'Team 1'!$G87) -> Jessica | Y68: 47 | Z68: Girls 15/U 4 x 50m Medley | AA68: =CONCATENATE('Team 3'!$F86, " ",'Team 3'!$G86) -> Eve | AB68: =CONCATENATE('Team 3'!$F87, " ",'Team 3'!$G87) -> Olivia | AC68: =CONCATENATE('Team 1'!$F86, " ",'Team 1'!$G86) -> Isabella | AD68: =CONCATENATE('Team 1'!$F87, " ",'Team 1'!$G87) -> Jessica | AE68: 47 | AF68: Girls 15/U 4 x 50m Medley | AG68: =CONCATENATE('Team 4'!$F86, " ",'Team 4'!$G86) -> Ellie | AH68: =CONCATENATE('Team 4'!$F87, " ",'Team 4'!$G87) -> Abbie | AI68: =CONCATENATE('Team 1'!$F86, " ",'Team 1'!$G86) -> Isabella | AJ68: =CONCATENATE('Team 1'!$F87, " ",'Team 1'!$G87) -> Jessica | AK68: 47 | AL68: Girls 15/U 4 x 50m Medley | AM68: =CONCATENATE('Team 5'!$F86, " ",'Team 5'!$G86) -> Jessica | AN68: =CONCATENATE('Team 5'!$F87, " ",'Team 5'!$G87) -> Merewyn | AO68: =CONCATENATE('Team 1'!$F86, " ",'Team 1'!$G86) -> Isabella | AP68: =CONCATENATE('Team 1'!$F87, " ",'Team 1'!$G87) -> Jessica | AQ68: 47 | AR68: Girls 15/U 4 x 50m Medley | AS68: =CONCATENATE('Team 6'!$F86, " ",'Team 6'!$G86) -> Morgan | AT68: =CONCATENATE('Team 6'!$F87, " ",'Team 6'!$G87) -> Georgina | AU68: =CONCATENATE('Team 1'!$F86, " ",'Team 1'!$G86) -> Isabella | AV68: =CONCATENATE('Team 1'!$F87, " ",'Team 1'!$G87) -> Jessica | AW68: 47 | AX68: Girls 15/U 4 x 50m Medley | AY68: =CONCATENATE('Team 7'!$F86, " ",'Team 7'!$G86) | AZ68: =CONCATENATE('Team 7'!$F87, " ",'Team 7'!$G87) | BA68: =CONCATENATE('Team 1'!$F86, " ",'Team 1'!$G86) -> Isabella | BB68: =CONCATENATE('Team 1'!$F87, " ",'Team 1'!$G87) -> Jessica | BC68: 47 | BD68: Girls 15/U 4 x 50m Medley | BE68: =CONCATENATE('Team 8'!$F86, " ",'Team 8'!$G86) | BF68: =CONCATENATE('Team 8'!$F87, " ",'Team 8'!$G87) | BG68: =CONCATENATE('Team 1'!$F86, " ",'Team 1'!$G86) -> Isabella | BH68: =CONCATENATE('Team 1'!$F87, " ",'Team 1'!$G87) -> Jessica | BI68: 47 | BJ68: Girls 15/U 4 x 50m Medley | BK68: =CONCATENATE('Team 9'!$F86, " ",'Team 9'!$G86) | BL68: =CONCATENATE('Team 9'!$F87, " ",'Team 9'!$G87) | BM68: =CONCATENATE('Team 1'!$F86, " ",'Team 1'!$G86) -> Isabella | BN68: =CONCATENATE('Team 1'!$F87, " ",'Team 1'!$G87) -> Jessica | BO68: 47 | BP68: Girls 15/U 4 x 50m Medley | BQ68: =CONCATENATE('Team 10'!$F86, " ",'Team 10'!$G86) | BR68: =CONCATENATE('Team 10'!$F87, " ",'Team 10'!$G87) | BS68: =CONCATENATE('Team 1'!$F86, " ",'Team 1'!$G86) -> Isabella | BT68: =CONCATENATE('Team 1'!$F87, " ",'Team 1'!$G87) -> Jessica
O69: =CONCATENATE('Team 1'!$F88, " ",'Team 1'!$G88) -> Rebecca | P69: =CONCATENATE('Team 1'!$F89, " ",'Team 1'!$G89) -> Julianna | U69: =CONCATENATE('Team 2'!$F88, " ",'Team 2'!$G88) -> Ella | V69: =CONCATENATE('Team 2'!$F89, " ",'Team 2'!$G89) -> Jessica-May | W69: =CONCATENATE('Team 1'!$F88, " ",'Team 1'!$G88) -> Rebecca | X69: =CONCATENATE('Team 1'!$F89, " ",'Team 1'!$G89) -> Julianna | AA69: =CONCATENATE('Team 3'!$F88, " ",'Team 3'!$G88) -> Iona | AB69: =CONCATENATE('Team 3'!$F89, " ",'Team 3'!$G89) -> Kiara | AC69: =CONCATENATE('Team 1'!$F88, " ",'Team 1'!$G88) -> Rebecca | AD69: =CONCATENATE('Team 1'!$F89, " ",'Team 1'!$G89) -> Julianna | AG69: =CONCATENATE('Team 4'!$F88, " ",'Team 4'!$G88) -> Lottie | AH69: =CONCATENATE('Team 4'!$F89, " ",'Team 4'!$G89) -> Lottie | AI69: =CONCATENATE('Team 1'!$F88, " ",'Team 1'!$G88) -> Rebecca | AJ69: =CONCATENATE('Team 1'!$F89, " ",'Team 1'!$G89) -> Julianna | AM69: =CONCATENATE('Team 5'!$F88, " ",'Team 5'!$G88) -> Emma | AN69: =CONCATENATE('Team 5'!$F89, " ",'Team 5'!$G89) -> Holly | AO69: =CONCATENATE('Team 1'!$F88, " ",'Team 1'!$G88) -> Rebecca | AP69: =CONCATENATE('Team 1'!$F89, " ",'Team 1'!$G89) -> Julianna | AS69: =CONCATENATE('Team 6'!$F88, " ",'Team 6'!$G88) -> Orla | AT69: =CONCATENATE('Team 6'!$F89, " ",'Team 6'!$G89) -> Isabel | AU69: =CONCATENATE('Team 1'!$F88, " ",'Team 1'!$G88) -> Rebecca | AV69: =CONCATENATE('Team 1'!$F89, " ",'Team 1'!$G89) -> Julianna | AY69: =CONCATENATE('Team 7'!$F88, " ",'Team 7'!$G88) | AZ69: =CONCATENATE('Team 7'!$F89, " ",'Team 7'!$G89) | BA69: =CONCATENATE('Team 1'!$F88, " ",'Team 1'!$G88) -> Rebecca | BB69: =CONCATENATE('Team 1'!$F89, " ",'Team 1'!$G89) -> Julianna | BE69: =CONCATENATE('Team 8'!$F88, " ",'Team 8'!$G88) | BF69: =CONCATENATE('Team 8'!$F89, " ",'Team 8'!$G89) | BG69: =CONCATENATE('Team 1'!$F88, " ",'Team 1'!$G88) -> Rebecca | BH69: =CONCATENATE('Team 1'!$F89, " ",'Team 1'!$G89) -> Julianna | BK69: =CONCATENATE('Team 9'!$F88, " ",'Team 9'!$G88) | BL69: =CONCATENATE('Team 9'!$F89, " ",'Team 9'!$G89) | BM69: =CONCATENATE('Team 1'!$F88, " ",'Team 1'!$G88) -> Rebecca | BN69: =CONCATENATE('Team 1'!$F89, " ",'Team 1'!$G89) -> Julianna | BQ69: =CONCATENATE('Team 10'!$F88, " ",'Team 10'!$G88) | BR69: =CONCATENATE('Team 10'!$F89, " ",'Team 10'!$G89) | BS69: =CONCATENATE('Team 1'!$F88, " ",'Team 1'!$G88) -> Rebecca | BT69: =CONCATENATE('Team 1'!$F89, " ",'Team 1'!$G89) -> Julianna
K70: 48 | L70: Boys 15/U 4 x 50m medley | O70: =CONCATENATE('Team 1'!$F90, " ",'Team 1'!$G90) -> Ben | P70: =CONCATENATE('Team 1'!$F91, " ",'Team 1'!$G91) -> Henri | S70: 48 | T70: Boys 15/U 4 x 50m medley | U70: =CONCATENATE('Team 2'!$F90, " ",'Team 2'!$G90) -> Thomas | V70: =CONCATENATE('Team 2'!$F91, " ",'Team 2'!$G91) -> Cameron | W70: =CONCATENATE('Team 1'!$F90, " ",'Team 1'!$G90) -> Ben | X70: =CONCATENATE('Team 1'!$F91, " ",'Team 1'!$G91) -> Henri | Y70: 48 | Z70: Boys 15/U 4 x 50m medley | AA70: =CONCATENATE('Team 3'!$F90, " ",'Team 3'!$G90) -> Fabian | AB70: =CONCATENATE('Team 3'!$F91, " ",'Team 3'!$G91) -> James | AC70: =CONCATENATE('Team 1'!$F90, " ",'Team 1'!$G90) -> Ben | AD70: =CONCATENATE('Team 1'!$F91, " ",'Team 1'!$G91) -> Henri | AE70: 48 | AF70: Boys 15/U 4 x 50m medley | AG70: =CONCATENATE('Team 4'!$F90, " ",'Team 4'!$G90) -> Marcus | AH70: =CONCATENATE('Team 4'!$F91, " ",'Team 4'!$G91) -> Joshua | AI70: =CONCATENATE('Team 1'!$F90, " ",'Team 1'!$G90) -> Ben | AJ70: =CONCATENATE('Team 1'!$F91, " ",'Team 1'!$G91) -> Henri | AK70: 48 | AL70: Boys 15/U 4 x 50m medley | AM70: =CONCATENATE('Team 5'!$F90, " ",'Team 5'!$G90) -> William | AN70: =CONCATENATE('Team 5'!$F91, " ",'Team 5'!$G91) -> Luke | AO70: =CONCATENATE('Team 1'!$F90, " ",'Team 1'!$G90) -> Ben | AP70: =CONCATENATE('Team 1'!$F91, " ",'Team 1'!$G91) -> Henri | AQ70: 48 | AR70: Boys 15/U 4 x 50m medley | AS70: =CONCATENATE('Team 6'!$F90, " ",'Team 6'!$G90) -> Ethan | AT70: =CONCATENATE('Team 6'!$F91, " ",'Team 6'!$G91) -> Owen | AU70: =CONCATENATE('Team 1'!$F90, " ",'Team 1'!$G90) -> Ben | AV70: =CONCATENATE('Team 1'!$F91, " ",'Team 1'!$G91) -> Henri | AW70: 48 | AX70: Boys 15/U 4 x 50m medley | AY70: =CONCATENATE('Team 7'!$F90, " ",'Team 7'!$G90) | AZ70: =CONCATENATE('Team 7'!$F91, " ",'Team 7'!$G91) | BA70: =CONCATENATE('Team 1'!$F90, " ",'Team 1'!$G90) -> Ben | BB70: =CONCATENATE('Team 1'!$F91, " ",'Team 1'!$G91) -> Henri | BC70: 48 | BD70: Boys 15/U 4 x 50m medley | BE70: =CONCATENATE('Team 8'!$F90, " ",'Team 8'!$G90) | BF70: =CONCATENATE('Team 8'!$F91, " ",'Team 8'!$G91) | BG70: =CONCATENATE('Team 1'!$F90, " ",'Team 1'!$G90) -> Ben | BH70: =CONCATENATE('Team 1'!$F91, " ",'Team 1'!$G91) -> Henri | BI70: 48 | BJ70: Boys 15/U 4 x 50m medley | BK70: =CONCATENATE('Team 9'!$F90, " ",'Team 9'!$G90) | BL70: =CONCATENATE('Team 9'!$F91, " ",'Team 9'!$G91) | BM70: =CONCATENATE('Team 1'!$F90, " ",'Team 1'!$G90) -> Ben | BN70: =CONCATENATE('Team 1'!$F91, " ",'Team 1'!$G91) -> Henri | BO70: 48 | BP70: Boys 15/U 4 x 50m medley | BQ70: =CONCATENATE('Team 10'!$F90, " ",'Team 10'!$G90) | BR70: =CONCATENATE('Team 10'!$F91, " ",'Team 10'!$G91) | BS70: =CONCATENATE('Team 1'!$F90, " ",'Team 1'!$G90) -> Ben | BT70: =CONCATENATE('Team 1'!$F91, " ",'Team 1'!$G91) -> Henri
O71: =CONCATENATE('Team 1'!$F92, " ",'Team 1'!$G92) -> Bradley | P71: =CONCATENATE('Team 1'!$F93, " ",'Team 1'!$G93) -> Isaac | U71: =CONCATENATE('Team 2'!$F92, " ",'Team 2'!$G92) -> Patrick | V71: =CONCATENATE('Team 2'!$F93, " ",'Team 2'!$G93) -> Jevon | W71: =CONCATENATE('Team 1'!$F92, " ",'Team 1'!$G92) -> Bradley | X71: =CONCATENATE('Team 1'!$F93, " ",'Team 1'!$G93) -> Isaac | AA71: =CONCATENATE('Team 3'!$F92, " ",'Team 3'!$G92) -> Connor | AB71: =CONCATENATE('Team 3'!$F93, " ",'Team 3'!$G93) -> Matthew | AC71: =CONCATENATE('Team 1'!$F92, " ",'Team 1'!$G92) -> Bradley | AD71: =CONCATENATE('Team 1'!$F93, " ",'Team 1'!$G93) -> Isaac | AG71: =CONCATENATE('Team 4'!$F92, " ",'Team 4'!$G92) -> Tyler | AH71: =CONCATENATE('Team 4'!$F93, " ",'Team 4'!$G93) -> Jamie | AI71: =CONCATENATE('Team 1'!$F92, " ",'Team 1'!$G92) -> Bradley | AJ71: =CONCATENATE('Team 1'!$F93, " ",'Team 1'!$G93) -> Isaac | AM71: =CONCATENATE('Team 5'!$F92, " ",'Team 5'!$G92) -> Andrew | AN71: =CONCATENATE('Team 5'!$F93, " ",'Team 5'!$G93) -> Gabriel | AO71: =CONCATENATE('Team 1'!$F92, " ",'Team 1'!$G92) -> Bradley | AP71: =CONCATENATE('Team 1'!$F93, " ",'Team 1'!$G93) -> Isaac | AS71: =CONCATENATE('Team 6'!$F92, " ",'Team 6'!$G92) -> Thomas | AT71: =CONCATENATE('Team 6'!$F93, " ",'Team 6'!$G93) -> Jamie | AU71: =CONCATENATE('Team 1'!$F92, " ",'Team 1'!$G92) -> Bradley | AV71: =CONCATENATE('Team 1'!$F93, " ",'Team 1'!$G93) -> Isaac | AY71: =CONCATENATE('Team 7'!$F92, " ",'Team 7'!$G92) | AZ71: =CONCATENATE('Team 7'!$F93, " ",'Team 7'!$G93) | BA71: =CONCATENATE('Team 1'!$F92, " ",'Team 1'!$G92) -> Bradley | BB71: =CONCATENATE('Team 1'!$F93, " ",'Team 1'!$G93) -> Isaac | BE71: =CONCATENATE('Team 8'!$F92, " ",'Team 8'!$G92) | BF71: =CONCATENATE('Team 8'!$F93, " ",'Team 8'!$G93) | BG71: =CONCATENATE('Team 1'!$F92, " ",'Team 1'!$G92) -> Bradley | BH71: =CONCATENATE('Team 1'!$F93, " ",'Team 1'!$G93) -> Isaac | BK71: =CONCATENATE('Team 9'!$F92, " ",'Team 9'!$G92) | BL71: =CONCATENATE('Team 9'!$F93, " ",'Team 9'!$G93) | BM71: =CONCATENATE('Team 1'!$F92, " ",'Team 1'!$G92) -> Bradley | BN71: =CONCATENATE('Team 1'!$F93, " ",'Team 1'!$G93) -> Isaac | BQ71: =CONCATENATE('Team 10'!$F92, " ",'Team 10'!$G92) | BR71: =CONCATENATE('Team 10'!$F93, " ",'Team 10'!$G93) | BS71: =CONCATENATE('Team 1'!$F92, " ",'Team 1'!$G92) -> Bradley | BT71: =CONCATENATE('Team 1'!$F93, " ",'Team 1'!$G93) -> Isaac
K72: 49 | L72: Girls Open 6 x 50m Free | O72: =CONCATENATE('Team 1'!$F94, " ",'Team 1'!$G94) -> India | P72: =CONCATENATE('Team 1'!$F95, " ",'Team 1'!$G95) -> Jessica | S72: 49 | T72: Girls Open 6 x 50m Free | U72: =CONCATENATE('Team 2'!$F94, " ",'Team 2'!$G94) -> Ella | V72: =CONCATENATE('Team 2'!$F95, " ",'Team 2'!$G95) -> Freya | W72: =CONCATENATE('Team 1'!$F94, " ",'Team 1'!$G94) -> India | X72: =CONCATENATE('Team 1'!$F95, " ",'Team 1'!$G95) -> Jessica | Y72: 49 | Z72: Girls Open 6 x 50m Free | AA72: =CONCATENATE('Team 3'!$F94, " ",'Team 3'!$G94) -> Mollie | AB72: =CONCATENATE('Team 3'!$F95, " ",'Team 3'!$G95) -> Kenzie | AC72: =CONCATENATE('Team 1'!$F94, " ",'Team 1'!$G94) -> India | AD72: =CONCATENATE('Team 1'!$F95, " ",'Team 1'!$G95) -> Jessica | AE72: 49 | AF72: Girls Open 6 x 50m Free | AG72: =CONCATENATE('Team 4'!$F94, " ",'Team 4'!$G94) -> Kaitlyn | AH72: =CONCATENATE('Team 4'!$F95, " ",'Team 4'!$G95) -> Rhiannon | AI72: =CONCATENATE('Team 1'!$F94, " ",'Team 1'!$G94) -> India | AJ72: =CONCATENATE('Team 1'!$F95, " ",'Team 1'!$G95) -> Jessica | AK72: 49 | AL72: Girls Open 6 x 50m Free | AM72: =CONCATENATE('Team 5'!$F94, " ",'Team 5'!$G94) -> Jessica | AN72: =CONCATENATE('Team 5'!$F95, " ",'Team 5'!$G95) -> Amy | AO72: =CONCATENATE('Team 1'!$F94, " ",'Team 1'!$G94) -> India | AP72: =CONCATENATE('Team 1'!$F95, " ",'Team 1'!$G95) -> Jessica | AQ72: 49 | AR72: Girls Open 6 x 50m Free | AS72: =CONCATENATE('Team 6'!$F94, " ",'Team 6'!$G94) -> Orla | AT72: =CONCATENATE('Team 6'!$F95, " ",'Team 6'!$G95) -> Hannah | AU72: =CONCATENATE('Team 1'!$F94, " ",'Team 1'!$G94) -> India | AV72: =CONCATENATE('Team 1'!$F95, " ",'Team 1'!$G95) -> Jessica | AW72: 49 | AX72: Girls Open 6 x 50m Free | AY72: =CONCATENATE('Team 7'!$F94, " ",'Team 7'!$G94) | AZ72: =CONCATENATE('Team 7'!$F95, " ",'Team 7'!$G95) | BA72: =CONCATENATE('Team 1'!$F94, " ",'Team 1'!$G94) -> India | BB72: =CONCATENATE('Team 1'!$F95, " ",'Team 1'!$G95) -> Jessica | BC72: 49 | BD72: Girls Open 6 x 50m Free | BE72: =CONCATENATE('Team 8'!$F94, " ",'Team 8'!$G94) | BF72: =CONCATENATE('Team 8'!$F95, " ",'Team 8'!$G95) | BG72: =CONCATENATE('Team 1'!$F94, " ",'Team 1'!$G94) -> India | BH72: =CONCATENATE('Team 1'!$F95, " ",'Team 1'!$G95) -> Jessica | BI72: 49 | BJ72: Girls Open 6 x 50m Free | BK72: =CONCATENATE('Team 9'!$F94, " ",'Team 9'!$G94) | BL72: =CONCATENATE('Team 9'!$F95, " ",'Team 9'!$G95) | BM72: =CONCATENATE('Team 1'!$F94, " ",'Team 1'!$G94) -> India | BN72: =CONCATENATE('Team 1'!$F95, " ",'Team 1'!$G95) -> Jessica | BO72: 49 | BP72: Girls Open 6 x 50m Free | BQ72: =CONCATENATE('Team 10'!$F94, " ",'Team 10'!$G94) | BR72: =CONCATENATE('Team 10'!$F95, " ",'Team 10'!$G95) | BS72: =CONCATENATE('Team 1'!$F94, " ",'Team 1'!$G94) -> India | BT72: =CONCATENATE('Team 1'!$F95, " ",'Team 1'!$G95) -> Jessica
O73: =CONCATENATE('Team 1'!$F96, " ",'Team 1'!$G96) -> Rebecca | P73: =CONCATENATE('Team 1'!$F97, " ",'Team 1'!$G97) -> Julianna | U73: =CONCATENATE('Team 2'!$F96, " ",'Team 2'!$G96) -> Chloe | V73: =CONCATENATE('Team 2'!$F97, " ",'Team 2'!$G97) -> Katie | W73: =CONCATENATE('Team 1'!$F96, " ",'Team 1'!$G96) -> Rebecca | X73: =CONCATENATE('Team 1'!$F97, " ",'Team 1'!$G97) -> Julianna | AA73: =CONCATENATE('Team 3'!$F96, " ",'Team 3'!$G96) -> Eve | AB73: =CONCATENATE('Team 3'!$F97, " ",'Team 3'!$G97) -> Mia | AC73: =CONCATENATE('Team 1'!$F96, " ",'Team 1'!$G96) -> Rebecca | AD73: =CONCATENATE('Team 1'!$F97, " ",'Team 1'!$G97) -> Julianna | AG73: =CONCATENATE('Team 4'!$F96, " ",'Team 4'!$G96) -> Aiyana | AH73: =CONCATENATE('Team 4'!$F97, " ",'Team 4'!$G97) -> Grace | AI73: =CONCATENATE('Team 1'!$F96, " ",'Team 1'!$G96) -> Rebecca | AJ73: =CONCATENATE('Team 1'!$F97, " ",'Team 1'!$G97) -> Julianna | AM73: =CONCATENATE('Team 5'!$F96, " ",'Team 5'!$G96) -> Lauren | AN73: =CONCATENATE('Team 5'!$F97, " ",'Team 5'!$G97) -> Merewyn | AO73: =CONCATENATE('Team 1'!$F96, " ",'Team 1'!$G96) -> Rebecca | AP73: =CONCATENATE('Team 1'!$F97, " ",'Team 1'!$G97) -> Julianna | AS73: =CONCATENATE('Team 6'!$F96, " ",'Team 6'!$G96) -> Georgina | AT73: =CONCATENATE('Team 6'!$F97, " ",'Team 6'!$G97) -> Tia | AU73: =CONCATENATE('Team 1'!$F96, " ",'Team 1'!$G96) -> Rebecca | AV73: =CONCATENATE('Team 1'!$F97, " ",'Team 1'!$G97) -> Julianna | AY73: =CONCATENATE('Team 7'!$F96, " ",'Team 7'!$G96) | AZ73: =CONCATENATE('Team 7'!$F97, " ",'Team 7'!$G97) | BA73: =CONCATENATE('Team 1'!$F96, " ",'Team 1'!$G96) -> Rebecca | BB73: =CONCATENATE('Team 1'!$F97, " ",'Team 1'!$G97) -> Julianna | BE73: =CONCATENATE('Team 8'!$F96, " ",'Team 8'!$G96) | BF73: =CONCATENATE('Team 8'!$F97, " ",'Team 8'!$G97) | BG73: =CONCATENATE('Team 1'!$F96, " ",'Team 1'!$G96) -> Rebecca | BH73: =CONCATENATE('Team 1'!$F97, " ",'Team 1'!$G97) -> Julianna | BK73: =CONCATENATE('Team 9'!$F96, " ",'Team 9'!$G96) | BL73: =CONCATENATE('Team 9'!$F97, " ",'Team 9'!$G97) | BM73: =CONCATENATE('Team 1'!$F96, " ",'Team 1'!$G96) -> Rebecca | BN73: =CONCATENATE('Team 1'!$F97, " ",'Team 1'!$G97) -> Julianna | BQ73: =CONCATENATE('Team 10'!$F96, " ",'Team 10'!$G96) | BR73: =CONCATENATE('Team 10'!$F97, " ",'Team 10'!$G97) | BS73: =CONCATENATE('Team 1'!$F96, " ",'Team 1'!$G96) -> Rebecca | BT73: =CONCATENATE('Team 1'!$F97, " ",'Team 1'!$G97) -> Julianna
O74: =CONCATENATE('Team 1'!$F98, " ",'Team 1'!$G98) -> Rebecca | P74: =CONCATENATE('Team 1'!$F99, " ",'Team 1'!$G99) -> Hannah | U74: =CONCATENATE('Team 2'!$F98, " ",'Team 2'!$G98) -> Jessica-May | V74: =CONCATENATE('Team 2'!$F99, " ",'Team 2'!$G99) -> Rebecca | W74: =CONCATENATE('Team 1'!$F98, " ",'Team 1'!$G98) -> Rebecca | X74: =CONCATENATE('Team 1'!$F99, " ",'Team 1'!$G99) -> Hannah | AA74: =CONCATENATE('Team 3'!$F98, " ",'Team 3'!$G98) -> Olivia | AB74: =CONCATENATE('Team 3'!$F99, " ",'Team 3'!$G99) -> Amelia | AC74: =CONCATENATE('Team 1'!$F98, " ",'Team 1'!$G98) -> Rebecca | AD74: =CONCATENATE('Team 1'!$F99, " ",'Team 1'!$G99) -> Hannah | AG74: =CONCATENATE('Team 4'!$F98, " ",'Team 4'!$G98) -> Charlotte | AH74: =CONCATENATE('Team 4'!$F99, " ",'Team 4'!$G99) -> Kaelah | AI74: =CONCATENATE('Team 1'!$F98, " ",'Team 1'!$G98) -> Rebecca | AJ74: =CONCATENATE('Team 1'!$F99, " ",'Team 1'!$G99) -> Hannah | AM74: =CONCATENATE('Team 5'!$F98, " ",'Team 5'!$G98) -> Emma | AN74: =CONCATENATE('Team 5'!$F99, " ",'Team 5'!$G99) -> Holly | AO74: =CONCATENATE('Team 1'!$F98, " ",'Team 1'!$G98) -> Rebecca | AP74: =CONCATENATE('Team 1'!$F99, " ",'Team 1'!$G99) -> Hannah | AS74: =CONCATENATE('Team 6'!$F98, " ",'Team 6'!$G98) -> Isabel | AT74: =CONCATENATE('Team 6'!$F99, " ",'Team 6'!$G99) -> Emily | AU74: =CONCATENATE('Team 1'!$F98, " ",'Team 1'!$G98) -> Rebecca | AV74: =CONCATENATE('Team 1'!$F99, " ",'Team 1'!$G99) -> Hannah | AY74: =CONCATENATE('Team 7'!$F98, " ",'Team 7'!$G98) | AZ74: =CONCATENATE('Team 7'!$F99, " ",'Team 7'!$G99) | BA74: =CONCATENATE('Team 1'!$F98, " ",'Team 1'!$G98) -> Rebecca | BB74: =CONCATENATE('Team 1'!$F99, " ",'Team 1'!$G99) -> Hannah | BE74: =CONCATENATE('Team 8'!$F98, " ",'Team 8'!$G98) | BF74: =CONCATENATE('Team 8'!$F99, " ",'Team 8'!$G99) | BG74: =CONCATENATE('Team 1'!$F98, " ",'Team 1'!$G98) -> Rebecca | BH74: =CONCATENATE('Team 1'!$F99, " ",'Team 1'!$G99) -> Hannah | BK74: =CONCATENATE('Team 9'!$F98, " ",'Team 9'!$G98) | BL74: =CONCATENATE('Team 9'!$F99, " ",'Team 9'!$G99) | BM74: =CONCATENATE('Team 1'!$F98, " ",'Team 1'!$G98) -> Rebecca | BN74: =CONCATENATE('Team 1'!$F99, " ",'Team 1'!$G99) -> Hannah | BQ74: =CONCATENATE('Team 10'!$F98, " ",'Team 10'!$G98) | BR74: =CONCATENATE('Team 10'!$F99, " ",'Team 10'!$G99) | BS74: =CONCATENATE('Team 1'!$F98, " ",'Team 1'!$G98) -> Rebecca | BT74: =CONCATENATE('Team 1'!$F99, " ",'Team 1'!$G99) -> Hannah
K75: 50 | L75: Boys Open 6 x 50m Free | O75: =CONCATENATE('Team 1'!$F100, " ",'Team 1'!$G100) -> Harry | P75: =CONCATENATE('Team 1'!$F101, " ",'Team 1'!$G101) -> James | S75: 50 | T75: Boys Open 6 x 50m Free | U75: =CONCATENATE('Team 2'!$F100, " ",'Team 2'!$G100) -> Samuel | V75: =CONCATENATE('Team 2'!$F101, " ",'Team 2'!$G101) -> Jack | W75: =CONCATENATE('Team 1'!$F100, " ",'Team 1'!$G100) -> Harry | X75: =CONCATENATE('Team 1'!$F101, " ",'Team 1'!$G101) -> James | Y75: 50 | Z75: Boys Open 6 x 50m Free | AA75: =CONCATENATE('Team 3'!$F100, " ",'Team 3'!$G100) -> Myles | AB75: =CONCATENATE('Team 3'!$F101, " ",'Team 3'!$G101) -> Tom | AC75: =CONCATENATE('Team 1'!$F100, " ",'Team 1'!$G100) -> Harry | AD75: =CONCATENATE('Team 1'!$F101, " ",'Team 1'!$G101) -> James | AE75: 50 | AF75: Boys Open 6 x 50m Free | AG75: =CONCATENATE('Team 4'!$F100, " ",'Team 4'!$G100) -> Miles | AH75: =CONCATENATE('Team 4'!$F101, " ",'Team 4'!$G101) -> Ryan | AI75: =CONCATENATE('Team 1'!$F100, " ",'Team 1'!$G100) -> Harry | AJ75: =CONCATENATE('Team 1'!$F101, " ",'Team 1'!$G101) -> James | AK75: 50 | AL75: Boys Open 6 x 50m Free | AM75: =CONCATENATE('Team 5'!$F100, " ",'Team 5'!$G100) -> Christopher | AN75: =CONCATENATE('Team 5'!$F101, " ",'Team 5'!$G101) -> Kris | AO75: =CONCATENATE('Team 1'!$F100, " ",'Team 1'!$G100) -> Harry | AP75: =CONCATENATE('Team 1'!$F101, " ",'Team 1'!$G101) -> James | AQ75: 50 | AR75: Boys Open 6 x 50m Free | AS75: =CONCATENATE('Team 6'!$F100, " ",'Team 6'!$G100) -> Jack | AT75: =CONCATENATE('Team 6'!$F101, " ",'Team 6'!$G101) -> Thomas | AU75: =CONCATENATE('Team 1'!$F100, " ",'Team 1'!$G100) -> Harry | AV75: =CONCATENATE('Team 1'!$F101, " ",'Team 1'!$G101) -> James | AW75: 50 | AX75: Boys Open 6 x 50m Free | AY75: =CONCATENATE('Team 7'!$F100, " ",'Team 7'!$G100) | AZ75: =CONCATENATE('Team 7'!$F101, " ",'Team 7'!$G101) | BA75: =CONCATENATE('Team 1'!$F100, " ",'Team 1'!$G100) -> Harry | BB75: =CONCATENATE('Team 1'!$F101, " ",'Team 1'!$G101) -> James | BC75: 50 | BD75: Boys Open 6 x 50m Free | BE75: =CONCATENATE('Team 8'!$F100, " ",'Team 8'!$G100) | BF75: =CONCATENATE('Team 8'!$F101, " ",'Team 8'!$G101) | BG75: =CONCATENATE('Team 1'!$F100, " ",'Team 1'!$G100) -> Harry | BH75: =CONCATENATE('Team 1'!$F101, " ",'Team 1'!$G101) -> James | BI75: 50 | BJ75: Boys Open 6 x 50m Free | BK75: =CONCATENATE('Team 9'!$F100, " ",'Team 9'!$G100) | BL75: =CONCATENATE('Team 9'!$F101, " ",'Team 9'!$G101) | BM75: =CONCATENATE('Team 1'!$F100, " ",'Team 1'!$G100) -> Harry | BN75: =CONCATENATE('Team 1'!$F101, " ",'Team 1'!$G101) -> James | BO75: 50 | BP75: Boys Open 6 x 50m Free | BQ75: =CONCATENATE('Team 10'!$F100, " ",'Team 10'!$G100) | BR75: =CONCATENATE('Team 10'!$F101, " ",'Team 10'!$G101) | BS75: =CONCATENATE('Team 1'!$F100, " ",'Team 1'!$G100) -> Harry | BT75: =CONCATENATE('Team 1'!$F101, " ",'Team 1'!$G101) -> James
O76: =CONCATENATE('Team 1'!$F102, " ",'Team 1'!$G102) -> Sam | P76: =CONCATENATE('Team 1'!$F103, " ",'Team 1'!$G103) -> Tom | U76: =CONCATENATE('Team 2'!$F102, " ",'Team 2'!$G102) -> Aaron | V76: =CONCATENATE('Team 2'!$F103, " ",'Team 2'!$G103) -> Matthew | W76: =CONCATENATE('Team 1'!$F102, " ",'Team 1'!$G102) -> Sam | X76: =CONCATENATE('Team 1'!$F103, " ",'Team 1'!$G103) -> Tom | AA76: =CONCATENATE('Team 3'!$F102, " ",'Team 3'!$G102) -> Jamie | AB76: =CONCATENATE('Team 3'!$F103, " ",'Team 3'!$G103) -> Harry | AC76: =CONCATENATE('Team 1'!$F102, " ",'Team 1'!$G102) -> Sam | AD76: =CONCATENATE('Team 1'!$F103, " ",'Team 1'!$G103) -> Tom | AG76: =CONCATENATE('Team 4'!$F102, " ",'Team 4'!$G102) -> Matthew | AH76: =CONCATENATE('Team 4'!$F103, " ",'Team 4'!$G103) -> Marcus | AI76: =CONCATENATE('Team 1'!$F102, " ",'Team 1'!$G102) -> Sam | AJ76: =CONCATENATE('Team 1'!$F103, " ",'Team 1'!$G103) -> Tom | AM76: =CONCATENATE('Team 5'!$F102, " ",'Team 5'!$G102) -> Luke | AN76: =CONCATENATE('Team 5'!$F103, " ",'Team 5'!$G103) -> Tobias | AO76: =CONCATENATE('Team 1'!$F102, " ",'Team 1'!$G102) -> Sam | AP76: =CONCATENATE('Team 1'!$F103, " ",'Team 1'!$G103) -> Tom | AS76: =CONCATENATE('Team 6'!$F102, " ",'Team 6'!$G102) -> Joe | AT76: =CONCATENATE('Team 6'!$F103, " ",'Team 6'!$G103) -> Max | AU76: =CONCATENATE('Team 1'!$F102, " ",'Team 1'!$G102) -> Sam | AV76: =CONCATENATE('Team 1'!$F103, " ",'Team 1'!$G103) -> Tom | AY76: =CONCATENATE('Team 7'!$F102, " ",'Team 7'!$G102) | AZ76: =CONCATENATE('Team 7'!$F103, " ",'Team 7'!$G103) | BA76: =CONCATENATE('Team 1'!$F102, " ",'Team 1'!$G102) -> Sam | BB76: =CONCATENATE('Team 1'!$F103, " ",'Team 1'!$G103) -> Tom | BE76: =CONCATENATE('Team 8'!$F102, " ",'Team 8'!$G102) | BF76: =CONCATENATE('Team 8'!$F103, " ",'Team 8'!$G103) | BG76: =CONCATENATE('Team 1'!$F102, " ",'Team 1'!$G102) -> Sam | BH76: =CONCATENATE('Team 1'!$F103, " ",'Team 1'!$G103) -> Tom | BK76: =CONCATENATE('Team 9'!$F102, " ",'Team 9'!$G102) | BL76: =CONCATENATE('Team 9'!$F103, " ",'Team 9'!$G103) | BM76: =CONCATENATE('Team 1'!$F102, " ",'Team 1'!$G102) -> Sam | BN76: =CONCATENATE('Team 1'!$F103, " ",'Team 1'!$G103) -> Tom | BQ76: =CONCATENATE('Team 10'!$F102, " ",'Team 10'!$G102) | BR76: =CONCATENATE('Team 10'!$F103, " ",'Team 10'!$G103) | BS76: =CONCATENATE('Team 1'!$F102, " ",'Team 1'!$G102) -> Sam | BT76: =CONCATENATE('Team 1'!$F103, " ",'Team 1'!$G103) -> Tom
O77: =CONCATENATE('Team 1'!$F104, " ",'Team 1'!$G104) -> Tom | P77: =CONCATENATE('Team 1'!$F105, " ",'Team 1'!$G105) -> Bradley | U77: =CONCATENATE('Team 2'!$F104, " ",'Team 2'!$G104) -> Jevon | V77: =CONCATENATE('Team 2'!$F105, " ",'Team 2'!$G105) -> Liam | W77: =CONCATENATE('Team 1'!$F104, " ",'Team 1'!$G104) -> Tom | X77: =CONCATENATE('Team 1'!$F105, " ",'Team 1'!$G105) -> Bradley | AA77: =CONCATENATE('Team 3'!$F104, " ",'Team 3'!$G104) -> Fabian | AB77: =CONCATENATE('Team 3'!$F105, " ",'Team 3'!$G105) -> Stuart | AC77: =CONCATENATE('Team 1'!$F104, " ",'Team 1'!$G104) -> Tom | AD77: =CONCATENATE('Team 1'!$F105, " ",'Team 1'!$G105) -> Bradley | AG77: =CONCATENATE('Team 4'!$F104, " ",'Team 4'!$G104) -> Owen | AH77: =CONCATENATE('Team 4'!$F105, " ",'Team 4'!$G105) -> Elliot | AI77: =CONCATENATE('Team 1'!$F104, " ",'Team 1'!$G104) -> Tom | AJ77: =CONCATENATE('Team 1'!$F105, " ",'Team 1'!$G105) -> Bradley | AM77: =CONCATENATE('Team 5'!$F104, " ",'Team 5'!$G104) -> Andrew | AN77: =CONCATENATE('Team 5'!$F105, " ",'Team 5'!$G105) -> Gabriel | AO77: =CONCATENATE('Team 1'!$F104, " ",'Team 1'!$G104) -> Tom | AP77: =CONCATENATE('Team 1'!$F105, " ",'Team 1'!$G105) -> Bradley | AS77: =CONCATENATE('Team 6'!$F104, " ",'Team 6'!$G104) -> Marcel | AT77: =CONCATENATE('Team 6'!$F105, " ",'Team 6'!$G105) -> Joshua | AU77: =CONCATENATE('Team 1'!$F104, " ",'Team 1'!$G104) -> Tom | AV77: =CONCATENATE('Team 1'!$F105, " ",'Team 1'!$G105) -> Bradley | AY77: =CONCATENATE('Team 7'!$F104, " ",'Team 7'!$G104) | AZ77: =CONCATENATE('Team 7'!$F105, " ",'Team 7'!$G105) | BA77: =CONCATENATE('Team 1'!$F104, " ",'Team 1'!$G104) -> Tom | BB77: =CONCATENATE('Team 1'!$F105, " ",'Team 1'!$G105) -> Bradley | BE77: =CONCATENATE('Team 8'!$F104, " ",'Team 8'!$G104) | BF77: =CONCATENATE('Team 8'!$F105, " ",'Team 8'!$G105) | BG77: =CONCATENATE('Team 1'!$F104, " ",'Team 1'!$G104) -> Tom | BH77: =CONCATENATE('Team 1'!$F105, " ",'Team 1'!$G105) -> Bradley | BK77: =CONCATENATE('Team 9'!$F104, " ",'Team 9'!$G104) | BL77: =CONCATENATE('Team 9'!$F105, " ",'Team 9'!$G105) | BM77: =CONCATENATE('Team 1'!$F104, " ",'Team 1'!$G104) -> Tom | BN77: =CONCATENATE('Team 1'!$F105, " ",'Team 1'!$G105) -> Bradley | BQ77: =CONCATENATE('Team 10'!$F104, " ",'Team 10'!$G104) | BR77: =CONCATENATE('Team 10'!$F105, " ",'Team 10'!$G105) | BS77: =CONCATENATE('Team 1'!$F104, " ",'Team 1'!$G104) -> Tom | BT77: =CONCATENATE('Team 1'!$F105, " ",'Team 1'!$G105) -> Bradley

Sheet Recording
B1: Todays date is | D1: License Number (if applicable) | E1: National Arena Swimming League Gala Recording Sheet | L1: ='Gala Setup'!S4 -> NASL.2018 | BJ1: Please select the printout sheet relevant to your gala. There are 6 ,8 or 10 lane sheets to choose from
B2: =TODAY() -> 43420 | D2: ='Gala Setup'!J7 -> 0
B3: Navigate the programme with these links. | C3: →→ | D3: Edit Team 1 | E3: Edit Team 2 | F3: Edit Team 3 | G3: Edit Team 4 | H3: Edit Team 5 | I3: Edit Team 6 | J3: Edit Team 7 | K3: Edit Team 8 | L3: Edit Team 9 | M3: Edit Team 10
C4: →→ | D4: Gala Set-up | E4: Check a Result | F4: Eligibility | G4: Final result | H4: Printout 6 Lane | I4: Printout 8 Lane | J4: Printout 10 Lane | K4: Club Codes | L4: Rankings HDR File | M4: Rankings MRF File | O4: Place | P4: Club | R4: Points | AI4: Should more than 2 teams be on equal points & blank spaces occur during the gala, please refer to the points shown at the head of the events list.
B5: CLUBS | D5: ='Gala Setup'!P4 -> Norwich Swans | E5: ='Gala Setup'!P5 -> Northampton B | F5: ='Gala Setup'!P6 -> City of Peterborough A | G5: ='Gala Setup'!P7 -> City of Milton Keynes | H5: ='Gala Setup'!P8 -> Nottingham Leander | I5: ='Gala Setup'!P9 -> Moderians | J5: ='Gala Setup'!P10 -> 0 | K5: ='Gala Setup'!P11 -> 0 | L5: ='Gala Setup'!P12 -> 0 | M5: ='Gala Setup'!P13 -> 0 | N5: =IF(D25>0,1) -> 1 | O5: ='Final result'!H17 -> 1st | P5: =IF(O5=0,0,'Final result'!G17) -> City of Milton Keynes | R5: ='Final result'!M17 -> 248 | AF5: =IF(AH5=0,0,"1st") -> 1st | AG5: =IF(D$26="1st",D$24,IF(E$26="1st",E$24,IF(F$26="1st",F$24,IF(G$26="1st",G$24,IF(H$26="1st",H$24,IF(I$26="1st",I$24,IF(J$26="1st",J$24,IF(K$26="1st",K$24,IF(L$26="1st",L$24,IF(M$26="1st",M$24)))))))))) -> City of Milton Keynes | AH5: =IF(D$26="1st",D$25,IF(E$26="1st",E$25,IF(F$26="1st",F$25,IF(G$26="1st",G$25,IF(H$26="1st",H$25,IF(I$26="1st",I$25,IF(J$26="1st",J$25,IF(K$26="1st",K$25,IF(L$26="1st",L$25,IF(M$26="1st",M$25,)))))))))) -> 248
AG6: =IF(D$26=1,D$24,IF(E$26=1,E$24,IF(F$26=1,F$24,IF(G$26=1,G$24,IF(H$26=1,H$24,IF(I$26=1,I$24,IF(J$26=1,J$24,IF(K$26=1,K$24,IF(L$26=1,L$24,IF(M$26=1,M$24)))))))))) -> FALSE
AG7: =IF(D$26=1,D$24,IF(E$26=1,E$24,IF(F$26=1,F$24,IF(G$26=1,G$24,IF(H$26=1,H$24,IF(I$26=1,I$24,IF(J$26=1,J$24,IF(K$26=1,K$24,IF(L$26=1,L$24,IF(M$26=1,M$24)))))))))) -> FALSE
AG8: =IF(D$26=1,D$24,IF(E$26=1,E$24,IF(F$26=1,F$24,IF(G$26=1,G$24,IF(H$26=1,H$24,IF(I$26=1,I$24,IF(J$26=1,J$24,IF(K$26=1,K$24,IF(L$26=1,L$24,IF(M$26=1,M$24)))))))))) -> FALSE
AG9: =IF(D$26=1,D$24,IF(E$26=1,E$24,IF(F$26=1,F$24,IF(G$26=1,G$24,IF(H$26=1,H$24,IF(I$26=1,I$24,IF(J$26=1,J$24,IF(K$26=1,K$24,IF(L$26=1,L$24,IF(M$26=1,M$24)))))))))) -> FALSE
AG10: =IF(D$26=1,D$24,IF(E$26=1,E$24,IF(F$26=1,F$24,IF(G$26=1,G$24,IF(H$26=1,H$24,IF(I$26=1,I$24,IF(J$26=1,J$24,IF(K$26=1,K$24,IF(L$26=1,L$24,IF(M$26=1,M$24)))))))))) -> FALSE
AG11: =IF(D$26=1,D$24,IF(E$26=1,E$24,IF(F$26=1,F$24,IF(G$26=1,G$24,IF(H$26=1,H$24,IF(I$26=1,I$24,IF(J$26=1,J$24,IF(K$26=1,K$24,IF(L$26=1,L$24,IF(M$26=1,M$24)))))))))) -> FALSE
AG12: =IF(D$26=1,D$24,IF(E$26=1,E$24,IF(F$26=1,F$24,IF(G$26=1,G$24,IF(H$26=1,H$24,IF(I$26=1,I$24,IF(J$26=1,J$24,IF(K$26=1,K$24,IF(L$26=1,L$24,IF(M$26=1,M$24)))))))))) -> FALSE
AG13: =IF(D$26=1,D$24,IF(E$26=1,E$24,IF(F$26=1,F$24,IF(G$26=1,G$24,IF(H$26=1,H$24,IF(I$26=1,I$24,IF(J$26=1,J$24,IF(K$26=1,K$24,IF(L$26=1,L$24,IF(M$26=1,M$24)))))))))) -> FALSE
AG14: =IF(D$26=1,D$24,IF(E$26=1,E$24,IF(F$26=1,F$24,IF(G$26=1,G$24,IF(H$26=1,H$24,IF(I$26=1,I$24,IF(J$26=1,J$24,IF(K$26=1,K$24,IF(L$26=1,L$24,IF(M$26=1,M$24)))))))))) -> FALSE
AG15: =IF(D$26=1,D$24,IF(E$26=1,E$24,IF(F$26=1,F$24,IF(G$26=1,G$24,IF(H$26=1,H$24,IF(I$26=1,I$24,IF(J$26=1,J$24,IF(K$26=1,K$24,IF(L$26=1,L$24,IF(M$26=1,M$24)))))))))) -> FALSE
AG16: =IF(D$26=1,D$24,IF(E$26=1,E$24,IF(F$26=1,F$24,IF(G$26=1,G$24,IF(H$26=1,H$24,IF(I$26=1,I$24,IF(J$26=1,J$24,IF(K$26=1,K$24,IF(L$26=1,L$24,IF(M$26=1,M$24)))))))))) -> FALSE
AG17: =IF(D$26=1,D$24,IF(E$26=1,E$24,IF(F$26=1,F$24,IF(G$26=1,G$24,IF(H$26=1,H$24,IF(I$26=1,I$24,IF(J$26=1,J$24,IF(K$26=1,K$24,IF(L$26=1,L$24,IF(M$26=1,M$24)))))))))) -> FALSE
N18: =IF(E25>0,1) -> 1 | O18: ='Final result'!H18 -> 2nd | P18: =IF(O18=0,0,'Final result'!G18) -> City of Peterborough A | R18: ='Final result'!M18 -> 214 | T18: 3 | U18: 4 | V18: 5 | W18: 6 | X18: 7 | Y18: 8 | Z18: 9 | AA18: 10 | AB18: 11 | AC18: 12 | AF18: =IF(N27<2,0,IF(AF5=0,0,IF(AH18=AH5,"1st","2nd"))) -> 2nd | AG18: =IF(N27<2,0,IF(E5=0,0,IF(D$26="2nd",D$24,IF(E$26="2nd",E$24,IF(F$26="2nd",F$24,IF(G$26="2nd",G$24,IF(H$26="2nd",H$24,IF(I$26="2nd",I$24,IF(J$26="2nd",J$24,IF(K$26="2nd",K$24,IF(L$26="2nd",L$24,IF(M$26="2nd",M$24,IF(M$26="1st",M$24,IF(L$26="1st",L$24,IF(K$26="1st",K$24,IF(J$26="1st",J$24,IF(I$26="1st",I$24,IF(H$26="1st",H$24,IF(G$26="1st",G$24,IF(F$26="1st",F$24,IF(E$26="1st",E$24,IF(D$26="1st",D$24)))))))))))))))))))))) -> City of Peterborough A | AH18: =IF(AG18=0,0,IF(D$26="2nd",D$25,IF(E$26="2nd",E$25,IF(F$26="2nd",F$25,IF(G$26="2nd",G$25,IF(H$26="2nd",H$25,IF(I$26="2nd",I$25,IF(J$26="2nd",J$25,IF(K$26="2nd",K$25,IF(L$26="2nd",L$25,IF(M$26="2nd",M$25,IF(M$26="1st",M$25,IF(L$26="1st",L$25,IF(K$26="1st",K$25,IF(J$26="1st",J$25,IF(I$26="1st",I$25,IF(H$26="1st",H$25,IF(G$26="1st",G$25,IF(F$26="1st",F$25,IF(E$26="1st",E$25,IF(D$26="1st",D$25))))))))))))))))))))) -> 214
B19: Points at Event 10 | D19: =IF(D61="","",'print 10 lane'!I165) -> 30 | E19: =IF(E61="","",'print 10 lane'!L165) -> 27 | F19: =IF(F61="","",'print 10 lane'!O165) -> 47 | G19: =IF(G61="","",'print 10 lane'!R165) -> 49 | H19: =IF(H61="","",'print 10 lane'!U165) -> 26 | I19: =IF(I61="","",'print 10 lane'!X165) -> 31 | J19: =IF(J61="","",'print 10 lane'!AA165) | K19: =IF(K61="","",'print 10 lane'!AD165) | L19: =IF(L61="","",'print 10 lane'!AG165) | M19: =IF(M61="","",'print 10 lane'!AJ165) | N19: =IF(F25>0,1) -> 1 | O19: ='Final result'!H19 -> 3rd | P19: =IF(O19=0,0,'Final result'!G19) -> Moderians | R19: ='Final result'!M19 -> 161 | S19: =AC19 | T19: =INDIRECT(ADDRESS(ROW(),T$18)) -> 0 | U19: =INDIRECT(ADDRESS(ROW(),U$18)) -> 30 | V19: =INDIRECT(ADDRESS(ROW(),V$18)) -> 27 | W19: =INDIRECT(ADDRESS(ROW(),W$18)) -> 47 | X19: =INDIRECT(ADDRESS(ROW(),X$18)) -> 49 | Y19: =INDIRECT(ADDRESS(ROW(),Y$18)) -> 26 | Z19: =INDIRECT(ADDRESS(ROW(),Z$18)) -> 31 | AA19: =INDIRECT(ADDRESS(ROW(),AA$18)) | ... AC19: =INDIRECT(ADDRESS(ROW(),AC$18)) | AF19: =IF(N27<3,0,IF(AF5=0,0,IF(AH19=AH18,AF18,"3rd"))) -> 3rd | AG19: =IF(N27<3,0,IF(F5=0,0,IF(D$26="3rd",D$24,IF(E$26="3rd",E$24,IF(F$26="3rd",F$24,IF(G$26="3rd",G$24,IF(H$26="3rd",H$24,IF(I$26="3rd",I$24,IF(J$26="3rd",J$24,IF(K$26="3rd",K$24,IF(L$26="3rd",L$24,IF(M$26="3rd",M$24,IF(M$26="2nd",M$24,IF(L$26="2nd",L$24,IF(K$26="2nd",K$24,IF(J$26="2nd",J$24,IF(I$26="2nd",I$24,IF(H$26="2nd",H$24,IF(G$26="2nd",G$24,IF(F$26="2nd",F$24,IF(E$26="2nd",E$24,IF(D$26="2nd",D$24,IF(D$26="1st",D$24,IF(E$26="1st",E$24,IF(F$26="1st",F$24,IF(G$26="1st",G$24,IF(H$26="1st",H$24,IF(I$26="1st",I$24,IF(J$26="1st",J$24,IF(K$26="1st",K$24,IF(L$26="1st",L$24,IF(M$26="1st",M$24)))))))))))))))))))))))))))))))) -> Moderians | AH19: =IF(AG19=0,0,IF(D$26="3rd",D$25,IF(E$26="3rd",E$25,IF(F$26="3rd",F$25,IF(G$26="3rd",G$25,IF(H$26="3rd",H$25,IF(I$26="3rd",I$25,IF(J$26="3rd",J$25,IF(K$26="3rd",K$25,IF(L$26="3rd",L$25,IF(M$26="3rd",M$25,IF(M$26="2nd",M$25,IF(L$26="2nd",L$25,IF(K$26="2nd",K$25,IF(J$26="2nd",J$25,IF(I$26="2nd",I$25,IF(H$26="2nd",H$25,IF(G$26="2nd",G$25,IF(F$26="2nd",F$25,IF(E$26="2nd",E$25,IF(D$26="2nd",D$25,IF(M$26="1st",M$25,IF(L$26="1st",L$25,IF(K$26="1st",K$25,IF(J$26="1st",J$25,IF(I$26="1st",I$25,IF(H$26="1st",H$25,IF(G$26="1st",G$25,IF(F$26="1st",F$25,IF(E$26="1st",E$25,IF(D$26="1st",D$25))))))))))))))))))))))))))))))) -> 161
B20: Points at Event 18 | D20: =IF(D92="","",'print 10 lane'!I169) -> 55 | E20: =IF(E92="","",'print 10 lane'!L169) -> 47 | F20: =IF(F92="","",'print 10 lane'!O169) -> 78 | G20: =IF(G92="","",'print 10 lane'!R169) -> 82 | H20: =IF(H92="","",'print 10 lane'!U169) -> 55 | I20: =IF(I92="","",'print 10 lane'!X169) -> 61 | J20: =IF(J92="","",'print 10 lane'!AA169) | K20: =IF(K92="","",'print 10 lane'!AD169) | L20: =IF(L92="","",'print 10 lane'!AG169) | M20: =IF(M92="","",'print 10 lane'!AJ169) | N20: =IF(G25>0,1) -> 1 | O20: ='Final result'!H20 -> 4th | P20: =IF(O20=0,0,'Final result'!G20) -> Nottingham Leander | R20: ='Final result'!M20 -> 160 | S20: =AC20 | T20: =INDIRECT(ADDRESS(ROW(),T$18)) -> 0 | U20: =INDIRECT(ADDRESS(ROW(),U$18)) -> 55 | V20: =INDIRECT(ADDRESS(ROW(),V$18)) -> 47 | W20: =INDIRECT(ADDRESS(ROW(),W$18)) -> 78 | X20: =INDIRECT(ADDRESS(ROW(),X$18)) -> 82 | Y20: =INDIRECT(ADDRESS(ROW(),Y$18)) -> 55 | Z20: =INDIRECT(ADDRESS(ROW(),Z$18)) -> 61 | AA20: =INDIRECT(ADDRESS(ROW(),AA$18)) | ... AC20: =INDIRECT(ADDRESS(ROW(),AC$18)) | AF20: =IF(N27<4,0,IF(AF5=0,0,IF(AH20=AH19,AF19,"4th"))) -> 4th | AG20: =IF(N27<4,0,IF(G5=0,0,IF(D$26="4th",D$24,IF(E$26="4th",E$24,IF(F$26="4th",F$24,IF(G$26="4th",G$24,IF(H$26="4th",H$24,IF(I$26="4th",I$24,IF(J$26="4th",J$24,IF(K$26="4th",K$24,IF(L$26="4th",L$24,IF(M$26="4th",M$24,IF(M$26="3rd",M$24,IF(L$26="3rd",L$24,IF(K$26="3rd",K$24,IF(J$26="3rd",J$24,IF(I$26="3rd",I$24,IF(H$26="3rd",H$24,IF(G$26="3rd",G$24,IF(F$26="3rd",F$24,IF(E$26="3rd",E$24,IF(D$26="3rd",D$24,IF(M$26="2nd",M$24,IF(L$26="2nd",L$24,IF(K$26="2nd",K$24,IF(J$26="2nd",J$24,IF(I$26="2nd",I$24,IF(H$26="2nd",H$24,IF(G$26="2nd",G$24,IF(F$26="2nd",F$24,IF(E$26="2nd",E$24,IF(D$26="2nd",D$24)))))))))))))))))))))))))))))))) -> Nottingham Leander | AH20: =IF(AG20=0,0,IF(D$26="4th",D$25,IF(E$26="4th",E$25,IF(F$26="4th",F$25,IF(G$26="4th",G$25,IF(H$26="4th",H$25,IF(I$26="4th",I$25,IF(J$26="4th",J$25,IF(K$26="4th",K$25,IF(L$26="4th",L$25,IF(M$26="4th",M$25,IF(M$26="3rd",M$25,IF(L$26="3rd",L$25,IF(K$26="3rd",K$25,IF(J$26="3rd",J$25,IF(I$26="3rd",I$25,IF(H$26="3rd",H$25,IF(G$26="3rd",G$25,IF(F$26="3rd",F$25,IF(E$26="3rd",E$25,IF(D$26="3rd",D$25,IF(M$26="2nd",M$25,IF(L$26="2nd",L$25,IF(K$26="2nd",K$25,IF(J$26="2nd",J$25,IF(I$26="2nd",I$25,IF(H$26="2nd",H$25,IF(G$26="2nd",G$25,IF(F$26="2nd",F$25,IF(E$26="2nd",E$25,IF(D$26="2nd",D$25))))))))))))))))))))))))))))))) -> 160
B21: Points at Event 26 | D21: =IF(D124="","",'print 10 lane'!I173) -> 79 | E21: =IF(E124="","",'print 10 lane'!L173) -> 62 | F21: =IF(F124="","",'print 10 lane'!O173) -> 112 | G21: =IF(G124="","",'print 10 lane'!R173) -> 122 | H21: =IF(H124="","",'print 10 lane'!U173) -> 85 | I21: =IF(I124="","",'print 10 lane'!X173) -> 86 | J21: =IF(J124="","",'print 10 lane'!AA173) | K21: =IF(K124="","",'print 10 lane'!AD173) | L21: =IF(L124="","",'print 10 lane'!AG173) | M21: =IF(M124="","",'print 10 lane'!AJ173) | N21: =IF(H25>0,1) -> 1 | O21: ='Final result'!H21 -> 5th | P21: =IF(O21=0,0,'Final result'!G21) -> Norwich Swans | R21: ='Final result'!M21 -> 143 | S21: =AC21 | T21: =INDIRECT(ADDRESS(ROW(),T$18)) -> 0 | U21: =INDIRECT(ADDRESS(ROW(),U$18)) -> 79 | V21: =INDIRECT(ADDRESS(ROW(),V$18)) -> 62 | W21: =INDIRECT(ADDRESS(ROW(),W$18)) -> 112 | X21: =INDIRECT(ADDRESS(ROW(),X$18)) -> 122 | Y21: =INDIRECT(ADDRESS(ROW(),Y$18)) -> 85 | Z21: =INDIRECT(ADDRESS(ROW(),Z$18)) -> 86 | AA21: =INDIRECT(ADDRESS(ROW(),AA$18)) | ... AC21: =INDIRECT(ADDRESS(ROW(),AC$18)) | AF21: =IF(N27<5,0,IF(AF5=0,0,IF(AH21=AH20,AF20,"5th"))) -> 5th | AG21: =IF(N27<5,0,IF(H5=0,0,IF(D$26="5th",D$24,IF(E$26="5th",E$24,IF(F$26="5th",F$24,IF(G$26="5th",G$24,IF(H$26="5th",H$24,IF(I$26="5th",I$24,IF(J$26="5th",J$24,IF(K$26="5th",K$24,IF(L$26="5th",L$24,IF(M$26="5th",M$24,IF(M$26="4th",M$24,IF(L$26="4th",L$24,IF(K$26="4th",K$24,IF(J$26="4th",J$24,IF(I$26="4th",I$24,IF(H$26="4th",H$24,IF(G$26="4th",G$24,IF(F$26="4th",F$24,IF(E$26="4th",E$24,IF(D$26="4th",D$24,IF(M$26="3rd",M$24,IF(L$26="3rd",L$24,IF(K$26="3rd",K$24,IF(J$26="3rd",J$24,IF(I$26="3rd",I$24,IF(H$26="3rd",H$24,IF(G$26="3rd",G$24,IF(F$26="3rd",F$24,IF(E$26="3rd",E$24,IF(D$26="3rd",D$24)))))))))))))))))))))))))))))))) -> Norwich Swans | AH21: =IF(AG21=0,0,IF(D$26="5th",D$25,IF(E$26="5th",E$25,IF(F$26="5th",F$25,IF(G$26="5th",G$25,IF(H$26="5th",H$25,IF(I$26="5th",I$25,IF(J$26="5th",J$25,IF(K$26="5th",K$25,IF(L$26="5th",L$25,IF(M$26="5th",M$25,IF(M$26="4th",M$25,IF(L$26="4th",L$25,IF(K$26="4th",K$25,IF(J$26="4th",J$25,IF(I$26="4th",I$25,IF(H$26="4th",H$25,IF(G$26="4th",G$25,IF(F$26="4th",F$25,IF(E$26="4th",E$25,IF(D$26="4th",D$25,IF(M$26="3rd",M$25,IF(L$26="3rd",L$25,IF(K$26="3rd",K$25,IF(J$26="3rd",J$25,IF(I$26="3rd",I$25,IF(H$26="3rd",H$25,IF(G$26="3rd",G$25,IF(F$26="3rd",F$25,IF(E$26="3rd",E$25,IF(D$26="3rd",D$25))))))))))))))))))))))))))))))) -> 143
B22: Points at Event 34 | D22: =IF(D156="","",'print 10 lane'!I177) -> 95 | E22: =IF(E156="","",'print 10 lane'!L177) -> 87 | F22: =IF(F156="","",'print 10 lane'!O177) -> 146 | G22: =IF(G156="","",'print 10 lane'!R177) -> 168 | H22: =IF(H156="","",'print 10 lane'!U177) -> 111 | I22: =IF(I156="","",'print 10 lane'!X177) -> 107 | J22: =IF(J156="","",'print 10 lane'!AA177) | K22: =IF(K156="","",'print 10 lane'!AD177) | L22: =IF(L156="","",'print 10 lane'!AG177) | M22: =IF(M156="","",'print 10 lane'!AJ177) | N22: =IF(I25>0,1) -> 1 | O22: ='Final result'!H22 -> 6th | P22: =IF(O22=0,0,'Final result'!G22) -> Northampton B | R22: ='Final result'!M22 -> 122 | S22: =AC22 | T22: =INDIRECT(ADDRESS(ROW(),T$18)) -> 0 | U22: =INDIRECT(ADDRESS(ROW(),U$18)) -> 95 | V22: =INDIRECT(ADDRESS(ROW(),V$18)) -> 87 | W22: =INDIRECT(ADDRESS(ROW(),W$18)) -> 146 | X22: =INDIRECT(ADDRESS(ROW(),X$18)) -> 168 | Y22: =INDIRECT(ADDRESS(ROW(),Y$18)) -> 111 | Z22: =INDIRECT(ADDRESS(ROW(),Z$18)) -> 107 | AA22: =INDIRECT(ADDRESS(ROW(),AA$18)) | ... AC22: =INDIRECT(ADDRESS(ROW(),AC$18)) | AF22: =IF(N27<6,0,IF(AF5=0,0,IF(AH22=AH21,AF21,"6th"))) -> 6th | AG22: =IF(N27<6,0,IF(I5=0,0,IF(D$26="6th",D$24,IF(E$26="6th",E$24,IF(F$26="6th",F$24,IF(G$26="6th",G$24,IF(H$26="6th",H$24,IF(I$26="6th",I$24,IF(J$26="6th",J$24,IF(K$26="6th",K$24,IF(L$26="6th",L$24,IF(M$26="6th",M$24,IF(M$26="5th",M$24,IF(L$26="5th",L$24,IF(K$26="5th",K$24,IF(J$26="5th",J$24,IF(I$26="5th",I$24,IF(H$26="5th",H$24,IF(G$26="5th",G$24,IF(F$26="5th",F$24,IF(E$26="5th",E$24,IF(D$26="5th",D$24,IF(M$26="4th",M$24,IF(L$26="4th",L$24,IF(K$26="4th",K$24,IF(J$26="4th",J$24,IF(I$26="4th",I$24,IF(H$26="4th",H$24,IF(G$26="4th",G$24,IF(F$26="4th",F$24,IF(E$26="4th",E$24,IF(D$26="4th",D24)))))))))))))))))))))))))))))))) -> Northampton B | AH22: =IF(AG22=0,0,IF(D$26="6th",D$25,IF(E$26="6th",E$25,IF(F$26="6th",F$25,IF(G$26="6th",G$25,IF(H$26="6th",H$25,IF(I$26="6th",I$25,IF(J$26="6th",J$25,IF(K$26="6th",K$25,IF(L$26="6th",L$25,IF(M$26="6th",M$25,IF(M$26="5th",M$25,IF(L$26="5th",L$25,IF(K$26="5th",K$25,IF(J$26="5th",J$25,IF(I$26="5th",I$25,IF(H$26="5th",H$25,IF(G$26="5th",G$25,IF(F$26="5th",F$25,IF(E$26="5th",E$25,IF(D$26="5th",D$25,IF(M$26="4th",M$25,IF(L$26="4th",L$25,IF(K$26="4th",K$25,IF(J$26="4th",J$25,IF(I$26="4th",I$25,IF(H$26="4th",H$25,IF(G$26="4th",G$25,IF(F$26="4th",F$25,IF(E$26="4th",E$25,IF(D$26="4th",D$25))))))))))))))))))))))))))))))) -> 122
B23: Points at Event 42 | D23: =IF(D188="","",'print 10 lane'!I180) -> 121 | E23: =IF(E188="","",'print 10 lane'!L180) -> 107 | F23: =IF(F188="","",'print 10 lane'!O180) -> 179 | G23: =IF(G188="","",'print 10 lane'!R180) -> 204 | H23: =IF(H188="","",'print 10 lane'!U180) -> 138 | I23: =IF(I188="","",'print 10 lane'!X180) -> 133 | J23: =IF(J188="","",'print 10 lane'!AA180) | K23: =IF(K188="","",'print 10 lane'!AD180) | L23: =IF(L188="","",'print 10 lane'!AG180) | M23: =IF(M188="","",'print 10 lane'!AJ180) | N23: =IF(J25>0,1) -> FALSE | O23: ='Final result'!H23 -> 0 | P23: =IF(O23=0,0,'Final result'!G23) -> 0 | R23: ='Final result'!M23 -> FALSE | S23: =AC23 | T23: =INDIRECT(ADDRESS(ROW(),T$18)) -> 0 | U23: =INDIRECT(ADDRESS(ROW(),U$18)) -> 121 | V23: =INDIRECT(ADDRESS(ROW(),V$18)) -> 107 | W23: =INDIRECT(ADDRESS(ROW(),W$18)) -> 179 | X23: =INDIRECT(ADDRESS(ROW(),X$18)) -> 204 | Y23: =INDIRECT(ADDRESS(ROW(),Y$18)) -> 138 | Z23: =INDIRECT(ADDRESS(ROW(),Z$18)) -> 133 | AA23: =INDIRECT(ADDRESS(ROW(),AA$18)) | ... AC23: =INDIRECT(ADDRESS(ROW(),AC$18)) | AF23: =IF(N27<7,0,IF(AF5=0,0,IF(AH23=AH22,AF22,"7th"))) -> 0 | AG23: =IF(N27<7,0,IF(J5=0,0,IF(D$26="7th",D$24,IF(E$26="7th",E$24,IF(F$26="7th",F$24,IF(G$26="7th",G$24,IF(H$26="7th",H$24,IF(I$26="7th",I$24,IF(J$26="7th",J$24,IF(K$26="7th",K$24,IF(L$26="7th",L$24,IF(M$26="7th",M$24,IF(M$26="6th",M$24,IF(L$26="6th",L$24,IF(K$26="6th",K$24,IF(J$26="6th",J$24,IF(I$26="6th",I$24,IF(H$26="6th",H$24,IF(G$26="6th",G$24,IF(F$26="6th",F$24,IF(E$26="6th",E$24,IF(D$26="6th",D$24,IF(M$26="5th",M$24,IF(L$26="5th",L$24,IF(K$26="5th",K$24,IF(J$26="5th",J$24,IF(I$26="5th",I$24,IF(H$26="5th",H$24,IF(G$26="5th",G$24,IF(F$26="5th",F$24,IF(E$26="5th",E$24,IF(D$26="5th",D$24)))))))))))))))))))))))))))))))) -> 0 | AH23: =IF(AG23=0,0,IF(D$26="7th",D$25,IF(E$26="7th",E$25,IF(F$26="7th",F$25,IF(G$26="7th",G$25,IF(H$26="7th",H$25,IF(I$26="7th",I$25,IF(J$26="7th",J$25,IF(K$26="7th",K$25,IF(L$26="7th",L$25,IF(M$26="7th",M$25,IF(M$26="6th",M$25,IF(L$26="6th",L$25,IF(K$26="6th",K$25,IF(J$26="6th",J$25,IF(I$26="6th",I$25,IF(H$26="6th",H$25,IF(G$26="6th",G$25,IF(F$26="6th",F$25,IF(M$26="6th",E$25,IF(D$26="6th",D$25,IF(M$26="5th",M$25,IF(L$26="5th",L$25,IF(K$26="5th",K$25,IF(J$26="5th",J$25,IF(I$26="5th",I$25,IF(H$26="5th",H$25,IF(G$26="5th",G$25,IF(F$26="5th",F$25,IF(E$26="5th",E$25,IF(D$26="5th",D$25))))))))))))))))))))))))))))))) -> 0
B24: CLUBS | D24: =D5 -> Norwich Swans | E24: =E5 -> Northampton B | F24: =F5 -> City of Peterborough A | G24: =G5 -> City of Milton Keynes | H24: =H5 -> Nottingham Leander | I24: =I5 -> Moderians | J24: =J5 -> 0 | K24: =K5 -> 0 | ... M24: =M5 -> 0 | N24: =IF(K25>0,1) -> FALSE | O24: ='Final result'!H24 -> 0 | P24: =IF(O24=0,0,'Final result'!G24) -> 0 | R24: ='Final result'!M24 -> FALSE | S24: =AC24 -> 0 | T24: =INDIRECT(ADDRESS(ROW(),T$18)) -> 0 | U24: =INDIRECT(ADDRESS(ROW(),U$18)) -> Norwich Swans | V24: =INDIRECT(ADDRESS(ROW(),V$18)) -> Northampton B | W24: =INDIRECT(ADDRESS(ROW(),W$18)) -> City of Peterborough A | X24: =INDIRECT(ADDRESS(ROW(),X$18)) -> City of Milton Keynes | Y24: =INDIRECT(ADDRESS(ROW(),Y$18)) -> Nottingham Leander | Z24: =INDIRECT(ADDRESS(ROW(),Z$18)) -> Moderians | AA24: =INDIRECT(ADDRESS(ROW(),AA$18)) -> 0 | ... AC24: =INDIRECT(ADDRESS(ROW(),AC$18)) -> 0 | AF24: =IF(N27<8,0,IF(AF5=0,0,IF(AH24=AH23,AF23,"8th"))) -> 0 | AG24: =IF(N27<8,0,IF(K5=0,0,IF(D$26="8th",D$24,IF(E$26="8th",E$24,IF(F$26="8th",F$24,IF(G$26="8th",G$24,IF(H$26="8th",H$24,IF(I$26="8th",I$24,IF(J$26="8th",J$24,IF(K$26="8th",K$24,IF(L$26="8th",L$24,IF(M$26="8th",M$24,IF(L$26="7th",L$24,IF(K$26="7th",K$24,IF(J$26="7th",J$24,IF(I$26="7th",I$24,IF(H$26="7th",H$24,IF(G$26="7th",G$24,IF(F$26="7th",F$24,IF(E$26="7th",E$24,IF(M$26="7th",D$24,IF(M$26="7th",M$24,IF(M$26="6th",M$24,IF(L$26="6th",L$24,IF(K$26="6th",K$24,IF(J$26="6th",J$24,IF(I$26="6th",I$24,IF(H$26="6th",H$24,IF(G$26="6th",G$24,IF(F$26="6th",F$24,IF(E$26="6th",E$24,IF(D$26="6th",D$24)))))))))))))))))))))))))))))))) -> 0 | AH24: =IF(AG24=0,0,IF(D$26="8th",D$25,IF(E$26="8th",E$25,IF(F$26="8th",F$25,IF(G$26="8th",G$25,IF(H$26="8th",H$25,IF(I$26="8th",I$25,IF(J$26="8th",J$25,IF(K$26="8th",K$25,IF(L$26="8th",L$25,IF(M$26="8th",M$25,IF(M$26="7th",M$25,IF(L$26="7th",L$25,IF(K$26="7th",K$25,IF(J$26="7th",J$25,IF(I$26="7th",I$25,IF(H$26="7th",H$25,IF(G$26="7th",G$25,IF(F$26="7th",F$25,IF(E$26="7th",E$25,IF(D$26="7th",D$25,IF(M$26="6th",M$25,IF(L$26="6th",L$25,IF(K$26="6th",K$25,IF(J$26="6th",J$25,IF(I$26="6th",I$25,IF(H$26="6th",H$25,IF(G$26="6th",G$25,IF(F$26="6th",F$25,IF(M$26="6th",E$25,IF(D$26="6th",D$25))))))))))))))))))))))))))))))) -> 0
B25: POINTS TO DATE | D25: ='print 10 lane'!J9 -> 143 | E25: ='print 10 lane'!M9 -> 122 | F25: ='print 10 lane'!P9 -> 214 | G25: ='print 10 lane'!S9 -> 248 | H25: ='print 10 lane'!V9 -> 160 | I25: ='print 10 lane'!Y9 -> 161 | J25: ='print 10 lane'!AB9 -> 0 | K25: ='print 10 lane'!AE9 -> 0 | L25: ='print 10 lane'!AH9 -> 0 | M25: ='print 10 lane'!AK9 -> 0 | N25: =IF(L25>0,1) -> FALSE | O25: ='Final result'!H25 -> 0 | P25: =IF(O25=0,0,'Final result'!G25) -> 0 | R25: ='Final result'!M25 -> FALSE | S25: =AC25 -> 0 | T25: =INDIRECT(ADDRESS(ROW(),T$18)) -> 0 | U25: =INDIRECT(ADDRESS(ROW(),U$18)) -> 143 | V25: =INDIRECT(ADDRESS(ROW(),V$18)) -> 122 | W25: =INDIRECT(ADDRESS(ROW(),W$18)) -> 214 | X25: =INDIRECT(ADDRESS(ROW(),X$18)) -> 248 | Y25: =INDIRECT(ADDRESS(ROW(),Y$18)) -> 160 | Z25: =INDIRECT(ADDRESS(ROW(),Z$18)) -> 161 | AA25: =INDIRECT(ADDRESS(ROW(),AA$18)) -> 0 | ... AC25: =INDIRECT(ADDRESS(ROW(),AC$18)) -> 0 | AF25: =IF(N27<9,0,IF(AF5=0,0,IF(AH25=AH24,AF24,"9th"))) -> 0 | AG25: =IF(N27<9,0,IF(L5=0,0,IF(D$26="9th",D$24,IF(E$26="9th",E$24,IF(F$26="9th",F$24,IF(G$26="9th",G$24,IF(H$26="9th",H$24,IF(I$26="9th",I$24,IF(J$26="9th",J$24,IF(K$26="9th",K$24,IF(L$26="9th",L$24,IF(M$26="9th",M$24,IF(L$26="8th",L$24,IF(K$26="8th",K$24,IF(J$26="8th",J$24,IF(I$26="8th",I$24,IF(H$26="8th",H$24,IF(G$26="8th",G$24,IF(F$26="8th",F$24,IF(E$26="8th",E$24,IF(D$26="8th",D$24,IF(M$26="8th",M$24,IF(M$26="7th",M$24,IF(L$26="7th",L$24,IF(K$26="7th",K$24,IF(J$26="7th",J$24,IF(I$26="7th",I$24,IF(H$26="7th",H$24,IF(G$26="7th",G$24,IF(F$26="7th",F$24,IF(E$26="7th",E$24,IF(M$26="7th",D$24)))))))))))))))))))))))))))))))) -> 0 | AH25: =IF(AG25=0,0,IF(D$26="9th",D$25,IF(E$26="9th",E$25,IF(F$26="9th",F$25,IF(G$26="9th",G$25,IF(H$26="9th",H$25,IF(I$26="9th",I$25,IF(J$26="9th",J$25,IF(K$26="9th",K$25,IF(L$26="9th",L$25,IF(M$26="9th",M$25,IF(M$26="8th",M$25,IF(L$26="8th",L$25,IF(K$26="8th",K$25,IF(J$26="8th",J$25,IF(I$26="8th",I$25,IF(H$26="8th",H$25,IF(G$26="8th",G$25,IF(F$26="8th",F$25,IF(E$26="8th",E$25,IF(D$26="8th",D$25,IF(M$26="7th",M$25,IF(L$26="7th",L$25,IF(K$26="7th",K$25,IF(J$26="7th",J$25,IF(I$26="7th",I$25,IF(H$26="7th",H$25,IF(G$26="7th",G$25,IF(F$26="7th",F$25,IF(E$26="7th",E$25,IF(D$26="7th",D$25))))))))))))))))))))))))))))))) -> 0
B26: PLACINGS | D26: =IF('print 10 lane'!J7=1,"1st",IF('print 10 lane'!J7=2,"2nd",IF('print 10 lane'!J7=3,"3rd",IF('print 10 lane'!J7=4,"4th",IF('print 10 lane'!J7=5,"5th",IF('print 10 lane'!J7=6,"6th",IF('print 10 lane'!J7=7,"7th",IF('print 10 lane'!J7=8,"8th",IF('print 10 lane'!J7=9,"9th",IF('print 10 lane'!J7=10,"10th")))))))))) -> 5th | E26: =IF('print 10 lane'!M7=1,"1st",IF('print 10 lane'!M7=2,"2nd",IF('print 10 lane'!M7=3,"3rd",IF('print 10 lane'!M7=4,"4th",IF('print 10 lane'!M7=5,"5th",IF('print 10 lane'!M7=6,"6th",IF('print 10 lane'!M7=7,"7th",IF('print 10 lane'!M7=8,"8th",IF('print 10 lane'!M7=9,"9th",IF('print 10 lane'!M7=10,"10th")))))))))) -> 6th | F26: =IF('print 10 lane'!P7=1,"1st",IF('print 10 lane'!P7=2,"2nd",IF('print 10 lane'!P7=3,"3rd",IF('print 10 lane'!P7=4,"4th",IF('print 10 lane'!P7=5,"5th",IF('print 10 lane'!P7=6,"6th",IF('print 10 lane'!P7=7,"7th",IF('print 10 lane'!P7=8,"8th",IF('print 10 lane'!P7=9,"9th",IF('print 10 lane'!P7=10,"10th")))))))))) -> 2nd | G26: =IF('print 10 lane'!S7=1,"1st",IF('print 10 lane'!S7=2,"2nd",IF('print 10 lane'!S7=3,"3rd",IF('print 10 lane'!S7=4,"4th",IF('print 10 lane'!S7=5,"5th",IF('print 10 lane'!S7=6,"6th",IF('print 10 lane'!S7=7,"7th",IF('print 10 lane'!S7=8,"8th",IF('print 10 lane'!S7=9,"9th",IF('print 10 lane'!S7=10,"10th")))))))))) -> 1st | H26: =IF('print 10 lane'!V7=1,"1st",IF('print 10 lane'!V7=2,"2nd",IF('print 10 lane'!V7=3,"3rd",IF('print 10 lane'!V7=4,"4th",IF('print 10 lane'!V7=5,"5th",IF('print 10 lane'!V7=6,"6th",IF('print 10 lane'!V7=7,"7th",IF('print 10 lane'!V7=8,"8th",IF('print 10 lane'!V7=9,"9th",IF('print 10 lane'!V7=10,"10th")))))))))) -> 4th | I26: =IF('print 10 lane'!Y7=1,"1st",IF('print 10 lane'!Y7=2,"2nd",IF('print 10 lane'!Y7=3,"3rd",IF('print 10 lane'!Y7=4,"4th",IF('print 10 lane'!Y7=5,"5th",IF('print 10 lane'!Y7=6,"6th",IF('print 10 lane'!Y7=7,"7th",IF('print 10 lane'!Y7=8,"8th",IF('print 10 lane'!Y7=9,"9th",IF('print 10 lane'!Y7=10,"10th")))))))))) -> 3rd | J26: =IF('print 10 lane'!AB7=1,"1st",IF('print 10 lane'!AB7=2,"2nd",IF('print 10 lane'!AB7=3,"3rd",IF('print 10 lane'!AB7=4,"4th",IF('print 10 lane'!AB7=5,"5th",IF('print 10 lane'!AB7=6,"6th",IF('print 10 lane'!AB7=7,"7th",IF('print 10 lane'!AB7=8,"8th",IF('print 10 lane'!AB7=9,"9th",IF('print 10 lane'!AB7=10,"10th")))))))))) -> FALSE | K26: =IF('print 10 lane'!AE7=1,"1st",IF('print 10 lane'!AE7=2,"2nd",IF('print 10 lane'!AE7=3,"3rd",IF('print 10 lane'!AE7=4,"4th",IF('print 10 lane'!AE7=5,"5th",IF('print 10 lane'!AE7=6,"6th",IF('print 10 lane'!AE7=7,"7th",IF('print 10 lane'!AE7=8,"8th",IF('print 10 lane'!AE7=9,"9th",IF('print 10 lane'!AE7=10,"10th")))))))))) -> FALSE | L26: =IF('print 10 lane'!AH7=1,"1st",IF('print 10 lane'!AH7=2,"2nd",IF('print 10 lane'!AH7=3,"3rd",IF('print 10 lane'!AH7=4,"4th",IF('print 10 lane'!AH7=5,"5th",IF('print 10 lane'!AH7=6,"6th",IF('print 10 lane'!AH7=7,"7th",IF('print 10 lane'!AH7=8,"8th",IF('print 10 lane'!AH7=9,"9th",IF('print 10 lane'!AH7=10,"10th")))))))))) -> FALSE | M26: =IF('print 10 lane'!AK7=1,"1st",IF('print 10 lane'!AK7=2,"2nd",IF('print 10 lane'!AK7=3,"3rd",IF('print 10 lane'!AK7=4,"4th",IF('print 10 lane'!AK7=5,"5th",IF('print 10 lane'!AK7=6,"6th",IF('print 10 lane'!AK7=7,"7th",IF('print 10 lane'!AK7=8,"8th",IF('print 10 lane'!AK7=9,"9th",IF('print 10 lane'!AK7=10,"10th")))))))))) -> FALSE | N26: =IF(M25>0,1) -> FALSE | O26: ='Final result'!H26 -> 0 | P26: =IF(O26=0,0,'Final result'!G26) -> 0 | R26: ='Final result'!M26 -> FALSE | S26: =AC26 -> FALSE | T26: =INDIRECT(ADDRESS(ROW(),T$18)) -> 0 | U26: =INDIRECT(ADDRESS(ROW(),U$18)) -> 5th | V26: =INDIRECT(ADDRESS(ROW(),V$18)) -> 6th | W26: =INDIRECT(ADDRESS(ROW(),W$18)) -> 2nd | X26: =INDIRECT(ADDRESS(ROW(),X$18)) -> 1st | Y26: =INDIRECT(ADDRESS(ROW(),Y$18)) -> 4th | Z26: =INDIRECT(ADDRESS(ROW(),Z$18)) -> 3rd | AA26: =INDIRECT(ADDRESS(ROW(),AA$18)) -> FALSE | ... AC26: =INDIRECT(ADDRESS(ROW(),AC$18)) -> FALSE | AF26: =IF(N27<10,0,IF(AF5=0,0,IF(AH26=AH25,AF25,"10th"))) -> 0 | AG26: =IF(N27<10,0,IF(M5=0,0,IF(D$26="10th",D$24,IF(E$26="10th",E$24,IF(F$26="10th",F$24,IF(G$26="10th",G$24,IF(H$26="10th",H$24,IF(I$26="10th",I$24,IF(J$26="10th",J$24,IF(K$26="10th",K$24,IF(L$26="10th",L$24,IF(M$26="10th",M$24,IF(M$26="9th",M$24,IF(L$26="9th",L$24,IF(K$26="9th",K$24,IF(J$26="9th",J$24,IF(I$26="9th",I$24,IF(H$26="9th",H$24,IF(G$26="9th",G$24,IF(F$26="9th",F$24,IF(E$26="9th",E$24,IF(D$26="9th",D$24,IF(D$26="8th",D$24,IF(M$26="8th",M$24,IF(L$26="8th",L$24,IF(K$26="8th",K$24,IF(J$26="8th",J$24,IF(I$26="8th",I$24,IF(H$26="8th",H$24,IF(G$26="8th",G$24,IF(F$26="8th",F$24,IF(E$26="8th",E$24)))))))))))))))))))))))))))))))) -> 0 | AH26: =IF(AG26=0,0,IF(D$26="10th",D$25,IF(E$26="10th",E$25,IF(F$26="10th",F$25,IF(G$26="10th",G$25,IF(H$26="10th",H$25,IF(I$26="10th",I$25,IF(J$26="10th",J$25,IF(K$26="10th",K$25,IF(L$26="10th",L$25,IF(M$26="10th",M$25,IF(M$26="9th",M$25,IF(L$26="9th",L$25,IF(K$26="9th",K$25,IF(J$26="9th",J$25,IF(I$26="9th",I$25,IF(H$26="9th",H$25,IF(G$26="9th",G$25,IF(F$26="9th",F$25,IF(E$26="9th",E$25,IF(D$26="9th",D$25,IF(M$26="8th",M$25,IF(L$26="8th",L$25,IF(K$26="8th",K$25,IF(J$26="8th",J$25,IF(I$26="8th",I$25,IF(H$26="8th",H$25,IF(G$26="8th",G$25,IF(F$26="8th",F$25,IF(E$26="8th",E$25,IF(D$26="8th",D$25))))))))))))))))))))))))))))))) -> 0
N27: =SUM(N5:N26) -> 6 | O27: ='Gala Setup'!S4 -> NASL.2018 | S27: =AC27 -> 0 | T27: =INDIRECT(ADDRESS(ROW(),T$18)) -> 0 | U27: =INDIRECT(ADDRESS(ROW(),U$18)) -> 0 | V27: =INDIRECT(ADDRESS(ROW(),V$18)) -> 0 | W27: =INDIRECT(ADDRESS(ROW(),W$18)) -> 0 | X27: =INDIRECT(ADDRESS(ROW(),X$18)) -> 0 | Y27: =INDIRECT(ADDRESS(ROW(),Y$18)) -> 0 | Z27: =INDIRECT(ADDRESS(ROW(),Z$18)) -> 0 | AA27: =INDIRECT(ADDRESS(ROW(),AA$18)) -> 0 | ... AC27: =INDIRECT(ADDRESS(ROW(),AC$18)) -> 0
B28: EVENTS | D28: LANE | E28: LANE | F28: LANE | G28: LANE | H28: LANE | I28: LANE | J28: LANE | K28: LANE | L28: LANE | M28: LANE | O28: When points are equal, countback on all races is used to place clubs. For the table above to be fully functional a spread of events may be needed. The lane columns show places from gala points only.
D29: ='Gala Setup'!N4 -> 1 | E29: ='Gala Setup'!N5 -> 2 | F29: ='Gala Setup'!N6 -> 3 | G29: ='Gala Setup'!N7 -> 4 | H29: ='Gala Setup'!N8 -> 5 | I29: ='Gala Setup'!N9 -> 6 | J29: ='Gala Setup'!N10 -> 0 | K29: ='Gala Setup'!N11 -> 0 | L29: ='Gala Setup'!N12 -> 0 | M29: ='Gala Setup'!N13 -> 0
B30: Error Correction | D30: Error correction is simple. At any time during or after the Gala, Simply DELETE the incorrect information & retype with the correction. DO NOT USE DRAG & DROP or CUT & PASTE. ---------- These processes will create #REF! & result in loss of data. | O30: ='Gala Setup'!S4 -> NASL.2018
B31: EVENT 1 | C31: PLACE | D31: ='print 10 lane'!J12 -> 3 | E31: ='print 10 lane'!M12 -> 5 | F31: ='print 10 lane'!P12 -> 1 | G31: ='print 10 lane'!S12 -> 2 | H31: ='print 10 lane'!V12 -> 6 | I31: ='print 10 lane'!Y12 -> 4 | J31: ='print 10 lane'!AB12 -> 0 | K31: ='print 10 lane'!AE12 -> 0 | L31: ='print 10 lane'!AH12 -> 0 | M31: ='print 10 lane'!AK12 -> 0 | O31: Any swim which requires no points to be awarded must have a zero entered into the time box. The reason for a no point allocation must be entered into the box below the swimmers name. Text will automatically allow space of approximately 30 letters (in the printout sheet) for this explanation.
C32: TIME | D32: 22733 | E32: 23130 | F32: 22073 | G32: 22563 | H32: 23366 | I32: 22946 | S32: =AC32 -> 0 | T32: =INDIRECT(ADDRESS(ROW(),T$18)) -> TIME | U32: =INDIRECT(ADDRESS(ROW(),U$18)) -> 22733 | V32: =INDIRECT(ADDRESS(ROW(),V$18)) -> 23130 | W32: =INDIRECT(ADDRESS(ROW(),W$18)) -> 22073 | X32: =INDIRECT(ADDRESS(ROW(),X$18)) -> 22563 | Y32: =INDIRECT(ADDRESS(ROW(),Y$18)) -> 23366 | Z32: =INDIRECT(ADDRESS(ROW(),Z$18)) -> 22946 | AA32: =INDIRECT(ADDRESS(ROW(),AA$18)) -> 0 | ... AC32: =INDIRECT(ADDRESS(ROW(),AC$18)) -> 0
B33: ='Team 1'!B4 -> LADIES OPEN IM | C33: SWIMMER | D33: ='print 10 lane'!I13 -> India | E33: ='print 10 lane'!L13 -> Katie | F33: ='print 10 lane'!O13 -> Amelia | G33: ='print 10 lane'!R13 -> Aiyana | H33: ='print 10 lane'!U13 -> Lauren | I33: ='print 10 lane'!X13 -> Orla | J33: ='print 10 lane'!AA13 | K33: ='print 10 lane'!AD13 | L33: ='print 10 lane'!AG13 | M33: ='print 10 lane'!AJ13 | S33: =AC33 | T33: =INDIRECT(ADDRESS(ROW(),T$18)) -> SWIMMER | U33: =INDIRECT(ADDRESS(ROW(),U$18)) -> India | V33: =INDIRECT(ADDRESS(ROW(),V$18)) -> Katie | W33: =INDIRECT(ADDRESS(ROW(),W$18)) -> Amelia | X33: =INDIRECT(ADDRESS(ROW(),X$18)) -> Aiyana | Y33: =INDIRECT(ADDRESS(ROW(),Y$18)) -> Lauren | Z33: =INDIRECT(ADDRESS(ROW(),Z$18)) -> Orla | AA33: =INDIRECT(ADDRESS(ROW(),AA$18)) | ... AC33: =INDIRECT(ADDRESS(ROW(),AC$18))
B34: ='Gala Setup'!J9 -> 200M | C34: DQ REASON | S34: =AC34 -> 0 | T34: =INDIRECT(ADDRESS(ROW(),T$18)) -> DQ REASON | U34: =INDIRECT(ADDRESS(ROW(),U$18)) -> 0 | V34: =INDIRECT(ADDRESS(ROW(),V$18)) -> 0 | W34: =INDIRECT(ADDRESS(ROW(),W$18)) -> 0 | X34: =INDIRECT(ADDRESS(ROW(),X$18)) -> 0 | Y34: =INDIRECT(ADDRESS(ROW(),Y$18)) -> 0 | Z34: =INDIRECT(ADDRESS(ROW(),Z$18)) -> 0 | AA34: =INDIRECT(ADDRESS(ROW(),AA$18)) -> 0 | ... AC34: =INDIRECT(ADDRESS(ROW(),AC$18)) -> 0
B35: EVENT 2 | C35: PLACE | D35: ='print 10 lane'!J15 -> 5 | E35: ='print 10 lane'!M15 -> 3 | F35: ='print 10 lane'!P15 -> 1 | G35: ='print 10 lane'!S15 -> 2 | H35: ='print 10 lane'!V15 -> 6 | I35: ='print 10 lane'!Y15 -> 4 | J35: ='print 10 lane'!AB15 -> 0 | K35: ='print 10 lane'!AE15 -> 0 | L35: ='print 10 lane'!AH15 -> 0 | M35: ='print 10 lane'!AK15 -> 0
C36: TIME | D36: 22184 | E36: 21276 | F36: 20871 | G36: 20915 | H36: 22426 | I36: 21660 | S36: =AC36 -> 0 | T36: =INDIRECT(ADDRESS(ROW(),T$18)) -> TIME | U36: =INDIRECT(ADDRESS(ROW(),U$18)) -> 22184 | V36: =INDIRECT(ADDRESS(ROW(),V$18)) -> 21276 | W36: =INDIRECT(ADDRESS(ROW(),W$18)) -> 20871 | X36: =INDIRECT(ADDRESS(ROW(),X$18)) -> 20915 | Y36: =INDIRECT(ADDRESS(ROW(),Y$18)) -> 22426 | Z36: =INDIRECT(ADDRESS(ROW(),Z$18)) -> 21660 | AA36: =INDIRECT(ADDRESS(ROW(),AA$18)) -> 0 | ... AC36: =INDIRECT(ADDRESS(ROW(),AC$18)) -> 0
B37: ='Team 1'!B5 -> MENS OPEN IM | C37: SWIMMER | D37: ='print 10 lane'!I16 -> Tom | E37: ='print 10 lane'!L16 -> Samuel | F37: ='print 10 lane'!O16 -> Jamie | G37: ='print 10 lane'!R16 -> Miles | H37: ='print 10 lane'!U16 -> Kris | I37: ='print 10 lane'!X16 -> Jack | J37: ='print 10 lane'!AA16 | K37: ='print 10 lane'!AD16 | L37: ='print 10 lane'!AG16 | M37: ='print 10 lane'!AJ16 | S37: =AC37 | T37: =INDIRECT(ADDRESS(ROW(),T$18)) -> SWIMMER | U37: =INDIRECT(ADDRESS(ROW(),U$18)) -> Tom | V37: =INDIRECT(ADDRESS(ROW(),V$18)) -> Samuel | W37: =INDIRECT(ADDRESS(ROW(),W$18)) -> Jamie | X37: =INDIRECT(ADDRESS(ROW(),X$18)) -> Miles | Y37: =INDIRECT(ADDRESS(ROW(),Y$18)) -> Kris | Z37: =INDIRECT(ADDRESS(ROW(),Z$18)) -> Jack | AA37: =INDIRECT(ADDRESS(ROW(),AA$18)) | ... AC37: =INDIRECT(ADDRESS(ROW(),AC$18))
B38: ='Gala Setup'!J9 -> 200M | C38: DQ REASON | S38: =AC38 -> 0 | T38: =INDIRECT(ADDRESS(ROW(),T$18)) -> DQ REASON | U38: =INDIRECT(ADDRESS(ROW(),U$18)) -> 0 | V38: =INDIRECT(ADDRESS(ROW(),V$18)) -> 0 | W38: =INDIRECT(ADDRESS(ROW(),W$18)) -> 0 | X38: =INDIRECT(ADDRESS(ROW(),X$18)) -> 0 | Y38: =INDIRECT(ADDRESS(ROW(),Y$18)) -> 0 | Z38: =INDIRECT(ADDRESS(ROW(),Z$18)) -> 0 | AA38: =INDIRECT(ADDRESS(ROW(),AA$18)) -> 0 | ... AC38: =INDIRECT(ADDRESS(ROW(),AC$18)) -> 0
B39: EVENT 3 | C39: PLACE | D39: ='print 10 lane'!J18 -> 3 | E39: ='print 10 lane'!M18 -> 5 | F39: ='print 10 lane'!P18 -> 1 | G39: ='print 10 lane'!S18 -> 2 | H39: ='print 10 lane'!V18 -> 4 | I39: ='print 10 lane'!Y18 -> 6 | J39: ='print 10 lane'!AB18 -> 0 | K39: ='print 10 lane'!AE18 -> 0 | L39: ='print 10 lane'!AH18 -> 0 | M39: ='print 10 lane'!AK18 -> 0
B40: ='Team 1'!B6 -> GIRLS 9/11 FREESTYLE RELAY | C40: TIME | D40: 21854 | E40: 22320 | F40: 20783 | G40: 21103 | H40: 21949 | I40: 22494 | O40: Error correction. Simply overwrite the incorrect information. Do not use "Drag & Drop" or "Cut & Paste" as this will corrupt the programming | S40: =AC40 -> 0 | T40: =INDIRECT(ADDRESS(ROW(),T$18)) -> TIME | U40: =INDIRECT(ADDRESS(ROW(),U$18)) -> 21854 | V40: =INDIRECT(ADDRESS(ROW(),V$18)) -> 22320 | W40: =INDIRECT(ADDRESS(ROW(),W$18)) -> 20783 | X40: =INDIRECT(ADDRESS(ROW(),X$18)) -> 21103 | Y40: =INDIRECT(ADDRESS(ROW(),Y$18)) -> 21949 | Z40: =INDIRECT(ADDRESS(ROW(),Z$18)) -> 22494 | AA40: =INDIRECT(ADDRESS(ROW(),AA$18)) -> 0 | ... AC40: =INDIRECT(ADDRESS(ROW(),AC$18)) -> 0
C41: DQ REASON | S41: =AC41 -> 0 | T41: =INDIRECT(ADDRESS(ROW(),T$18)) -> DQ REASON | U41: =INDIRECT(ADDRESS(ROW(),U$18)) -> 0 | V41: =INDIRECT(ADDRESS(ROW(),V$18)) -> 0 | W41: =INDIRECT(ADDRESS(ROW(),W$18)) -> 0 | X41: =INDIRECT(ADDRESS(ROW(),X$18)) -> 0 | Y41: =INDIRECT(ADDRESS(ROW(),Y$18)) -> 0 | Z41: =INDIRECT(ADDRESS(ROW(),Z$18)) -> 0 | AA41: =INDIRECT(ADDRESS(ROW(),AA$18)) -> 0 | ... AC41: =INDIRECT(ADDRESS(ROW(),AC$18)) -> 0
B42: EVENT 4 | C42: PLACE | D42: ='print 10 lane'!J20 -> 3 | E42: ='print 10 lane'!M20 -> 1 | F42: ='print 10 lane'!P20 -> 5 | G42: ='print 10 lane'!S20 -> 6 | H42: ='print 10 lane'!V20 -> 2 | I42: ='print 10 lane'!Y20 -> 4 | J42: ='print 10 lane'!AB20 -> 0 | K42: ='print 10 lane'!AE20 -> 0 | L42: ='print 10 lane'!AH20 -> 0 | M42: ='print 10 lane'!AK20 -> 0
B43: ='Team 1'!B10 -> BOYS 9/11 FREESTYLE RELAY | C43: TIME | D43: 22204 | E43: 21614 | F43: 22474 | G43: 22592 | H43: 21754 | I43: 22298 | S43: =AC43 -> 0 | T43: =INDIRECT(ADDRESS(ROW(),T$18)) -> TIME | U43: =INDIRECT(ADDRESS(ROW(),U$18)) -> 22204 | V43: =INDIRECT(ADDRESS(ROW(),V$18)) -> 21614 | W43: =INDIRECT(ADDRESS(ROW(),W$18)) -> 22474 | X43: =INDIRECT(ADDRESS(ROW(),X$18)) -> 22592 | Y43: =INDIRECT(ADDRESS(ROW(),Y$18)) -> 21754 | Z43: =INDIRECT(ADDRESS(ROW(),Z$18)) -> 22298 | AA43: =INDIRECT(ADDRESS(ROW(),AA$18)) -> 0 | ... AC43: =INDIRECT(ADDRESS(ROW(),AC$18)) -> 0
C44: DQ REASON | S44: =AC44 -> 0 | T44: =INDIRECT(ADDRESS(ROW(),T$18)) -> DQ REASON | U44: =INDIRECT(ADDRESS(ROW(),U$18)) -> 0 | V44: =INDIRECT(ADDRESS(ROW(),V$18)) -> 0 | W44: =INDIRECT(ADDRESS(ROW(),W$18)) -> 0 | X44: =INDIRECT(ADDRESS(ROW(),X$18)) -> 0 | Y44: =INDIRECT(ADDRESS(ROW(),Y$18)) -> 0 | Z44: =INDIRECT(ADDRESS(ROW(),Z$18)) -> 0 | AA44: =INDIRECT(ADDRESS(ROW(),AA$18)) -> 0 | ... AC44: =INDIRECT(ADDRESS(ROW(),AC$18)) -> 0
B45: EVENT 5 | C45: PLACE | D45: ='print 10 lane'!J22 -> 6 | E45: ='print 10 lane'!M22 -> 5 | F45: ='print 10 lane'!P22 -> 4 | G45: ='print 10 lane'!S22 -> 1 | H45: ='print 10 lane'!V22 -> 2 | I45: ='print 10 lane'!Y22 -> 3 | J45: ='print 10 lane'!AB22 -> 0 | K45: ='print 10 lane'!AE22 -> 0 | L45: ='print 10 lane'!AH22 -> 0 | M45: ='print 10 lane'!AK22 -> 0
C46: TIME | D46: 21725 | E46: 21638 | F46: 21487 | G46: 20830 | H46: 21182 | I46: 21353 | S46: =AC46 -> 0 | T46: =INDIRECT(ADDRESS(ROW(),T$18)) -> TIME | U46: =INDIRECT(ADDRESS(ROW(),U$18)) -> 21725 | V46: =INDIRECT(ADDRESS(ROW(),V$18)) -> 21638 | W46: =INDIRECT(ADDRESS(ROW(),W$18)) -> 21487 | X46: =INDIRECT(ADDRESS(ROW(),X$18)) -> 20830 | Y46: =INDIRECT(ADDRESS(ROW(),Y$18)) -> 21182 | Z46: =INDIRECT(ADDRESS(ROW(),Z$18)) -> 21353 | AA46: =INDIRECT(ADDRESS(ROW(),AA$18)) -> 0 | ... AC46: =INDIRECT(ADDRESS(ROW(),AC$18)) -> 0
B47: ='Team 1'!B14 -> GIRLS 13/U MEDLEY RELAY | C47: DQ REASON | S47: =AC47 -> 0 | T47: =INDIRECT(ADDRESS(ROW(),T$18)) -> DQ REASON | U47: =INDIRECT(ADDRESS(ROW(),U$18)) -> 0 | V47: =INDIRECT(ADDRESS(ROW(),V$18)) -> 0 | W47: =INDIRECT(ADDRESS(ROW(),W$18)) -> 0 | X47: =INDIRECT(ADDRESS(ROW(),X$18)) -> 0 | Y47: =INDIRECT(ADDRESS(ROW(),Y$18)) -> 0 | Z47: =INDIRECT(ADDRESS(ROW(),Z$18)) -> 0 | AA47: =INDIRECT(ADDRESS(ROW(),AA$18)) -> 0 | ... AC47: =INDIRECT(ADDRESS(ROW(),AC$18)) -> 0
B48: EVENT 6 | C48: PLACE | D48: ='print 10 lane'!J24 -> 4 | E48: ='print 10 lane'!M24 -> 6 | F48: ='print 10 lane'!P24 -> 5 | G48: ='print 10 lane'!S24 -> 2 | H48: ='print 10 lane'!V24 -> 3 | I48: ='print 10 lane'!Y24 -> 1 | J48: ='print 10 lane'!AB24 -> 0 | K48: ='print 10 lane'!AE24 -> 0 | L48: ='print 10 lane'!AH24 -> 0 | M48: ='print 10 lane'!AK24 -> 0
C49: TIME | D49: 21058 | E49: 22057 | F49: 21701 | G49: 20879 | H49: 21024 | I49: 20745 | O49: Any swim which requires no points to be awarded must have a zero entered into the time box. The reason for a no point allocation must be entered into the box below the swimmers name. Text will automatically allow space of approximately 30 letters (in the printout sheet) for this explanation. | S49: =AC49 -> 0 | T49: =INDIRECT(ADDRESS(ROW(),T$18)) -> TIME | U49: =INDIRECT(ADDRESS(ROW(),U$18)) -> 21058 | V49: =INDIRECT(ADDRESS(ROW(),V$18)) -> 22057 | W49: =INDIRECT(ADDRESS(ROW(),W$18)) -> 21701 | X49: =INDIRECT(ADDRESS(ROW(),X$18)) -> 20879 | Y49: =INDIRECT(ADDRESS(ROW(),Y$18)) -> 21024 | Z49: =INDIRECT(ADDRESS(ROW(),Z$18)) -> 20745 | AA49: =INDIRECT(ADDRESS(ROW(),AA$18)) -> 0 | ... AC49: =INDIRECT(ADDRESS(ROW(),AC$18)) -> 0
B50: ='Team 1'!B18 -> BOYS 13/U MEDLEY RELAY | C50: DQ REASON | S50: =AC50 -> 0 | T50: =INDIRECT(ADDRESS(ROW(),T$18)) -> DQ REASON | U50: =INDIRECT(ADDRESS(ROW(),U$18)) -> 0 | V50: =INDIRECT(ADDRESS(ROW(),V$18)) -> 0 | W50: =INDIRECT(ADDRESS(ROW(),W$18)) -> 0 | X50: =INDIRECT(ADDRESS(ROW(),X$18)) -> 0 | Y50: =INDIRECT(ADDRESS(ROW(),Y$18)) -> 0 | Z50: =INDIRECT(ADDRESS(ROW(),Z$18)) -> 0 | AA50: =INDIRECT(ADDRESS(ROW(),AA$18)) -> 0 | ... AC50: =INDIRECT(ADDRESS(ROW(),AC$18)) -> 0
B51: EVENT 7 | C51: PLACE | D51: ='print 10 lane'!J26 -> 5 | E51: ='print 10 lane'!M26 -> 6 | F51: ='print 10 lane'!P26 -> 1 | G51: ='print 10 lane'!S26 -> 2 | H51: ='print 10 lane'!V26 -> 4 | I51: ='print 10 lane'!Y26 -> 3 | J51: ='print 10 lane'!AB26 -> 0 | K51: ='print 10 lane'!AE26 -> 0 | L51: ='print 10 lane'!AH26 -> 0 | M51: ='print 10 lane'!AK26 -> 0
B52: ='Team 1'!B22 -> GIRLS 15/U FREESTYLE RELAY | C52: TIME | D52: 15867 | E52: 15959 | F52: 15170 | G52: 15277 | H52: 15787 | I52: 15421 | S52: =AC52 -> 0 | T52: =INDIRECT(ADDRESS(ROW(),T$18)) -> TIME | U52: =INDIRECT(ADDRESS(ROW(),U$18)) -> 15867 | V52: =INDIRECT(ADDRESS(ROW(),V$18)) -> 15959 | W52: =INDIRECT(ADDRESS(ROW(),W$18)) -> 15170 | X52: =INDIRECT(ADDRESS(ROW(),X$18)) -> 15277 | Y52: =INDIRECT(ADDRESS(ROW(),Y$18)) -> 15787 | Z52: =INDIRECT(ADDRESS(ROW(),Z$18)) -> 15421 | AA52: =INDIRECT(ADDRESS(ROW(),AA$18)) -> 0 | ... AC52: =INDIRECT(ADDRESS(ROW(),AC$18)) -> 0
C53: DQ REASON | S53: =AC53 -> 0 | T53: =INDIRECT(ADDRESS(ROW(),T$18)) -> DQ REASON | U53: =INDIRECT(ADDRESS(ROW(),U$18)) -> 0 | V53: =INDIRECT(ADDRESS(ROW(),V$18)) -> 0 | W53: =INDIRECT(ADDRESS(ROW(),W$18)) -> 0 | X53: =INDIRECT(ADDRESS(ROW(),X$18)) -> 0 | Y53: =INDIRECT(ADDRESS(ROW(),Y$18)) -> 0 | Z53: =INDIRECT(ADDRESS(ROW(),Z$18)) -> 0 | AA53: =INDIRECT(ADDRESS(ROW(),AA$18)) -> 0 | ... AC53: =INDIRECT(ADDRESS(ROW(),AC$18)) -> 0
B54: EVENT 8 | C54: PLACE | D54: ='print 10 lane'!J28 -> 4 | E54: ='print 10 lane'!M28 -> 3 | F54: ='print 10 lane'!P28 -> 2 | G54: ='print 10 lane'!S28 -> 1 | H54: ='print 10 lane'!V28 -> 5 | I54: ='print 10 lane'!Y28 -> 6 | J54: ='print 10 lane'!AB28 -> 0 | K54: ='print 10 lane'!AE28 -> 0 | L54: ='print 10 lane'!AH28 -> 0 | M54: ='print 10 lane'!AK28 -> 0
B55: ='Team 1'!B26 -> BOYS 15/U FREESTYLE RELAY | C55: TIME | D55: 14888 | E55: 14834 | F55: 14535 | G55: 14046 | H55: 15022 | I55: 15299 | S55: =AC55 -> 0 | T55: =INDIRECT(ADDRESS(ROW(),T$18)) -> TIME | U55: =INDIRECT(ADDRESS(ROW(),U$18)) -> 14888 | V55: =INDIRECT(ADDRESS(ROW(),V$18)) -> 14834 | W55: =INDIRECT(ADDRESS(ROW(),W$18)) -> 14535 | X55: =INDIRECT(ADDRESS(ROW(),X$18)) -> 14046 | Y55: =INDIRECT(ADDRESS(ROW(),Y$18)) -> 15022 | Z55: =INDIRECT(ADDRESS(ROW(),Z$18)) -> 15299 | AA55: =INDIRECT(ADDRESS(ROW(),AA$18)) -> 0 | ... AC55: =INDIRECT(ADDRESS(ROW(),AC$18)) -> 0
C56: DQ REASON | S56: =AC56 -> 0 | T56: =INDIRECT(ADDRESS(ROW(),T$18)) -> DQ REASON | U56: =INDIRECT(ADDRESS(ROW(),U$18)) -> 0 | V56: =INDIRECT(ADDRESS(ROW(),V$18)) -> 0 | W56: =INDIRECT(ADDRESS(ROW(),W$18)) -> 0 | X56: =INDIRECT(ADDRESS(ROW(),X$18)) -> 0 | Y56: =INDIRECT(ADDRESS(ROW(),Y$18)) -> 0 | Z56: =INDIRECT(ADDRESS(ROW(),Z$18)) -> 0 | AA56: =INDIRECT(ADDRESS(ROW(),AA$18)) -> 0 | ... AC56: =INDIRECT(ADDRESS(ROW(),AC$18)) -> 0
B57: EVENT 9 | C57: PLACE | D57: ='print 10 lane'!J30 -> 3 | E57: ='print 10 lane'!M30 -> 4 | F57: ='print 10 lane'!P30 -> 1 | G57: ='print 10 lane'!S30 -> 2 | H57: ='print 10 lane'!V30 -> 6 | I57: ='print 10 lane'!Y30 -> 5 | J57: ='print 10 lane'!AB30 -> 0 | K57: ='print 10 lane'!AE30 -> 0 | L57: ='print 10 lane'!AH30 -> 0 | M57: ='print 10 lane'!AK30 -> 0
C58: TIME | D58: 20895 | E58: 20924 | F58: 15932 | G58: 15966 | H58: 21095 | I58: 20949 | S58: =AC58 -> 0 | T58: =INDIRECT(ADDRESS(ROW(),T$18)) -> TIME | U58: =INDIRECT(ADDRESS(ROW(),U$18)) -> 20895 | V58: =INDIRECT(ADDRESS(ROW(),V$18)) -> 20924 | W58: =INDIRECT(ADDRESS(ROW(),W$18)) -> 15932 | X58: =INDIRECT(ADDRESS(ROW(),X$18)) -> 15966 | Y58: =INDIRECT(ADDRESS(ROW(),Y$18)) -> 21095 | Z58: =INDIRECT(ADDRESS(ROW(),Z$18)) -> 20949 | AA58: =INDIRECT(ADDRESS(ROW(),AA$18)) -> 0 | ... AC58: =INDIRECT(ADDRESS(ROW(),AC$18)) -> 0
B59: ='Team 1'!B30 -> LADIES OPEN MEDLEY RELAY | C59: DQ REASON | O59: Error correction. Simply overwrite the incorrect information. Do not use "Drag & Drop" or "Cut & Paste" as this will corrupt the programming | S59: =AC59 -> 0 | T59: =INDIRECT(ADDRESS(ROW(),T$18)) -> DQ REASON | U59: =INDIRECT(ADDRESS(ROW(),U$18)) -> 0 | V59: =INDIRECT(ADDRESS(ROW(),V$18)) -> 0 | W59: =INDIRECT(ADDRESS(ROW(),W$18)) -> 0 | X59: =INDIRECT(ADDRESS(ROW(),X$18)) -> 0 | Y59: =INDIRECT(ADDRESS(ROW(),Y$18)) -> 0 | Z59: =INDIRECT(ADDRESS(ROW(),Z$18)) -> 0 | AA59: =INDIRECT(ADDRESS(ROW(),AA$18)) -> 0 | ... AC59: =INDIRECT(ADDRESS(ROW(),AC$18)) -> 0
B60: EVENT 10 | C60: PLACE | D60: ='print 10 lane'!J32 -> 4 | E60: ='print 10 lane'!M32 -> 5 | F60: ='print 10 lane'!P32 -> 2 | G60: ='print 10 lane'!S32 -> 1 | H60: ='print 10 lane'!V32 -> 6 | I60: ='print 10 lane'!Y32 -> 3 | J60: ='print 10 lane'!AB32 -> 0 | K60: ='print 10 lane'!AE32 -> 0 | L60: ='print 10 lane'!AH32 -> 0 | M60: ='print 10 lane'!AK32 -> 0
C61: TIME | D61: 15769 | E61: 15786 | F61: 14802 | G61: 14793 | H61: 15824 | I61: 15459 | S61: =AC61 -> 0 | T61: =INDIRECT(ADDRESS(ROW(),T$18)) -> TIME | U61: =INDIRECT(ADDRESS(ROW(),U$18)) -> 15769 | V61: =INDIRECT(ADDRESS(ROW(),V$18)) -> 15786 | W61: =INDIRECT(ADDRESS(ROW(),W$18)) -> 14802 | X61: =INDIRECT(ADDRESS(ROW(),X$18)) -> 14793 | Y61: =INDIRECT(ADDRESS(ROW(),Y$18)) -> 15824 | Z61: =INDIRECT(ADDRESS(ROW(),Z$18)) -> 15459 | AA61: =INDIRECT(ADDRESS(ROW(),AA$18)) -> 0 | ... AC61: =INDIRECT(ADDRESS(ROW(),AC$18)) -> 0
B62: ='Team 1'!B34 -> MENS OPEN MEDLEY RELAY | C62: DQ REASON | S62: =AC62 -> 0 | T62: =INDIRECT(ADDRESS(ROW(),T$18)) -> DQ REASON | U62: =INDIRECT(ADDRESS(ROW(),U$18)) -> 0 | V62: =INDIRECT(ADDRESS(ROW(),V$18)) -> 0 | W62: =INDIRECT(ADDRESS(ROW(),W$18)) -> 0 | X62: =INDIRECT(ADDRESS(ROW(),X$18)) -> 0 | Y62: =INDIRECT(ADDRESS(ROW(),Y$18)) -> 0 | Z62: =INDIRECT(ADDRESS(ROW(),Z$18)) -> 0 | AA62: =INDIRECT(ADDRESS(ROW(),AA$18)) -> 0 | ... AC62: =INDIRECT(ADDRESS(ROW(),AC$18)) -> 0
B63: EVENT 11 | C63: PLACE | D63: ='print 10 lane'!J34 -> 1 | E63: ='print 10 lane'!M34 -> 6 | F63: ='print 10 lane'!P34 -> 3 | G63: ='print 10 lane'!S34 -> 5 | H63: ='print 10 lane'!V34 -> 2 | I63: ='print 10 lane'!Y34 -> 4 | J63: ='print 10 lane'!AB34 -> 0 | K63: ='print 10 lane'!AE34 -> 0 | L63: ='print 10 lane'!AH34 -> 0 | M63: ='print 10 lane'!AK34 -> 0
C64: TIME | D64: 3715 | E64: 4116 | F64: 3787 | G64: 3852 | H64: 3778 | I64: 3793 | S64: =AC64 -> 0 | T64: =INDIRECT(ADDRESS(ROW(),T$18)) -> TIME | U64: =INDIRECT(ADDRESS(ROW(),U$18)) -> 3715 | V64: =INDIRECT(ADDRESS(ROW(),V$18)) -> 4116 | W64: =INDIRECT(ADDRESS(ROW(),W$18)) -> 3787 | X64: =INDIRECT(ADDRESS(ROW(),X$18)) -> 3852 | Y64: =INDIRECT(ADDRESS(ROW(),Y$18)) -> 3778 | Z64: =INDIRECT(ADDRESS(ROW(),Z$18)) -> 3793 | AA64: =INDIRECT(ADDRESS(ROW(),AA$18)) -> 0 | ... AC64: =INDIRECT(ADDRESS(ROW(),AC$18)) -> 0
B65: ='Team 1'!B38 -> GIRLS 10/11 BACKSTROKE | C65: SWIMMER | D65: ='print 10 lane'!I35 -> Charlotte | E65: ='print 10 lane'!L35 -> Elyse | F65: ='print 10 lane'!O35 -> Leah | G65: ='print 10 lane'!R35 -> Emma | H65: ='print 10 lane'!U35 -> Amy | I65: ='print 10 lane'!X35 -> Eloise | J65: ='print 10 lane'!AA35 | K65: ='print 10 lane'!AD35 | L65: ='print 10 lane'!AG35 | M65: ='print 10 lane'!AJ35 | S65: =AC65 | T65: =INDIRECT(ADDRESS(ROW(),T$18)) -> SWIMMER | U65: =INDIRECT(ADDRESS(ROW(),U$18)) -> Charlotte | V65: =INDIRECT(ADDRESS(ROW(),V$18)) -> Elyse | W65: =INDIRECT(ADDRESS(ROW(),W$18)) -> Leah | X65: =INDIRECT(ADDRESS(ROW(),X$18)) -> Emma | Y65: =INDIRECT(ADDRESS(ROW(),Y$18)) -> Amy | Z65: =INDIRECT(ADDRESS(ROW(),Z$18)) -> Eloise | AA65: =INDIRECT(ADDRESS(ROW(),AA$18)) | ... AC65: =INDIRECT(ADDRESS(ROW(),AC$18))
C66: DQ REASON | S66: =AC66 -> 0 | T66: =INDIRECT(ADDRESS(ROW(),T$18)) -> DQ REASON | U66: =INDIRECT(ADDRESS(ROW(),U$18)) -> 0 | V66: =INDIRECT(ADDRESS(ROW(),V$18)) -> 0 | W66: =INDIRECT(ADDRESS(ROW(),W$18)) -> 0 | X66: =INDIRECT(ADDRESS(ROW(),X$18)) -> 0 | Y66: =INDIRECT(ADDRESS(ROW(),Y$18)) -> 0 | Z66: =INDIRECT(ADDRESS(ROW(),Z$18)) -> 0 | AA66: =INDIRECT(ADDRESS(ROW(),AA$18)) -> 0 | ... AC66: =INDIRECT(ADDRESS(ROW(),AC$18)) -> 0
B67: EVENT 12 | C67: PLACE | D67: ='print 10 lane'!J37 -> 6 | E67: ='print 10 lane'!M37 -> 3 | F67: ='print 10 lane'!P37 -> 5 | G67: ='print 10 lane'!S37 -> 4 | H67: ='print 10 lane'!V37 -> 1 | I67: ='print 10 lane'!Y37 -> 2 | J67: ='print 10 lane'!AB37 -> 0 | K67: ='print 10 lane'!AE37 -> 0 | L67: ='print 10 lane'!AH37 -> 0 | M67: ='print 10 lane'!AK37 -> 0
C68: TIME | D68: 4399 | E68: 3887 | F68: 4321 | G68: 3896 | H68: 3555 | I68: 3735 | O68: =O31 -> Any swim which requires no points to be awarded must have a zero entered into the time box. The reason for a no point allocation must be entered into the box below the swimmers name. Text will automatically allow space of approximately 30 letters (in the printout sheet) for this explanation. | S68: =AC68 -> 0 | T68: =INDIRECT(ADDRESS(ROW(),T$18)) -> TIME | U68: =INDIRECT(ADDRESS(ROW(),U$18)) -> 4399 | V68: =INDIRECT(ADDRESS(ROW(),V$18)) -> 3887 | W68: =INDIRECT(ADDRESS(ROW(),W$18)) -> 4321 | X68: =INDIRECT(ADDRESS(ROW(),X$18)) -> 3896 | Y68: =INDIRECT(ADDRESS(ROW(),Y$18)) -> 3555 | Z68: =INDIRECT(ADDRESS(ROW(),Z$18)) -> 3735 | AA68: =INDIRECT(ADDRESS(ROW(),AA$18)) -> 0 | ... AC68: =INDIRECT(ADDRESS(ROW(),AC$18)) -> 0
B69: ='Team 1'!B39 -> BOYS 10/11 BACKSTROKE | C69: SWIMMER | D69: ='print 10 lane'!I38 -> James | E69: ='print 10 lane'!L38 -> Max | F69: ='print 10 lane'!O38 -> Orlando | G69: ='print 10 lane'!R38 -> Benjamin | H69: ='print 10 lane'!U38 -> Findley | I69: ='print 10 lane'!X38 -> Daniel | J69: ='print 10 lane'!AA38 | K69: ='print 10 lane'!AD38 | L69: ='print 10 lane'!AG38 | M69: ='print 10 lane'!AJ38 | S69: =AC69 | T69: =INDIRECT(ADDRESS(ROW(),T$18)) -> SWIMMER | U69: =INDIRECT(ADDRESS(ROW(),U$18)) -> James | V69: =INDIRECT(ADDRESS(ROW(),V$18)) -> Max | W69: =INDIRECT(ADDRESS(ROW(),W$18)) -> Orlando | X69: =INDIRECT(ADDRESS(ROW(),X$18)) -> Benjamin | Y69: =INDIRECT(ADDRESS(ROW(),Y$18)) -> Findley | Z69: =INDIRECT(ADDRESS(ROW(),Z$18)) -> Daniel | AA69: =INDIRECT(ADDRESS(ROW(),AA$18)) | ... AC69: =INDIRECT(ADDRESS(ROW(),AC$18))
C70: DQ REASON | S70: =AC70 -> 0 | T70: =INDIRECT(ADDRESS(ROW(),T$18)) -> DQ REASON | U70: =INDIRECT(ADDRESS(ROW(),U$18)) -> 0 | V70: =INDIRECT(ADDRESS(ROW(),V$18)) -> 0 | W70: =INDIRECT(ADDRESS(ROW(),W$18)) -> 0 | X70: =INDIRECT(ADDRESS(ROW(),X$18)) -> 0 | Y70: =INDIRECT(ADDRESS(ROW(),Y$18)) -> 0 | Z70: =INDIRECT(ADDRESS(ROW(),Z$18)) -> 0 | AA70: =INDIRECT(ADDRESS(ROW(),AA$18)) -> 0 | ... AC70: =INDIRECT(ADDRESS(ROW(),AC$18)) -> 0
B71: EVENT 13 | C71: PLACE | D71: ='print 10 lane'!J40 -> 5 | E71: ='print 10 lane'!M40 -> 6 | F71: ='print 10 lane'!P40 -> 3 | G71: ='print 10 lane'!S40 -> 1 | H71: ='print 10 lane'!V40 -> 4 | I71: ='print 10 lane'!Y40 -> 2 | J71: ='print 10 lane'!AB40 -> 0 | K71: ='print 10 lane'!AE40 -> 0 | L71: ='print 10 lane'!AH40 -> 0 | M71: ='print 10 lane'!AK40 -> 0
C72: TIME | D72: 12582 | E72: 12734 | F72: 12268 | G72: 11804 | H72: 12485 | I72: 11875 | S72: =AC72 -> 0 | T72: =INDIRECT(ADDRESS(ROW(),T$18)) -> TIME | U72: =INDIRECT(ADDRESS(ROW(),U$18)) -> 12582 | V72: =INDIRECT(ADDRESS(ROW(),V$18)) -> 12734 | W72: =INDIRECT(ADDRESS(ROW(),W$18)) -> 12268 | X72: =INDIRECT(ADDRESS(ROW(),X$18)) -> 11804 | Y72: =INDIRECT(ADDRESS(ROW(),Y$18)) -> 12485 | Z72: =INDIRECT(ADDRESS(ROW(),Z$18)) -> 11875 | AA72: =INDIRECT(ADDRESS(ROW(),AA$18)) -> 0 | ... AC72: =INDIRECT(ADDRESS(ROW(),AC$18)) -> 0
B73: ='Team 1'!B40 -> GIRLS 13/U BREASTSTROKE | C73: SWIMMER | D73: ='print 10 lane'!I41 -> Sophie | E73: ='print 10 lane'!L41 -> Talia-Jay | F73: ='print 10 lane'!O41 -> Jess | G73: ='print 10 lane'!R41 -> Abby | H73: ='print 10 lane'!U41 -> Samantha | I73: ='print 10 lane'!X41 -> Jessica | J73: ='print 10 lane'!AA41 | K73: ='print 10 lane'!AD41 | L73: ='print 10 lane'!AG41 | M73: ='print 10 lane'!AJ41 | S73: =AC73 | T73: =INDIRECT(ADDRESS(ROW(),T$18)) -> SWIMMER | U73: =INDIRECT(ADDRESS(ROW(),U$18)) -> Sophie | V73: =INDIRECT(ADDRESS(ROW(),V$18)) -> Talia-Jay | W73: =INDIRECT(ADDRESS(ROW(),W$18)) -> Jess | X73: =INDIRECT(ADDRESS(ROW(),X$18)) -> Abby | Y73: =INDIRECT(ADDRESS(ROW(),Y$18)) -> Samantha | Z73: =INDIRECT(ADDRESS(ROW(),Z$18)) -> Jessica | AA73: =INDIRECT(ADDRESS(ROW(),AA$18)) | ... AC73: =INDIRECT(ADDRESS(ROW(),AC$18))
C74: DQ REASON | S74: =AC74 -> 0 | T74: =INDIRECT(ADDRESS(ROW(),T$18)) -> DQ REASON | U74: =INDIRECT(ADDRESS(ROW(),U$18)) -> 0 | V74: =INDIRECT(ADDRESS(ROW(),V$18)) -> 0 | W74: =INDIRECT(ADDRESS(ROW(),W$18)) -> 0 | X74: =INDIRECT(ADDRESS(ROW(),X$18)) -> 0 | Y74: =INDIRECT(ADDRESS(ROW(),Y$18)) -> 0 | Z74: =INDIRECT(ADDRESS(ROW(),Z$18)) -> 0 | AA74: =INDIRECT(ADDRESS(ROW(),AA$18)) -> 0 | ... AC74: =INDIRECT(ADDRESS(ROW(),AC$18)) -> 0
B75: EVENT 14 | C75: PLACE | D75: ='print 10 lane'!J43 -> 2 | E75: ='print 10 lane'!M43 -> 4 | F75: ='print 10 lane'!P43 -> 6 | G75: ='print 10 lane'!S43 -> 5 | H75: ='print 10 lane'!V43 -> 3 | I75: ='print 10 lane'!Y43 -> 1 | J75: ='print 10 lane'!AB43 -> 0 | K75: ='print 10 lane'!AE43 -> 0 | L75: ='print 10 lane'!AH43 -> 0 | M75: ='print 10 lane'!AK43 -> 0
C76: TIME | D76: 11814 | E76: 12115 | F76: 12468 | G76: 12365 | H76: 12004 | I76: 11578 | S76: =AC76 -> 0 | T76: =INDIRECT(ADDRESS(ROW(),T$18)) -> TIME | U76: =INDIRECT(ADDRESS(ROW(),U$18)) -> 11814 | V76: =INDIRECT(ADDRESS(ROW(),V$18)) -> 12115 | W76: =INDIRECT(ADDRESS(ROW(),W$18)) -> 12468 | X76: =INDIRECT(ADDRESS(ROW(),X$18)) -> 12365 | Y76: =INDIRECT(ADDRESS(ROW(),Y$18)) -> 12004 | Z76: =INDIRECT(ADDRESS(ROW(),Z$18)) -> 11578 | AA76: =INDIRECT(ADDRESS(ROW(),AA$18)) -> 0 | ... AC76: =INDIRECT(ADDRESS(ROW(),AC$18)) -> 0
B77: ='Team 1'!B41 -> BOYS 13/U BREASTSTROKE | C77: SWIMMER | D77: ='print 10 lane'!I44 -> Henri | E77: ='print 10 lane'!L44 -> Omar | F77: ='print 10 lane'!O44 -> Josh | G77: ='print 10 lane'!R44 -> Matus | H77: ='print 10 lane'!U44 -> James | I77: ='print 10 lane'!X44 -> Benjamin | J77: ='print 10 lane'!AA44 | K77: ='print 10 lane'!AD44 | L77: ='print 10 lane'!AG44 | M77: ='print 10 lane'!AJ44 | S77: =AC77 | T77: =INDIRECT(ADDRESS(ROW(),T$18)) -> SWIMMER | U77: =INDIRECT(ADDRESS(ROW(),U$18)) -> Henri | V77: =INDIRECT(ADDRESS(ROW(),V$18)) -> Omar | W77: =INDIRECT(ADDRESS(ROW(),W$18)) -> Josh | X77: =INDIRECT(ADDRESS(ROW(),X$18)) -> Matus | Y77: =INDIRECT(ADDRESS(ROW(),Y$18)) -> James | Z77: =INDIRECT(ADDRESS(ROW(),Z$18)) -> Benjamin | AA77: =INDIRECT(ADDRESS(ROW(),AA$18)) | ... AC77: =INDIRECT(ADDRESS(ROW(),AC$18))
C78: DQ REASON | S78: =AC78 -> 0 | T78: =INDIRECT(ADDRESS(ROW(),T$18)) -> DQ REASON | U78: =INDIRECT(ADDRESS(ROW(),U$18)) -> 0 | V78: =INDIRECT(ADDRESS(ROW(),V$18)) -> 0 | W78: =INDIRECT(ADDRESS(ROW(),W$18)) -> 0 | X78: =INDIRECT(ADDRESS(ROW(),X$18)) -> 0 | Y78: =INDIRECT(ADDRESS(ROW(),Y$18)) -> 0 | Z78: =INDIRECT(ADDRESS(ROW(),Z$18)) -> 0 | AA78: =INDIRECT(ADDRESS(ROW(),AA$18)) -> 0 | ... AC78: =INDIRECT(ADDRESS(ROW(),AC$18)) -> 0
B79: EVENT 15 | C79: PLACE | D79: ='print 10 lane'!J46 -> 5 | E79: ='print 10 lane'!M46 -> 6 | F79: ='print 10 lane'!P46 -> 1 | G79: ='print 10 lane'!S46 -> 2 | H79: ='print 10 lane'!V46 -> 3 | I79: ='print 10 lane'!Y46 -> 4 | J79: ='print 10 lane'!AB46 -> 0 | K79: ='print 10 lane'!AE46 -> 0 | L79: ='print 10 lane'!AH46 -> 0 | M79: ='print 10 lane'!AK46 -> 0 | O79: Error correction. Simply overwrite the incorrect information. Do not use "Drag & Drop" or "Cut & Paste" as this will corrupt the programming
C80: TIME | D80: 11212 | E80: 11306 | F80: 10384 | G80: 10531 | H80: 10653 | I80: 11059 | S80: =AC80 -> 0 | T80: =INDIRECT(ADDRESS(ROW(),T$18)) -> TIME | U80: =INDIRECT(ADDRESS(ROW(),U$18)) -> 11212 | V80: =INDIRECT(ADDRESS(ROW(),V$18)) -> 11306 | W80: =INDIRECT(ADDRESS(ROW(),W$18)) -> 10384 | X80: =INDIRECT(ADDRESS(ROW(),X$18)) -> 10531 | Y80: =INDIRECT(ADDRESS(ROW(),Y$18)) -> 10653 | Z80: =INDIRECT(ADDRESS(ROW(),Z$18)) -> 11059 | AA80: =INDIRECT(ADDRESS(ROW(),AA$18)) -> 0 | ... AC80: =INDIRECT(ADDRESS(ROW(),AC$18)) -> 0
B81: ='Team 1'!B42 -> GIRLS 15/U BACKSTROKE | C81: SWIMMER | D81: ='print 10 lane'!I47 -> Katie | E81: ='print 10 lane'!L47 -> Rebecca | F81: ='print 10 lane'!O47 -> Eve | G81: ='print 10 lane'!R47 -> Lottie | H81: ='print 10 lane'!U47 -> Emma | I81: ='print 10 lane'!X47 -> Georgina | J81: ='print 10 lane'!AA47 | K81: ='print 10 lane'!AD47 | L81: ='print 10 lane'!AG47 | M81: ='print 10 lane'!AJ47 | S81: =AC81 | T81: =INDIRECT(ADDRESS(ROW(),T$18)) -> SWIMMER | U81: =INDIRECT(ADDRESS(ROW(),U$18)) -> Katie | V81: =INDIRECT(ADDRESS(ROW(),V$18)) -> Rebecca | W81: =INDIRECT(ADDRESS(ROW(),W$18)) -> Eve | X81: =INDIRECT(ADDRESS(ROW(),X$18)) -> Lottie | Y81: =INDIRECT(ADDRESS(ROW(),Y$18)) -> Emma | Z81: =INDIRECT(ADDRESS(ROW(),Z$18)) -> Georgina | AA81: =INDIRECT(ADDRESS(ROW(),AA$18)) | ... AC81: =INDIRECT(ADDRESS(ROW(),AC$18))
C82: DQ REASON | S82: =AC82 -> 0 | T82: =INDIRECT(ADDRESS(ROW(),T$18)) -> DQ REASON | U82: =INDIRECT(ADDRESS(ROW(),U$18)) -> 0 | V82: =INDIRECT(ADDRESS(ROW(),V$18)) -> 0 | W82: =INDIRECT(ADDRESS(ROW(),W$18)) -> 0 | X82: =INDIRECT(ADDRESS(ROW(),X$18)) -> 0 | Y82: =INDIRECT(ADDRESS(ROW(),Y$18)) -> 0 | Z82: =INDIRECT(ADDRESS(ROW(),Z$18)) -> 0 | AA82: =INDIRECT(ADDRESS(ROW(),AA$18)) -> 0 | ... AC82: =INDIRECT(ADDRESS(ROW(),AC$18)) -> 0
B83: EVENT 16 | C83: PLACE | D83: ='print 10 lane'!J49 -> 3 | E83: ='print 10 lane'!M49 -> 6 | F83: ='print 10 lane'!P49 -> 5 | G83: ='print 10 lane'!S49 -> 1 | H83: ='print 10 lane'!V49 -> 2 | I83: ='print 10 lane'!Y49 -> 4 | J83: ='print 10 lane'!AB49 -> 0 | K83: ='print 10 lane'!AE49 -> 0 | L83: ='print 10 lane'!AH49 -> 0 | M83: ='print 10 lane'!AK49 -> 0
C84: TIME | D84: 10415 | E84: 10745 | F84: 10549 | G84: 10142 | H84: 10324 | I84: 10493 | S84: =AC84 -> 0 | T84: =INDIRECT(ADDRESS(ROW(),T$18)) -> TIME | U84: =INDIRECT(ADDRESS(ROW(),U$18)) -> 10415 | V84: =INDIRECT(ADDRESS(ROW(),V$18)) -> 10745 | W84: =INDIRECT(ADDRESS(ROW(),W$18)) -> 10549 | X84: =INDIRECT(ADDRESS(ROW(),X$18)) -> 10142 | Y84: =INDIRECT(ADDRESS(ROW(),Y$18)) -> 10324 | Z84: =INDIRECT(ADDRESS(ROW(),Z$18)) -> 10493 | AA84: =INDIRECT(ADDRESS(ROW(),AA$18)) -> 0 | ... AC84: =INDIRECT(ADDRESS(ROW(),AC$18)) -> 0
B85: ='Team 1'!B43 -> BOYS 15/U BACKSTROKE | C85: SWIMMER | D85: ='print 10 lane'!I50 -> Ben | E85: ='print 10 lane'!L50 -> Thomas | F85: ='print 10 lane'!O50 -> Fabian | G85: ='print 10 lane'!R50 -> Joshua | H85: ='print 10 lane'!U50 -> Andrew | I85: ='print 10 lane'!X50 -> Thomas | J85: ='print 10 lane'!AA50 | K85: ='print 10 lane'!AD50 | L85: ='print 10 lane'!AG50 | M85: ='print 10 lane'!AJ50 | S85: =AC85 | T85: =INDIRECT(ADDRESS(ROW(),T$18)) -> SWIMMER | U85: =INDIRECT(ADDRESS(ROW(),U$18)) -> Ben | V85: =INDIRECT(ADDRESS(ROW(),V$18)) -> Thomas | W85: =INDIRECT(ADDRESS(ROW(),W$18)) -> Fabian | X85: =INDIRECT(ADDRESS(ROW(),X$18)) -> Joshua | Y85: =INDIRECT(ADDRESS(ROW(),Y$18)) -> Andrew | Z85: =INDIRECT(ADDRESS(ROW(),Z$18)) -> Thomas | AA85: =INDIRECT(ADDRESS(ROW(),AA$18)) | ... AC85: =INDIRECT(ADDRESS(ROW(),AC$18))
C86: DQ REASON | S86: =AC86 -> 0 | T86: =INDIRECT(ADDRESS(ROW(),T$18)) -> DQ REASON | U86: =INDIRECT(ADDRESS(ROW(),U$18)) -> 0 | V86: =INDIRECT(ADDRESS(ROW(),V$18)) -> 0 | W86: =INDIRECT(ADDRESS(ROW(),W$18)) -> 0 | X86: =INDIRECT(ADDRESS(ROW(),X$18)) -> 0 | Y86: =INDIRECT(ADDRESS(ROW(),Y$18)) -> 0 | Z86: =INDIRECT(ADDRESS(ROW(),Z$18)) -> 0 | AA86: =INDIRECT(ADDRESS(ROW(),AA$18)) -> 0 | ... AC86: =INDIRECT(ADDRESS(ROW(),AC$18)) -> 0
B87: EVENT 17 | C87: PLACE | D87: ='print 10 lane'!J52 -> 4 | E87: ='print 10 lane'!M52 -> 3 | F87: ='print 10 lane'!P52 -> 1 | G87: ='print 10 lane'!S52 -> 2 | H87: ='print 10 lane'!V52 -> 6 | I87: ='print 10 lane'!Y52 -> 5 | J87: ='print 10 lane'!AB52 -> 0 | K87: ='print 10 lane'!AE52 -> 0 | L87: ='print 10 lane'!AH52 -> 0 | M87: ='print 10 lane'!AK52 -> 0
C88: TIME | D88: 11003 | E88: 10912 | F88: 10357 | G88: 10746 | H88: 11552 | I88: 11101 | O88: =O31 -> Any swim which requires no points to be awarded must have a zero entered into the time box. The reason for a no point allocation must be entered into the box below the swimmers name. Text will automatically allow space of approximately 30 letters (in the printout sheet) for this explanation. | S88: =AC88 -> 0 | T88: =INDIRECT(ADDRESS(ROW(),T$18)) -> TIME | U88: =INDIRECT(ADDRESS(ROW(),U$18)) -> 11003 | V88: =INDIRECT(ADDRESS(ROW(),V$18)) -> 10912 | W88: =INDIRECT(ADDRESS(ROW(),W$18)) -> 10357 | X88: =INDIRECT(ADDRESS(ROW(),X$18)) -> 10746 | Y88: =INDIRECT(ADDRESS(ROW(),Y$18)) -> 11552 | Z88: =INDIRECT(ADDRESS(ROW(),Z$18)) -> 11101 | AA88: =INDIRECT(ADDRESS(ROW(),AA$18)) -> 0 | ... AC88: =INDIRECT(ADDRESS(ROW(),AC$18)) -> 0
B89: ='Team 1'!B44 -> LADIES OPEN BUTTERFLY | C89: SWIMMER | D89: ='print 10 lane'!I53 -> Rebecca | E89: ='print 10 lane'!L53 -> Freya | F89: ='print 10 lane'!O53 -> Mia | G89: ='print 10 lane'!R53 -> Kaelah | H89: ='print 10 lane'!U53 -> Lauren | I89: ='print 10 lane'!X53 -> Emily | J89: ='print 10 lane'!AA53 | K89: ='print 10 lane'!AD53 | L89: ='print 10 lane'!AG53 | M89: ='print 10 lane'!AJ53 | S89: =AC89 | T89: =INDIRECT(ADDRESS(ROW(),T$18)) -> SWIMMER | U89: =INDIRECT(ADDRESS(ROW(),U$18)) -> Rebecca | V89: =INDIRECT(ADDRESS(ROW(),V$18)) -> Freya | W89: =INDIRECT(ADDRESS(ROW(),W$18)) -> Mia | X89: =INDIRECT(ADDRESS(ROW(),X$18)) -> Kaelah | Y89: =INDIRECT(ADDRESS(ROW(),Y$18)) -> Lauren | Z89: =INDIRECT(ADDRESS(ROW(),Z$18)) -> Emily | AA89: =INDIRECT(ADDRESS(ROW(),AA$18)) | ... AC89: =INDIRECT(ADDRESS(ROW(),AC$18))
C90: DQ REASON | S90: =AC90 -> 0 | T90: =INDIRECT(ADDRESS(ROW(),T$18)) -> DQ REASON | U90: =INDIRECT(ADDRESS(ROW(),U$18)) -> 0 | V90: =INDIRECT(ADDRESS(ROW(),V$18)) -> 0 | W90: =INDIRECT(ADDRESS(ROW(),W$18)) -> 0 | X90: =INDIRECT(ADDRESS(ROW(),X$18)) -> 0 | Y90: =INDIRECT(ADDRESS(ROW(),Y$18)) -> 0 | Z90: =INDIRECT(ADDRESS(ROW(),Z$18)) -> 0 | AA90: =INDIRECT(ADDRESS(ROW(),AA$18)) -> 0 | ... AC90: =INDIRECT(ADDRESS(ROW(),AC$18)) -> 0
B91: EVENT 18 | C91: PLACE | D91: ='print 10 lane'!J55 -> 5 | E91: ='print 10 lane'!M55 -> 2 | F91: ='print 10 lane'!P55 -> 1 | G91: ='print 10 lane'!S55 -> 3 | H91: ='print 10 lane'!V55 -> 6 | I91: ='print 10 lane'!Y55 -> 4 | J91: ='print 10 lane'!AB55 -> 0 | K91: ='print 10 lane'!AE55 -> 0 | L91: ='print 10 lane'!AH55 -> 0 | M91: ='print 10 lane'!AK55 -> 0
C92: TIME | D92: 10513 | E92: 10037 | F92: 5728 | G92: 10087 | H92: 10767 | I92: 10326 | S92: =AC92 -> 0 | T92: =INDIRECT(ADDRESS(ROW(),T$18)) -> TIME | U92: =INDIRECT(ADDRESS(ROW(),U$18)) -> 10513 | V92: =INDIRECT(ADDRESS(ROW(),V$18)) -> 10037 | W92: =INDIRECT(ADDRESS(ROW(),W$18)) -> 5728 | X92: =INDIRECT(ADDRESS(ROW(),X$18)) -> 10087 | Y92: =INDIRECT(ADDRESS(ROW(),Y$18)) -> 10767 | Z92: =INDIRECT(ADDRESS(ROW(),Z$18)) -> 10326 | AA92: =INDIRECT(ADDRESS(ROW(),AA$18)) -> 0 | ... AC92: =INDIRECT(ADDRESS(ROW(),AC$18)) -> 0
B93: ='Team 1'!B45 -> MENS OPEN BUTTERFLY | C93: SWIMMER | D93: ='print 10 lane'!I56 -> Harry | E93: ='print 10 lane'!L56 -> Liam | F93: ='print 10 lane'!O56 -> Harry | G93: ='print 10 lane'!R56 -> Max | H93: ='print 10 lane'!U56 -> Tobias | I93: ='print 10 lane'!X56 -> Max | J93: ='print 10 lane'!AA56 | K93: ='print 10 lane'!AD56 | L93: ='print 10 lane'!AG56 | M93: ='print 10 lane'!AJ56 | S93: =AC93 | T93: =INDIRECT(ADDRESS(ROW(),T$18)) -> SWIMMER | U93: =INDIRECT(ADDRESS(ROW(),U$18)) -> Harry | V93: =INDIRECT(ADDRESS(ROW(),V$18)) -> Liam | W93: =INDIRECT(ADDRESS(ROW(),W$18)) -> Harry | X93: =INDIRECT(ADDRESS(ROW(),X$18)) -> Max | Y93: =INDIRECT(ADDRESS(ROW(),Y$18)) -> Tobias | Z93: =INDIRECT(ADDRESS(ROW(),Z$18)) -> Max | AA93: =INDIRECT(ADDRESS(ROW(),AA$18)) | ... AC93: =INDIRECT(ADDRESS(ROW(),AC$18))
C94: DQ REASON | S94: =AC94 -> 0 | T94: =INDIRECT(ADDRESS(ROW(),T$18)) -> DQ REASON | U94: =INDIRECT(ADDRESS(ROW(),U$18)) -> 0 | V94: =INDIRECT(ADDRESS(ROW(),V$18)) -> 0 | W94: =INDIRECT(ADDRESS(ROW(),W$18)) -> 0 | X94: =INDIRECT(ADDRESS(ROW(),X$18)) -> 0 | Y94: =INDIRECT(ADDRESS(ROW(),Y$18)) -> 0 | Z94: =INDIRECT(ADDRESS(ROW(),Z$18)) -> 0 | AA94: =INDIRECT(ADDRESS(ROW(),AA$18)) -> 0 | ... AC94: =INDIRECT(ADDRESS(ROW(),AC$18)) -> 0
B95: EVENT 19 | C95: PLACE | D95: ='print 10 lane'!J58 -> 3 | E95: ='print 10 lane'!M58 -> 0 | F95: ='print 10 lane'!P58 -> 2 | G95: ='print 10 lane'!S58 -> 1 | H95: ='print 10 lane'!V58 -> 4 | I95: ='print 10 lane'!Y58 -> 5 | J95: ='print 10 lane'!AB58 -> 0 | K95: ='print 10 lane'!AE58 -> 0 | L95: ='print 10 lane'!AH58 -> 0 | M95: ='print 10 lane'!AK58 -> 0
C96: TIME | D96: 3590 | F96: 3377 | G96: 3261 | H96: 4156 | I96: 4556 | S96: =AC96 -> 0 | T96: =INDIRECT(ADDRESS(ROW(),T$18)) -> TIME | U96: =INDIRECT(ADDRESS(ROW(),U$18)) -> 3590 | V96: =INDIRECT(ADDRESS(ROW(),V$18)) -> 0 | W96: =INDIRECT(ADDRESS(ROW(),W$18)) -> 3377 | X96: =INDIRECT(ADDRESS(ROW(),X$18)) -> 3261 | Y96: =INDIRECT(ADDRESS(ROW(),Y$18)) -> 4156 | Z96: =INDIRECT(ADDRESS(ROW(),Z$18)) -> 4556 | AA96: =INDIRECT(ADDRESS(ROW(),AA$18)) -> 0 | ... AC96: =INDIRECT(ADDRESS(ROW(),AC$18)) -> 0
B97: ='Team 1'!B46 -> GIRLS 10/11 BUTTERFLY | C97: SWIMMER | D97: ='print 10 lane'!I59 -> Charlotte | E97: ='print 10 lane'!L59 -> Milly | F97: ='print 10 lane'!O59 -> Megan | G97: ='print 10 lane'!R59 -> Despoina | H97: ='print 10 lane'!U59 -> Emma | I97: ='print 10 lane'!X59 -> Fleur | J97: ='print 10 lane'!AA59 | K97: ='print 10 lane'!AD59 | L97: ='print 10 lane'!AG59 | M97: ='print 10 lane'!AJ59 | S97: =AC97 | T97: =INDIRECT(ADDRESS(ROW(),T$18)) -> SWIMMER | U97: =INDIRECT(ADDRESS(ROW(),U$18)) -> Charlotte | V97: =INDIRECT(ADDRESS(ROW(),V$18)) -> Milly | W97: =INDIRECT(ADDRESS(ROW(),W$18)) -> Megan | X97: =INDIRECT(ADDRESS(ROW(),X$18)) -> Despoina | Y97: =INDIRECT(ADDRESS(ROW(),Y$18)) -> Emma | Z97: =INDIRECT(ADDRESS(ROW(),Z$18)) -> Fleur | AA97: =INDIRECT(ADDRESS(ROW(),AA$18)) | ... AC97: =INDIRECT(ADDRESS(ROW(),AC$18))
C98: DQ REASON | E98: 8.3 (Alt legs) | S98: =AC98 -> 0 | T98: =INDIRECT(ADDRESS(ROW(),T$18)) -> DQ REASON | U98: =INDIRECT(ADDRESS(ROW(),U$18)) -> 0 | V98: =INDIRECT(ADDRESS(ROW(),V$18)) -> 8.3 (Alt legs) | W98: =INDIRECT(ADDRESS(ROW(),W$18)) -> 0 | X98: =INDIRECT(ADDRESS(ROW(),X$18)) -> 0 | Y98: =INDIRECT(ADDRESS(ROW(),Y$18)) -> 0 | Z98: =INDIRECT(ADDRESS(ROW(),Z$18)) -> 0 | AA98: =INDIRECT(ADDRESS(ROW(),AA$18)) -> 0 | ... AC98: =INDIRECT(ADDRESS(ROW(),AC$18)) -> 0
B99: EVENT 20 | C99: PLACE | D99: ='print 10 lane'!J61 -> 2 | E99: ='print 10 lane'!M61 -> 4 | F99: ='print 10 lane'!P61 -> 6 | G99: ='print 10 lane'!S61 -> 5 | H99: ='print 10 lane'!V61 -> 1 | I99: ='print 10 lane'!Y61 -> 3 | J99: ='print 10 lane'!AB61 -> 0 | K99: ='print 10 lane'!AE61 -> 0 | L99: ='print 10 lane'!AH61 -> 0 | M99: ='print 10 lane'!AK61 -> 0 | O99: Error correction. Simply overwrite the incorrect information. Do not use "Drag & Drop" or "Cut & Paste" as this will corrupt the programming
C100: TIME | D100: 3731 | E100: 3965 | F100: 4235 | G100: 4234 | H100: 3627 | I100: 3874 | S100: =AC100 -> 0 | T100: =INDIRECT(ADDRESS(ROW(),T$18)) -> TIME | U100: =INDIRECT(ADDRESS(ROW(),U$18)) -> 3731 | V100: =INDIRECT(ADDRESS(ROW(),V$18)) -> 3965 | W100: =INDIRECT(ADDRESS(ROW(),W$18)) -> 4235 | X100: =INDIRECT(ADDRESS(ROW(),X$18)) -> 4234 | Y100: =INDIRECT(ADDRESS(ROW(),Y$18)) -> 3627 | Z100: =INDIRECT(ADDRESS(ROW(),Z$18)) -> 3874 | AA100: =INDIRECT(ADDRESS(ROW(),AA$18)) -> 0 | ... AC100: =INDIRECT(ADDRESS(ROW(),AC$18)) -> 0
...

Sheet Quick Check
D1: Gala Setup | F1: Gala Recording | H1: Time & Place Quick Check
B2: ='Gala Setup'!$S$4 -> NASL.2018 | D2: LANE | F2: LANE | H2: LANE | J2: LANE | L2: LANE | N2: LANE | P2: LANE | R2: LANE | T2: LANE | V2: LANE
D3: ='Gala Setup'!N4 -> 1 | F3: ='Gala Setup'!N5 -> 2 | H3: ='Gala Setup'!N6 -> 3 | J3: ='Gala Setup'!N7 -> 4 | L3: ='Gala Setup'!N8 -> 5 | N3: ='Gala Setup'!N9 -> 6 | P3: ='Gala Setup'!N10 -> 0 | R3: ='Gala Setup'!N11 -> 0 | T3: ='Gala Setup'!N12 -> 0 | V3: ='Gala Setup'!N13 -> 0
C4: EVENT 1 | D4: ='print 10 lane'!I12 -> 0.0017052083 | E4: ='print 10 lane'!J12 -> 3 | F4: ='print 10 lane'!L12 -> 0.0017511574 | G4: ='print 10 lane'!M12 -> 5 | H4: ='print 10 lane'!O12 -> 0.0016288194 | I4: ='print 10 lane'!P12 -> 1 | J4: ='print 10 lane'!R12 -> 0.0016855324 | K4: ='print 10 lane'!S12 -> 2 | L4: ='print 10 lane'!U12 -> 0.0017784722 | M4: ='print 10 lane'!V12 -> 6 | N4: ='print 10 lane'!X12 -> 0.0017298611 | O4: ='print 10 lane'!Y12 -> 4 | P4: ='print 10 lane'!AA12 -> 0 | Q4: ='print 10 lane'!AB12 -> 0 | R4: ='print 10 lane'!AD12 -> 0 | S4: ='print 10 lane'!AE12 -> 0 | T4: ='print 10 lane'!AG12 -> 0 | U4: ='print 10 lane'!AH12 -> 0 | V4: ='print 10 lane'!AJ12 -> 0 | W4: ='print 10 lane'!AK12 -> 0
