Workbook

Sheet Gala Setup
H1: 100M | I1: 200m | K1: Note to all those using this programme DO NOT USE "CUT & PASTE" or "DRAG & DROP" in any Arena documents
D2: ='Gala Setup'!J7 -> 0 | G2: =DATE(YEAR(NOW()),12,31) -> 43465 | H2: National Arena Swimming League | L2: Import or Edit Teams ↓ | N2: Enter Lane Numbers ALWAYS Starting with the lowest number ↓ | P2: Team names will show here when the team sheet is imported | Q2: Enter 4 digit club code HERE ↓ | AD2: =H2 -> National Arena Swimming League | AG2: =S4 -> NASL.2018 | AH2: LANE | AI2: These are the names that have been entered on the team sheet
H3: Gala recorders:- Please fill in all red boxes.
B4: =H2 -> National Arena Swimming League | C4: =H6 -> Peterborough | D4: =H6 -> Peterborough | E4: =H7 -> 43386 | F4: =IF(J8=25,31,IF(J8=50,11)) -> 31 | G4: League | H4: East Midlands | I4: Division | J4: Premier | L4: TEAM 1 | N4: 1 | O4: =IF(P4=0,"No Team Sheet",IF(M4=0,0,IF(M4=P4,"OK","ERROR"))) -> 0 | P4: =IF('Team 1'!E1=0,"The team in the lowest numbered lane must show here",'Team 1'!E1) -> Norwich Swans | Q4: NOST | S4: NASL.2018 | AD4: League | AE4: =H4 -> East Midlands | AF4: DIVISION | AG4: =J4 -> Premier | AH4: LANE 1 | AI4: =P4 -> Norwich Swans | AJ4: =M4 -> 0 | AK4: =IF(AJ4=0,"No Team Sheet",IF(AI4=0,0,IF(AI4=AJ4,"OK","ERROR"))) -> No Team Sheet | AL4: 6 LANES | AM4: 8 LANES | AN4: 10 LANES
E5: =TEXT(E4,"DD/MM/YY") -> 13/10/18 | G5: Round | H5: 1 | I5: Gala Number | J5: 1 | L5: TEAM 2 | N5: 2 | O5: =IF(P5=0,"No Team Sheet",IF(M5=0,0,IF(M5=P5,"OK","ERROR"))) -> 0 | P5: ='Team 2'!E$1 -> Northampton B | Q5: NHNA | S5: Earlier versions are all still usable | AD5: Round | AE5: =H5 -> 1 | AF5: Gala Number | AG5: =J5 -> 1 | AH5: LANE 2 | AI5: =P5 -> Northampton B | AJ5: =M5 -> 0 | AK5: =IF(AJ5=0,"No Team Sheet",IF(AI5=0,0,IF(AI5=AJ5,"OK","ERROR"))) -> No Team Sheet
E6: =LEFT(E5,2)&MID(E5,4,2)&RIGHT(E5,2) -> 131018 | G6: Gala venue | H6: Peterborough | L6: TEAM 3 | N6: 3 | O6: =IF(P6=0,"No Team Sheet",IF(M6=0,0,IF(M6=P6,"OK","ERROR"))) -> 0 | P6: ='Team 3'!E$1 -> City of Peterborough A | Q6: PETT | AD6: Gala venue | AE6: =H6 -> Peterborough | AH6: LANE 3 | AI6: =P6 -> City of Peterborough A | AJ6: =M6 -> 0 | AK6: =IF(AJ6=0,"No Team Sheet",IF(AI6=0,0,IF(AI6=AJ6,"OK","ERROR"))) -> No Team Sheet
G7: Gala Date | H7: 43386 | I7: License Number (If applicable) | L7: TEAM 4 | N7: 4 | O7: =IF(P7=0,"No Team Sheet",IF(M7=0,0,IF(M7=P7,"OK","ERROR"))) -> 0 | P7: ='Team 4'!E$1 -> City of Milton Keynes | Q7: CMKS | AD7: Gala Date | AE7: =H7 -> 43386 | AH7: LANE 4 | AI7: =P7 -> City of Milton Keynes | AJ7: =M7 -> 0 | AK7: =IF(AJ7=0,"No Team Sheet",IF(AI7=0,0,IF(AI7=AJ7,"OK","ERROR"))) -> No Team Sheet
G8: Pool Length:--- Only enter 25 or 50 (necessary for Rankings if a Licensed gala) | J8: 25 | L8: TEAM 5 | N8: 5 | O8: =IF(P8=0,"No Team Sheet",IF(M8=0,0,IF(M8=P8,"OK","ERROR"))) -> 0 | P8: ='Team 5'!E$1 -> Nottingham Leander | Q8: LEAA | S8: Final Results | X8: Check a Result | AD8: Pool Length | AF8: =J8 -> 25 | AH8: LANE 5 | AI8: =P8 -> Nottingham Leander | AJ8: =M8 -> 0 | AK8: =IF(AJ8=0,"No Team Sheet",IF(AI8=0,0,IF(AI8=AJ8,"OK","ERROR"))) -> No Team Sheet
G9: Enter the IM distance for events 1 & 2 for this gala. This will either be 100M or 200M. | J9: 200M | L9: TEAM 6 | N9: 6 | O9: =IF(P9=0,"No Team Sheet",IF(M9=0,0,IF(M9=P9,"OK","ERROR"))) -> 0 | P9: ='Team 6'!E$1 -> Moderians | Q9: MODT | S9: Swimmer Eligibilty | X9: Club Codes | AG9: Metre | AH9: LANE 6 | AI9: =P9 -> Moderians | AJ9: =M9 -> 0 | AK9: =IF(AJ9=0,"No Team Sheet",IF(AI9=0,0,IF(AI9=AJ9,"OK","ERROR"))) -> No Team Sheet
G10: Notes for Gala recorders. | L10: TEAM 7 | O10: =IF(P10=0,"No Team Sheet",IF(M10=0,0,IF(M10=P10,"OK","ERROR"))) -> No Team Sheet | P10: ='Team 7'!E1 -> 0 | R10: Results Printout 6 Lane | AH10: LANE 7 | AI10: =P10 -> 0 | AJ10: =M10 -> 0 | AK10: =IF(AJ10=0,"No Team Sheet",IF(AI10=0,0,IF(AI10=AJ10,"OK","ERROR"))) -> No Team Sheet
G11: 1/ Please ensure that all gala details are correctly entered. Team names automatically appear as shown on the team sheets. The 4 digit club codes MUST then be entered on this page. 2/ Lane order is as supplied by your league secretary & lanes should be numbered on this sheet, to coincide with the pool setup. | L11: TEAM 8 | O11: =IF(P11=0,"No Team Sheet",IF(M11=0,0,IF(M11=P11,"OK","ERROR"))) -> No Team Sheet | P11: ='Team 8'!E1 -> 0 | R11: Results Printout 8 Lane | AD11: Medley distance | AF11: =J9 -> 200M | AH11: LANE 8 | AI11: =P11 -> 0 | AJ11: =M11 -> 0 | AK11: =IF(AJ11=0,"No Team Sheet",IF(AI11=0,0,IF(AI11=AJ11,"OK","ERROR"))) -> No Team Sheet
L12: TEAM 9 | O12: =IF(P12=0,"No Team Sheet",IF(M12=0,0,IF(M12=P12,"OK","ERROR"))) -> No Team Sheet | P12: ='Team 9'!E1 -> 0 | S12: Results Printout 10 Lane | AH12: LANE 9 | AI12: =P12 -> 0 | AJ12: =M12 -> 0 | AK12: =IF(AJ12=0,"No Team Sheet",IF(AI12=0,0,IF(AI12=AJ12,"OK","ERROR"))) -> No Team Sheet
G13: 3/ Team & lane data must always be entered starting with "Team 1" no matter how many teams are swimming or which number lanes are used. | L13: TEAM 10 | O13: =IF(P13=0,"No Team Sheet",IF(M13=0,0,IF(M13=P13,"OK","ERROR"))) -> No Team Sheet | P13: ='Team 10'!E1 -> 0 | S13: Rankings HDR file | X13: Rankings MRF file | AH13: LANE 0 | AI13: =P13 -> 0 | AJ13: =M13 -> 0 | AK13: =IF(AJ13=0,"No Team Sheet",IF(AI13=0,0,IF(AI13=AJ13,"OK","ERROR"))) -> No Team Sheet
G14: 4/ If an individual gala result is tied, places are automatically calculated on countback using all 50 events. All placings are taken into account when necessary. 5/ The final result sheet also calculates the overall league result. To use this facility, points from galas 1 & 2 must be entered using the information supplied to you by your league secretary. | N14: → | P14: Print Lane timer sheets | X14: ←
L15: → | N15: Run the Gala | Y15: ←
G17: 6/ Navigation between the different parts of the programme can be either by selecting the links located within each page, or by using the sheet tabs at the bottom of the page.
G19: 7/ If a club name is made up entirely with numbers eg 1066 or 1930 then letters must be added for points to score correctly. SC is acceptable. | L19: ↗ | Y19: ↖
G20: Email this complete excel file to your league secretary as soon as possible & at the latest by Midday of the next day.

Sheet Lane Timer sheets
D1: Gala Setup | E1: Gala Recording | F1: Check a Result | G1: Check a Swimmer | H1: Final Result | I1: Team sheets ↓
A2: Lane Timer sheets are now required at Arena League Galas 1. Ensure that you have processed any team changes before printing out these sheets. 2. Now - From this page, Press - Ctrl+P on the keyboard. 3. The default setting is for 10 lanes, with 2 pages per lane, so please select the number of pages to equal the number of lanes in use. Please note Only 1 copy should be selected, as that will print 1 copy of each lane. Individual events are on sheet 1, Relays are on sheet 2. Hand the printed sheets to the Referee who will issue them to the timekeepers. | I2: TEAM 1 | K2: ='Gala Setup'!$H7 -> 43386 | O2: ='Gala Setup'!$H4 -> East Midlands | P2: ='Gala Setup'!$J4 -> Premier | S2: ='Gala Setup'!$H7 -> 43386 | U2: ='Gala Setup'!H4 -> East Midlands | V2: ='Gala Setup'!J4 -> Premier | W2: ='Gala Setup'!$H4 -> East Midlands | X2: ='Gala Setup'!$J4 -> Premier | Y2: ='Gala Setup'!$H7 -> 43386 | AA2: ='Gala Setup'!$H4 -> East Midlands | AB2: ='Gala Setup'!$J4 -> Premier | AC2: ='Gala Setup'!$H4 -> East Midlands | AD2: ='Gala Setup'!$J4 -> Premier | AE2: ='Gala Setup'!$H7 -> 43386 | AG2: ='Gala Setup'!$H4 -> East Midlands | AH2: ='Gala Setup'!$J4 -> Premier | AI2: ='Gala Setup'!$H4 -> East Midlands | AJ2: ='Gala Setup'!$J4 -> Premier | AK2: ='Gala Setup'!$H7 -> 43386 | AM2: ='Gala Setup'!$H4 -> East Midlands | AN2: ='Gala Setup'!$J4 -> Premier | AO2: ='Gala Setup'!$H4 -> East Midlands | AP2: ='Gala Setup'!$J4 -> Premier | AQ2: ='Gala Setup'!$H7 -> 43386 | AS2: ='Gala Setup'!$H4 -> East Midlands | AT2: ='Gala Setup'!$J4 -> Premier | AU2: ='Gala Setup'!$H4 -> East Midlands | AV2: ='Gala Setup'!$J4 -> Premier | AW2: ='Gala Setup'!$H7 -> 43386 | AY2: ='Gala Setup'!$H4 -> East Midlands | AZ2: ='Gala Setup'!$J4 -> Premier | BA2: ='Gala Setup'!$H4 -> East Midlands | BB2: ='Gala Setup'!$J4 -> Premier | BC2: ='Gala Setup'!$H7 -> 43386 | BE2: ='Gala Setup'!$H4 -> East Midlands | BF2: ='Gala Setup'!$J4 -> Premier | BG2: ='Gala Setup'!$H4 -> East Midlands | BH2: ='Gala Setup'!$J4 -> Premier | BI2: ='Gala Setup'!$H7 -> 43386 | BK2: ='Gala Setup'!$H4 -> East Midlands | BL2: ='Gala Setup'!$J4 -> Premier | BM2: ='Gala Setup'!$H4 -> East Midlands | BN2: ='Gala Setup'!$J4 -> Premier | BO2: ='Gala Setup'!$H7 -> 43386 | BQ2: ='Gala Setup'!$H4 -> East Midlands | BR2: ='Gala Setup'!$J4 -> Premier
I3: TEAM 2 | K3: ='Gala Setup'!$H6 -> Peterborough | S3: ='Gala Setup'!$H6 -> Peterborough | Y3: ='Gala Setup'!$H6 -> Peterborough | AE3: ='Gala Setup'!$H6 -> Peterborough | AK3: ='Gala Setup'!$H6 -> Peterborough | AQ3: ='Gala Setup'!$H6 -> Peterborough | AW3: ='Gala Setup'!$H6 -> Peterborough | BC3: ='Gala Setup'!$H6 -> Peterborough | BI3: ='Gala Setup'!$H6 -> Peterborough | BO3: ='Gala Setup'!H6 -> Peterborough
I4: TEAM 3 | K4: Events | O4: ='Gala Setup'!P4 -> Norwich Swans | P4: Time | S4: Events | U4: ='Gala Setup'!P5 -> Northampton B | V4: Time | Y4: Events | AA4: ='Gala Setup'!P6 -> City of Peterborough A | AB4: Time | AE4: Events | AG4: ='Gala Setup'!P7 -> City of Milton Keynes | AH4: Time | AK4: Events | AM4: ='Gala Setup'!P8 -> Nottingham Leander | AN4: Time | AQ4: Events | AS4: ='Gala Setup'!P9 -> Moderians | AT4: Time | AW4: Events | AY4: ='Gala Setup'!P10 -> 0 | AZ4: Time | BC4: Events | BE4: ='Gala Setup'!P11 -> 0 | BF4: Time | BI4: Events | BK4: ='Gala Setup'!P12 -> 0 | BL4: Time | BO4: Events | BQ4: ='Gala Setup'!P13 -> 0 | BR4: Time
I5: TEAM 4 | O5: LANE | U5: LANE | W5: LANE | X5: LANE | AA5: LANE | AC5: LANE | AD5: LANE | AG5: LANE | AI5: LANE | AJ5: LANE | AM5: LANE | AO5: LANE | AP5: LANE | AS5: LANE | AU5: LANE | AV5: LANE | AY5: LANE | BA5: LANE | BB5: LANE | BE5: LANE | BG5: LANE | BH5: LANE | BK5: LANE | BM5: LANE | BN5: LANE | BQ5: LANE
I6: TEAM 5 | O6: ='Gala Setup'!N4 -> 1 | Q6: lane 4 | R6: lane 5 | U6: ='Gala Setup'!N5 -> 2 | W6: ='Gala Setup'!N6 -> 3 | X6: ='Gala Setup'!#REF! -> #REF! | AA6: ='Gala Setup'!N6 -> 3 | AC6: ='Gala Setup'!V4 -> 0 | AD6: ='Gala Setup'!X4 -> 0 | AG6: ='Gala Setup'!N7 -> 4 | AI6: ='Gala Setup'!Z4 -> 0 | AJ6: ='Gala Setup'!AA4 -> 0 | AM6: ='Gala Setup'!N8 -> 5 | AO6: ='Gala Setup'!AC4 -> 0 | AP6: ='Gala Setup'!AD4 -> League | AS6: ='Gala Setup'!N9 -> 6 | AU6: ='Gala Setup'!AF4 -> DIVISION | AV6: ='Gala Setup'!AG4 -> Premier | AY6: ='Gala Setup'!N10 -> 0 | BA6: ='Gala Setup'!AI4 -> Norwich Swans | BB6: ='Gala Setup'!AJ4 -> 0 | BE6: ='Gala Setup'!N11 -> 0 | BG6: ='Gala Setup'!AL4 -> 6 LANES | BH6: ='Gala Setup'!AM4 -> 8 LANES | BK6: ='Gala Setup'!N12 -> 0 | BM6: ='Gala Setup'!AO4 -> 0 | BN6: ='Gala Setup'!AP4 -> 0 | BQ6: ='Gala Setup'!N13 -> 0
I7: TEAM 6 | K7: 1 | L7: LADIES OPEN IM | M7: ='Team 1'!F4 -> India | N7: ='Team 1'!G4 -> 0 | O7: =CONCATENATE(M7, " ",N7) -> India 0 | Q7: ='Team 2'!F4 -> Katie | R7: ='Team 2'!G4 -> 0 | S7: 1 | T7: LADIES OPEN IM | U7: =CONCATENATE(Q7, " ",R7) -> Katie 0 | W7: ='Team 3'!F4 -> Amelia | X7: ='Team 3'!G4 -> 0 | Y7: 1 | Z7: LADIES OPEN IM | AA7: =CONCATENATE(W7, " ",X7) -> Amelia 0 | AC7: ='Team 4'!F4 -> Aiyana | AD7: ='Team 4'!G4 -> 0 | AE7: 1 | AF7: LADIES OPEN IM | AG7: =CONCATENATE(AC7, " ",AD7) -> Aiyana 0 | AI7: ='Team 5'!F4 -> Lauren | AJ7: ='Team 5'!G4 -> 0 | AK7: 1 | AL7: LADIES OPEN IM | AM7: =CONCATENATE(AI7, " ",AJ7) -> Lauren 0 | AO7: ='Team 6'!F4 -> Orla | AP7: ='Team 6'!G4 -> 0 | AQ7: 1 | AR7: LADIES OPEN IM | AS7: =CONCATENATE(AO7, " ",AP7) -> Orla 0 | AU7: ='Team 7'!F4 -> 0 | AV7: ='Team 7'!G4 -> 0 | AW7: 1 | AX7: LADIES OPEN IM | AY7: =CONCATENATE(AU7, " ",AV7) -> 0 0 | BA7: ='Team 8'!F4 -> 0 | BB7: ='Team 8'!G4 -> 0 | BC7: 1 | BD7: LADIES OPEN IM | BE7: =CONCATENATE(BA7, " ",BB7) -> 0 0 | BG7: ='Team 9'!F4 -> 0 | BH7: ='Team 9'!G4 -> 0 | BI7: 1 | BJ7: LADIES OPEN IM | BK7: =CONCATENATE(BG7, " ",BH7) -> 0 0 | BM7: ='Team 10'!F4 -> 0 | BN7: ='Team 10'!G4 -> 0 | BO7: 1 | BP7: LADIES OPEN IM | BQ7: =CONCATENATE(BM7, " ",BN7) -> 0 0
I8: TEAM 7 | K8: 2 | L8: MENS OPEN IM | M8: ='Team 1'!F5 -> Tom | N8: ='Team 1'!G5 -> 0 | O8: =CONCATENATE(M8, " ",N8) -> Tom 0 | Q8: ='Team 2'!F5 -> Samuel | R8: ='Team 2'!G5 -> 0 | S8: 2 | T8: MENS OPEN IM | U8: =CONCATENATE(Q8, " ",R8) -> Samuel 0 | W8: ='Team 3'!F5 -> Jamie | X8: ='Team 3'!G5 -> 0 | Y8: 2 | Z8: MENS OPEN IM | AA8: =CONCATENATE(W8, " ",X8) -> Jamie 0 | AC8: ='Team 4'!F5 -> Miles | AD8: ='Team 4'!G5 -> 0 | AE8: 2 | AF8: MENS OPEN IM | AG8: =CONCATENATE(AC8, " ",AD8) -> Miles 0 | AI8: ='Team 5'!F5 -> Kris | AJ8: ='Team 5'!G5 -> 0 | AK8: 2 | AL8: MENS OPEN IM | AM8: =CONCATENATE(AI8, " ",AJ8) -> Kris 0 | AO8: ='Team 6'!F5 -> Jack | AP8: ='Team 6'!G5 -> 0 | AQ8: 2 | AR8: MENS OPEN IM | AS8: =CONCATENATE(AO8, " ",AP8) -> Jack 0 | AU8: ='Team 7'!F5 -> 0 | AV8: ='Team 7'!G5 -> 0 | AW8: 2 | AX8: MENS OPEN IM | AY8: =CONCATENATE(AU8, " ",AV8) -> 0 0 | BA8: ='Team 8'!F5 -> 0 | BB8: ='Team 8'!G5 -> 0 | BC8: 2 | BD8: MENS OPEN IM | BE8: =CONCATENATE(BA8, " ",BB8) -> 0 0 | BG8: ='Team 9'!F5 -> 0 | BH8: ='Team 9'!G5 -> 0 | BI8: 2 | BJ8: MENS OPEN IM | BK8: =CONCATENATE(BG8, " ",BH8) -> 0 0 | BM8: ='Team 10'!F5 -> 0 | BN8: ='Team 10'!G5 -> 0 | BO8: 2 | BP8: MENS OPEN IM | BQ8: =CONCATENATE(BM8, " ",BN8) -> 0 0
I9: TEAM 8 | K9: 11 | L9: GIRLS 10/11 50M BACKSTROKE | M9: ='Team 1'!F38 -> Charlotte | N9: ='Team 1'!G38 -> 0 | O9: =CONCATENATE(M9, " ",N9) -> Charlotte 0 | Q9: ='Team 2'!F38 -> Elyse | R9: ='Team 2'!G38 -> 0 | S9: 11 | T9: GIRLS 10/11 50M BACKSTROKE | U9: =CONCATENATE(Q9, " ",R9) -> Elyse 0 | W9: ='Team 3'!F38 -> Leah | X9: ='Team 3'!G38 -> 0 | Y9: 11 | Z9: GIRLS 10/11 50M BACKSTROKE | AA9: =CONCATENATE(W9, " ",X9) -> Leah 0 | AC9: ='Team 4'!F38 -> Emma | AD9: ='Team 4'!G38 -> 0 | AE9: 11 | AF9: GIRLS 10/11 50M BACKSTROKE | AG9: =CONCATENATE(AC9, " ",AD9) -> Emma 0 | AI9: ='Team 5'!F38 -> Amy | AJ9: ='Team 5'!G38 -> 0 | AK9: 11 | AL9: GIRLS 10/11 50M BACKSTROKE | AM9: =CONCATENATE(AI9, " ",AJ9) -> Amy 0 | AO9: ='Team 6'!F38 -> Eloise | AP9: ='Team 6'!G38 -> 0 | AQ9: 11 | AR9: GIRLS 10/11 50M BACKSTROKE | AS9: =CONCATENATE(AO9, " ",AP9) -> Eloise 0 | AU9: ='Team 7'!F38 -> 0 | AV9: ='Team 7'!G38 -> 0 | AW9: 11 | AX9: GIRLS 10/11 50M BACKSTROKE | AY9: =CONCATENATE(AU9, " ",AV9) -> 0 0 | BA9: ='Team 8'!F38 -> 0 | BB9: ='Team 8'!G38 -> 0 | BC9: 11 | BD9: GIRLS 10/11 50M BACKSTROKE | BE9: =CONCATENATE(BA9, " ",BB9) -> 0 0 | BG9: ='Team 9'!F38 -> 0 | BH9: ='Team 9'!G38 -> 0 | BI9: 11 | BJ9: GIRLS 10/11 50M BACKSTROKE | BK9: =CONCATENATE(BG9, " ",BH9) -> 0 0 | BM9: ='Team 10'!F38 -> 0 | BN9: ='Team 10'!G38 -> 0 | BO9: 11 | BP9: GIRLS 10/11 50M BACKSTROKE | BQ9: =CONCATENATE(BM9, " ",BN9) -> 0 0
I10: TEAM 9 | K10: 12 | L10: BOYS 10/11 50M BACKSTROKE | M10: ='Team 1'!F39 -> James | N10: ='Team 1'!G39 -> 0 | O10: =CONCATENATE(M10, " ",N10) -> James 0 | Q10: ='Team 2'!F39 -> Max | R10: ='Team 2'!G39 -> 0 | S10: 12 | T10: BOYS 10/11 50M BACKSTROKE | U10: =CONCATENATE(Q10, " ",R10) -> Max 0 | W10: ='Team 3'!F39 -> Orlando | X10: ='Team 3'!G39 -> 0 | Y10: 12 | Z10: BOYS 10/11 50M BACKSTROKE | AA10: =CONCATENATE(W10, " ",X10) -> Orlando 0 | AC10: ='Team 4'!F39 -> Benjamin | AD10: ='Team 4'!G39 -> 0 | AE10: 12 | AF10: BOYS 10/11 50M BACKSTROKE | AG10: =CONCATENATE(AC10, " ",AD10) -> Benjamin 0 | AI10: ='Team 5'!F39 -> Findley | AJ10: ='Team 5'!G39 -> 0 | AK10: 12 | AL10: BOYS 10/11 50M BACKSTROKE | AM10: =CONCATENATE(AI10, " ",AJ10) -> Findley 0 | AO10: ='Team 6'!F39 -> Daniel | AP10: ='Team 6'!G39 -> 0 | AQ10: 12 | AR10: BOYS 10/11 50M BACKSTROKE | AS10: =CONCATENATE(AO10, " ",AP10) -> Daniel 0 | AU10: ='Team 7'!F39 -> 0 | AV10: ='Team 7'!G39 -> 0 | AW10: 12 | AX10: BOYS 10/11 50M BACKSTROKE | AY10: =CONCATENATE(AU10, " ",AV10) -> 0 0 | BA10: ='Team 8'!F39 -> 0 | BB10: ='Team 8'!G39 -> 0 | BC10: 12 | BD10: BOYS 10/11 50M BACKSTROKE | BE10: =CONCATENATE(BA10, " ",BB10) -> 0 0 | BG10: ='Team 9'!F39 -> 0 | BH10: ='Team 9'!G39 -> 0 | BI10: 12 | BJ10: BOYS 10/11 50M BACKSTROKE | BK10: =CONCATENATE(BG10, " ",BH10) -> 0 0 | BM10: ='Team 10'!F39 -> 0 | BN10: ='Team 10'!G39 -> 0 | BO10: 12 | BP10: BOYS 10/11 50M BACKSTROKE | BQ10: =CONCATENATE(BM10, " ",BN10) -> 0 0
I11: TEAM 10 | K11: 13 | L11: GIRLS 13/U 100M BREASTSTROKE | M11: ='Team 1'!F40 -> Sophie | N11: ='Team 1'!G40 -> 0 | O11: =CONCATENATE(M11, " ",N11) -> Sophie 0 | Q11: ='Team 2'!F40 -> Talia-Jay | R11: ='Team 2'!G40 -> 0 | S11: 13 | T11: GIRLS 13/U 100M BREASTSTROKE | U11: =CONCATENATE(Q11, " ",R11) -> Talia-Jay 0 | W11: ='Team 3'!F40 -> Jess | X11: ='Team 3'!G40 -> 0 | Y11: 13 | Z11: GIRLS 13/U 100M BREASTSTROKE | AA11: =CONCATENATE(W11, " ",X11) -> Jess 0 | AC11: ='Team 4'!F40 -> Abby | AD11: ='Team 4'!G40 -> 0 | AE11: 13 | AF11: GIRLS 13/U 100M BREASTSTROKE | AG11: =CONCATENATE(AC11, " ",AD11) -> Abby 0 | AI11: ='Team 5'!F40 -> Samantha | AJ11: ='Team 5'!G40 -> 0 | AK11: 13 | AL11: GIRLS 13/U 100M BREASTSTROKE | AM11: =CONCATENATE(AI11, " ",AJ11) -> Samantha 0 | AO11: ='Team 6'!F40 -> Jessica | AP11: ='Team 6'!G40 -> 0 | AQ11: 13 | AR11: GIRLS 13/U 100M BREASTSTROKE | AS11: =CONCATENATE(AO11, " ",AP11) -> Jessica 0 | AU11: ='Team 7'!F40 -> 0 | AV11: ='Team 7'!G40 -> 0 | AW11: 13 | AX11: GIRLS 13/U 100M BREASTSTROKE | AY11: =CONCATENATE(AU11, " ",AV11) -> 0 0 | BA11: ='Team 8'!F40 -> 0 | BB11: ='Team 8'!G40 -> 0 | BC11: 13 | BD11: GIRLS 13/U 100M BREASTSTROKE | BE11: =CONCATENATE(BA11, " ",BB11) -> 0 0 | BG11: ='Team 9'!F40 -> 0 | BH11: ='Team 9'!G40 -> 0 | BI11: 13 | BJ11: GIRLS 13/U 100M BREASTSTROKE | BK11: =CONCATENATE(BG11, " ",BH11) -> 0 0 | BM11: ='Team 10'!F40 -> 0 | BN11: ='Team 10'!G40 -> 0 | BO11: 13 | BP11: GIRLS 13/U 100M BREASTSTROKE | BQ11: =CONCATENATE(BM11, " ",BN11) -> 0 0
I12: ↑ Team sheets | K12: 14 | L12: BOYS 13/U 100M BREASTSTROKE | M12: ='Team 1'!F41 -> Henri | N12: ='Team 1'!G41 -> 0 | O12: =CONCATENATE(M12, " ",N12) -> Henri 0 | Q12: ='Team 2'!F41 -> Omar | R12: ='Team 2'!G41 -> 0 | S12: 14 | T12: BOYS 13/U 100M BREASTSTROKE | U12: =CONCATENATE(Q12, " ",R12) -> Omar 0 | W12: ='Team 3'!F41 -> Josh | X12: ='Team 3'!G41 -> 0 | Y12: 14 | Z12: BOYS 13/U 100M BREASTSTROKE | AA12: =CONCATENATE(W12, " ",X12) -> Josh 0 | AC12: ='Team 4'!F41 -> Matus | AD12: ='Team 4'!G41 -> 0 | AE12: 14 | AF12: BOYS 13/U 100M BREASTSTROKE | AG12: =CONCATENATE(AC12, " ",AD12) -> Matus 0 | AI12: ='Team 5'!F41 -> James | AJ12: ='Team 5'!G41 -> 0 | AK12: 14 | AL12: BOYS 13/U 100M BREASTSTROKE | AM12: =CONCATENATE(AI12, " ",AJ12) -> James 0 | AO12: ='Team 6'!F41 -> Benjamin | AP12: ='Team 6'!G41 -> 0 | AQ12: 14 | AR12: BOYS 13/U 100M BREASTSTROKE | AS12: =CONCATENATE(AO12, " ",AP12) -> Benjamin 0 | AU12: ='Team 7'!F41 -> 0 | AV12: ='Team 7'!G41 -> 0 | AW12: 14 | AX12: BOYS 13/U 100M BREASTSTROKE | AY12: =CONCATENATE(AU12, " ",AV12) -> 0 0 | BA12: ='Team 8'!F41 -> 0 | BB12: ='Team 8'!G41 -> 0 | BC12: 14 | BD12: BOYS 13/U 100M BREASTSTROKE | BE12: =CONCATENATE(BA12, " ",BB12) -> 0 0 | BG12: ='Team 9'!F41 -> 0 | BH12: ='Team 9'!G41 -> 0 | BI12: 14 | BJ12: BOYS 13/U 100M BREASTSTROKE | BK12: =CONCATENATE(BG12, " ",BH12) -> 0 0 | BM12: ='Team 10'!F41 -> 0 | BN12: ='Team 10'!G41 -> 0 | BO12: 14 | BP12: BOYS 13/U 100M BREASTSTROKE | BQ12: =CONCATENATE(BM12, " ",BN12) -> 0 0
K13: 15 | L13: GIRLS 15/U 100M BACKSTROKE | M13: ='Team 1'!F42 -> Katie | N13: ='Team 1'!G42 -> 0 | O13: =CONCATENATE(M13, " ",N13) -> Katie 0 | Q13: ='Team 2'!F42 -> Rebecca | R13: ='Team 2'!G42 -> 0 | S13: 15 | T13: GIRLS 15/U 100M BACKSTROKE | U13: =CONCATENATE(Q13, " ",R13) -> Rebecca 0 | W13: ='Team 3'!F42 -> Eve | X13: ='Team 3'!G42 -> 0 | Y13: 15 | Z13: GIRLS 15/U 100M BACKSTROKE | AA13: =CONCATENATE(W13, " ",X13) -> Eve 0 | AC13: ='Team 4'!F42 -> Lottie | AD13: ='Team 4'!G42 -> 0 | AE13: 15 | AF13: GIRLS 15/U 100M BACKSTROKE | AG13: =CONCATENATE(AC13, " ",AD13) -> Lottie 0 | AI13: ='Team 5'!F42 -> Emma | AJ13: ='Team 5'!G42 -> 0 | AK13: 15 | AL13: GIRLS 15/U 100M BACKSTROKE | AM13: =CONCATENATE(AI13, " ",AJ13) -> Emma 0 | AO13: ='Team 6'!F42 -> Georgina | AP13: ='Team 6'!G42 -> 0 | AQ13: 15 | AR13: GIRLS 15/U 100M BACKSTROKE | AS13: =CONCATENATE(AO13, " ",AP13) -> Georgina 0 | AU13: ='Team 7'!F42 -> 0 | AV13: ='Team 7'!G42 -> 0 | AW13: 15 | AX13: GIRLS 15/U 100M BACKSTROKE | AY13: =CONCATENATE(AU13, " ",AV13) -> 0 0 | BA13: ='Team 8'!F42 -> 0 | BB13: ='Team 8'!G42 -> 0 | BC13: 15 | BD13: GIRLS 15/U 100M BACKSTROKE | BE13: =CONCATENATE(BA13, " ",BB13) -> 0 0 | BG13: ='Team 9'!F42 -> 0 | BH13: ='Team 9'!G42 -> 0 | BI13: 15 | BJ13: GIRLS 15/U 100M BACKSTROKE | BK13: =CONCATENATE(BG13, " ",BH13) -> 0 0 | BM13: ='Team 10'!F42 -> 0 | BN13: ='Team 10'!G42 -> 0 | BO13: 15 | BP13: GIRLS 15/U 100M BACKSTROKE | BQ13: =CONCATENATE(BM13, " ",BN13) -> 0 0
K14: 16 | L14: BOYS 15/U 100M BACKSTROKE | M14: ='Team 1'!F43 -> Ben | N14: ='Team 1'!G43 -> 0 | O14: =CONCATENATE(M14, " ",N14) -> Ben 0 | Q14: ='Team 2'!F43 -> Thomas | R14: ='Team 2'!G43 -> 0 | S14: 16 | T14: BOYS 15/U 100M BACKSTROKE | U14: =CONCATENATE(Q14, " ",R14) -> Thomas 0 | W14: ='Team 3'!F43 -> Fabian | X14: ='Team 3'!G43 -> 0 | Y14: 16 | Z14: BOYS 15/U 100M BACKSTROKE | AA14: =CONCATENATE(W14, " ",X14) -> Fabian 0 | AC14: ='Team 4'!F43 -> Joshua | AD14: ='Team 4'!G43 -> 0 | AE14: 16 | AF14: BOYS 15/U 100M BACKSTROKE | AG14: =CONCATENATE(AC14, " ",AD14) -> Joshua 0 | AI14: ='Team 5'!F43 -> Andrew | AJ14: ='Team 5'!G43 -> 0 | AK14: 16 | AL14: BOYS 15/U 100M BACKSTROKE | AM14: =CONCATENATE(AI14, " ",AJ14) -> Andrew 0 | AO14: ='Team 6'!F43 -> Thomas | AP14: ='Team 6'!G43 -> 0 | AQ14: 16 | AR14: BOYS 15/U 100M BACKSTROKE | AS14: =CONCATENATE(AO14, " ",AP14) -> Thomas 0 | AU14: ='Team 7'!F43 -> 0 | AV14: ='Team 7'!G43 -> 0 | AW14: 16 | AX14: BOYS 15/U 100M BACKSTROKE | AY14: =CONCATENATE(AU14, " ",AV14) -> 0 0 | BA14: ='Team 8'!F43 -> 0 | BB14: ='Team 8'!G43 -> 0 | BC14: 16 | BD14: BOYS 15/U 100M BACKSTROKE | BE14: =CONCATENATE(BA14, " ",BB14) -> 0 0 | BG14: ='Team 9'!F43 -> 0 | BH14: ='Team 9'!G43 -> 0 | BI14: 16 | BJ14: BOYS 15/U 100M BACKSTROKE | BK14: =CONCATENATE(BG14, " ",BH14) -> 0 0 | BM14: ='Team 10'!F43 -> 0 | BN14: ='Team 10'!G43 -> 0 | BO14: 16 | BP14: BOYS 15/U 100M BACKSTROKE | BQ14: =CONCATENATE(BM14, " ",BN14) -> 0 0
D15: ='Gala Setup'!S4 -> NASL.2018 | K15: 17 | L15: LADIES OPEN 100M BUTTERFLY | M15: ='Team 1'!F44 -> Rebecca | N15: ='Team 1'!G44 -> 0 | O15: =CONCATENATE(M15, " ",N15) -> Rebecca 0 | Q15: ='Team 2'!F44 -> Freya | R15: ='Team 2'!G44 -> 0 | S15: 17 | T15: LADIES OPEN 100M BUTTERFLY | U15: =CONCATENATE(Q15, " ",R15) -> Freya 0 | W15: ='Team 3'!F44 -> Mia | X15: ='Team 3'!G44 -> 0 | Y15: 17 | Z15: LADIES OPEN 100M BUTTERFLY | AA15: =CONCATENATE(W15, " ",X15) -> Mia 0 | AC15: ='Team 4'!F44 -> Kaelah | AD15: ='Team 4'!G44 -> 0 | AE15: 17 | AF15: LADIES OPEN 100M BUTTERFLY | AG15: =CONCATENATE(AC15, " ",AD15) -> Kaelah 0 | AI15: ='Team 5'!F44 -> Lauren | AJ15: ='Team 5'!G44 -> 0 | AK15: 17 | AL15: LADIES OPEN 100M BUTTERFLY | AM15: =CONCATENATE(AI15, " ",AJ15) -> Lauren 0 | AO15: ='Team 6'!F44 -> Emily | AP15: ='Team 6'!G44 -> 0 | AQ15: 17 | AR15: LADIES OPEN 100M BUTTERFLY | AS15: =CONCATENATE(AO15, " ",AP15) -> Emily 0 | AU15: ='Team 7'!F44 -> 0 | AV15: ='Team 7'!G44 -> 0 | AW15: 17 | AX15: LADIES OPEN 100M BUTTERFLY | AY15: =CONCATENATE(AU15, " ",AV15) -> 0 0 | BA15: ='Team 8'!F44 -> 0 | BB15: ='Team 8'!G44 -> 0 | BC15: 17 | BD15: LADIES OPEN 100M BUTTERFLY | BE15: =CONCATENATE(BA15, " ",BB15) -> 0 0 | BG15: ='Team 9'!F44 -> 0 | BH15: ='Team 9'!G44 -> 0 | BI15: 17 | BJ15: LADIES OPEN 100M BUTTERFLY | BK15: =CONCATENATE(BG15, " ",BH15) -> 0 0 | BM15: ='Team 10'!F44 -> 0 | BN15: ='Team 10'!G44 -> 0 | BO15: 17 | BP15: LADIES OPEN 100M BUTTERFLY | BQ15: =CONCATENATE(BM15, " ",BN15) -> 0 0
K16: 18 | L16: MENS OPEN 100M BUTTERFLY | M16: ='Team 1'!F45 -> Harry | N16: ='Team 1'!G45 -> 0 | O16: =CONCATENATE(M16, " ",N16) -> Harry 0 | Q16: ='Team 2'!F45 -> Liam | R16: ='Team 2'!G45 -> 0 | S16: 18 | T16: MENS OPEN 100M BUTTERFLY | U16: =CONCATENATE(Q16, " ",R16) -> Liam 0 | W16: ='Team 3'!F45 -> Harry | X16: ='Team 3'!G45 -> 0 | Y16: 18 | Z16: MENS OPEN 100M BUTTERFLY | AA16: =CONCATENATE(W16, " ",X16) -> Harry 0 | AC16: ='Team 4'!F45 -> Max | AD16: ='Team 4'!G45 -> 0 | AE16: 18 | AF16: MENS OPEN 100M BUTTERFLY | AG16: =CONCATENATE(AC16, " ",AD16) -> Max 0 | AI16: ='Team 5'!F45 -> Tobias | AJ16: ='Team 5'!G45 -> 0 | AK16: 18 | AL16: MENS OPEN 100M BUTTERFLY | AM16: =CONCATENATE(AI16, " ",AJ16) -> Tobias 0 | AO16: ='Team 6'!F45 -> Max | AP16: ='Team 6'!G45 -> 0 | AQ16: 18 | AR16: MENS OPEN 100M BUTTERFLY | AS16: =CONCATENATE(AO16, " ",AP16) -> Max 0 | AU16: ='Team 7'!F45 -> 0 | AV16: ='Team 7'!G45 -> 0 | AW16: 18 | AX16: MENS OPEN 100M BUTTERFLY | AY16: =CONCATENATE(AU16, " ",AV16) -> 0 0 | BA16: ='Team 8'!F45 -> 0 | BB16: ='Team 8'!G45 -> 0 | BC16: 18 | BD16: MENS OPEN 100M BUTTERFLY | BE16: =CONCATENATE(BA16, " ",BB16) -> 0 0 | BG16: ='Team 9'!F45 -> 0 | BH16: ='Team 9'!G45 -> 0 | BI16: 18 | BJ16: MENS OPEN 100M BUTTERFLY | BK16: =CONCATENATE(BG16, " ",BH16) -> 0 0 | BM16: ='Team 10'!F45 -> 0 | BN16: ='Team 10'!G45 -> 0 | BO16: 18 | BP16: MENS OPEN 100M BUTTERFLY | BQ16: =CONCATENATE(BM16, " ",BN16) -> 0 0
K17: 19 | L17: GIRLS 10/11 50M BUTTERFLY | M17: ='Team 1'!F46 -> Charlotte | N17: ='Team 1'!G46 -> 0 | O17: =CONCATENATE(M17, " ",N17) -> Charlotte 0 | Q17: ='Team 2'!F46 -> Milly | R17: ='Team 2'!G46 -> 0 | S17: 19 | T17: GIRLS 10/11 50M BUTTERFLY | U17: =CONCATENATE(Q17, " ",R17) -> Milly 0 | W17: ='Team 3'!F46 -> Megan | X17: ='Team 3'!G46 -> 0 | Y17: 19 | Z17: GIRLS 10/11 50M BUTTERFLY | AA17: =CONCATENATE(W17, " ",X17) -> Megan 0 | AC17: ='Team 4'!F46 -> Despoina | AD17: ='Team 4'!G46 -> 0 | AE17: 19 | AF17: GIRLS 10/11 50M BUTTERFLY | AG17: =CONCATENATE(AC17, " ",AD17) -> Despoina 0 | AI17: ='Team 5'!F46 -> Emma | AJ17: ='Team 5'!G46 -> 0 | AK17: 19 | AL17: GIRLS 10/11 50M BUTTERFLY | AM17: =CONCATENATE(AI17, " ",AJ17) -> Emma 0 | AO17: ='Team 6'!F46 -> Fleur | AP17: ='Team 6'!G46 -> 0 | AQ17: 19 | AR17: GIRLS 10/11 50M BUTTERFLY | AS17: =CONCATENATE(AO17, " ",AP17) -> Fleur 0 | AU17: ='Team 7'!F46 -> 0 | AV17: ='Team 7'!G46 -> 0 | AW17: 19 | AX17: GIRLS 10/11 50M BUTTERFLY | AY17: =CONCATENATE(AU17, " ",AV17) -> 0 0 | BA17: ='Team 8'!F46 -> 0 | BB17: ='Team 8'!G46 -> 0 | BC17: 19 | BD17: GIRLS 10/11 50M BUTTERFLY | BE17: =CONCATENATE(BA17, " ",BB17) -> 0 0 | BG17: ='Team 9'!F46 -> 0 | BH17: ='Team 9'!G46 -> 0 | BI17: 19 | BJ17: GIRLS 10/11 50M BUTTERFLY | BK17: =CONCATENATE(BG17, " ",BH17) -> 0 0 | BM17: ='Team 10'!F46 -> 0 | BN17: ='Team 10'!G46 -> 0 | BO17: 19 | BP17: GIRLS 10/11 50M BUTTERFLY | BQ17: =CONCATENATE(BM17, " ",BN17) -> 0 0
K18: 20 | L18: BOYS 10/11 50M BUTTERFLY | M18: ='Team 1'!F47 -> Finlay | N18: ='Team 1'!G47 -> 0 | O18: =CONCATENATE(M18, " ",N18) -> Finlay 0 | Q18: ='Team 2'!F47 -> Max | R18: ='Team 2'!G47 -> 0 | S18: 20 | T18: BOYS 10/11 50M BUTTERFLY | U18: =CONCATENATE(Q18, " ",R18) -> Max 0 | W18: ='Team 3'!F47 -> Mark | X18: ='Team 3'!G47 -> 0 | Y18: 20 | Z18: BOYS 10/11 50M BUTTERFLY | AA18: =CONCATENATE(W18, " ",X18) -> Mark 0 | AC18: ='Team 4'!F47 -> Michael | AD18: ='Team 4'!G47 -> 0 | AE18: 20 | AF18: BOYS 10/11 50M BUTTERFLY | AG18: =CONCATENATE(AC18, " ",AD18) -> Michael 0 | AI18: ='Team 5'!F47 -> Findley | AJ18: ='Team 5'!G47 -> 0 | AK18: 20 | AL18: BOYS 10/11 50M BUTTERFLY | AM18: =CONCATENATE(AI18, " ",AJ18) -> Findley 0 | AO18: ='Team 6'!F47 -> Daniel | AP18: ='Team 6'!G47 -> 0 | AQ18: 20 | AR18: BOYS 10/11 50M BUTTERFLY | AS18: =CONCATENATE(AO18, " ",AP18) -> Daniel 0 | AU18: ='Team 7'!F47 -> 0 | AV18: ='Team 7'!G47 -> 0 | AW18: 20 | AX18: BOYS 10/11 50M BUTTERFLY | AY18: =CONCATENATE(AU18, " ",AV18) -> 0 0 | BA18: ='Team 8'!F47 -> 0 | BB18: ='Team 8'!G47 -> 0 | BC18: 20 | BD18: BOYS 10/11 50M BUTTERFLY | BE18: =CONCATENATE(BA18, " ",BB18) -> 0 0 | BG18: ='Team 9'!F47 -> 0 | BH18: ='Team 9'!G47 -> 0 | BI18: 20 | BJ18: BOYS 10/11 50M BUTTERFLY | BK18: =CONCATENATE(BG18, " ",BH18) -> 0 0 | BM18: ='Team 10'!F47 -> 0 | BN18: ='Team 10'!G47 -> 0 | BO18: 20 | BP18: BOYS 10/11 50M BUTTERFLY | BQ18: =CONCATENATE(BM18, " ",BN18) -> 0 0
K19: 21 | L19: GIRLS 13/U 100M BACKSTROKE | M19: ='Team 1'!F48 -> Faith | N19: ='Team 1'!G48 -> 0 | O19: =CONCATENATE(M19, " ",N19) -> Faith 0 | Q19: ='Team 2'!F48 -> Anna | R19: ='Team 2'!G48 -> 0 | S19: 21 | T19: GIRLS 13/U 100M BACKSTROKE | U19: =CONCATENATE(Q19, " ",R19) -> Anna 0 | W19: ='Team 3'!F48 -> Hannah | X19: ='Team 3'!G48 -> 0 | Y19: 21 | Z19: GIRLS 13/U 100M BACKSTROKE | AA19: =CONCATENATE(W19, " ",X19) -> Hannah 0 | AC19: ='Team 4'!F48 -> Sophie | AD19: ='Team 4'!G48 -> 0 | AE19: 21 | AF19: GIRLS 13/U 100M BACKSTROKE | AG19: =CONCATENATE(AC19, " ",AD19) -> Sophie 0 | AI19: ='Team 5'!F48 -> Jessica | AJ19: ='Team 5'!G48 -> 0 | AK19: 21 | AL19: GIRLS 13/U 100M BACKSTROKE | AM19: =CONCATENATE(AI19, " ",AJ19) -> Jessica 0 | AO19: ='Team 6'!F48 -> Salma | AP19: ='Team 6'!G48 -> 0 | AQ19: 21 | AR19: GIRLS 13/U 100M BACKSTROKE | AS19: =CONCATENATE(AO19, " ",AP19) -> Salma 0 | AU19: ='Team 7'!F48 -> 0 | AV19: ='Team 7'!G48 -> 0 | AW19: 21 | AX19: GIRLS 13/U 100M BACKSTROKE | AY19: =CONCATENATE(AU19, " ",AV19) -> 0 0 | BA19: ='Team 8'!F48 -> 0 | BB19: ='Team 8'!G48 -> 0 | BC19: 21 | BD19: GIRLS 13/U 100M BACKSTROKE | BE19: =CONCATENATE(BA19, " ",BB19) -> 0 0 | BG19: ='Team 9'!F48 -> 0 | BH19: ='Team 9'!G48 -> 0 | BI19: 21 | BJ19: GIRLS 13/U 100M BACKSTROKE | BK19: =CONCATENATE(BG19, " ",BH19) -> 0 0 | BM19: ='Team 10'!F48 -> 0 | BN19: ='Team 10'!G48 -> 0 | BO19: 21 | BP19: GIRLS 13/U 100M BACKSTROKE | BQ19: =CONCATENATE(BM19, " ",BN19) -> 0 0
K20: 22 | L20: BOYS 13/U 100M BACKSTROKE | M20: ='Team 1'!F49 -> Finley | N20: ='Team 1'!G49 -> 0 | O20: =CONCATENATE(M20, " ",N20) -> Finley 0 | Q20: ='Team 2'!F49 -> Matthew | R20: ='Team 2'!G49 -> 0 | S20: 22 | T20: BOYS 13/U 100M BACKSTROKE | U20: =CONCATENATE(Q20, " ",R20) -> Matthew 0 | W20: ='Team 3'!F49 -> Josh | X20: ='Team 3'!G49 -> 0 | Y20: 22 | Z20: BOYS 13/U 100M BACKSTROKE | AA20: =CONCATENATE(W20, " ",X20) -> Josh 0 | AC20: ='Team 4'!F49 -> Harry | AD20: ='Team 4'!G49 -> 0 | AE20: 22 | AF20: BOYS 13/U 100M BACKSTROKE | AG20: =CONCATENATE(AC20, " ",AD20) -> Harry 0 | AI20: ='Team 5'!F49 -> Finley | AJ20: ='Team 5'!G49 -> 0 | AK20: 22 | AL20: BOYS 13/U 100M BACKSTROKE | AM20: =CONCATENATE(AI20, " ",AJ20) -> Finley 0 | AO20: ='Team 6'!F49 -> Benjamin | AP20: ='Team 6'!G49 -> 0 | AQ20: 22 | AR20: BOYS 13/U 100M BACKSTROKE | AS20: =CONCATENATE(AO20, " ",AP20) -> Benjamin 0 | AU20: ='Team 7'!F49 -> 0 | AV20: ='Team 7'!G49 -> 0 | AW20: 22 | AX20: BOYS 13/U 100M BACKSTROKE | AY20: =CONCATENATE(AU20, " ",AV20) -> 0 0 | BA20: ='Team 8'!F49 -> 0 | BB20: ='Team 8'!G49 -> 0 | BC20: 22 | BD20: BOYS 13/U 100M BACKSTROKE | BE20: =CONCATENATE(BA20, " ",BB20) -> 0 0 | BG20: ='Team 9'!F49 -> 0 | BH20: ='Team 9'!G49 -> 0 | BI20: 22 | BJ20: BOYS 13/U 100M BACKSTROKE | BK20: =CONCATENATE(BG20, " ",BH20) -> 0 0 | BM20: ='Team 10'!F49 -> 0 | BN20: ='Team 10'!G49 -> 0 | BO20: 22 | BP20: BOYS 13/U 100M BACKSTROKE | BQ20: =CONCATENATE(BM20, " ",BN20) -> 0 0
K21: 23 | L21: GIRLS 15/U 100M BUTTERFLY | M21: ='Team 1'!F50 -> Rebecca | N21: ='Team 1'!G50 -> 0 | O21: =CONCATENATE(M21, " ",N21) -> Rebecca 0 | Q21: ='Team 2'!F50 -> Ella | R21: ='Team 2'!G50 -> 0 | S21: 23 | T21: GIRLS 15/U 100M BUTTERFLY | U21: =CONCATENATE(Q21, " ",R21) -> Ella 0 | W21: ='Team 3'!F50 -> Iona | X21: ='Team 3'!G50 -> 0 | Y21: 23 | Z21: GIRLS 15/U 100M BUTTERFLY | AA21: =CONCATENATE(W21, " ",X21) -> Iona 0 | AC21: ='Team 4'!F50 -> Lottie | AD21: ='Team 4'!G50 -> 0 | AE21: 23 | AF21: GIRLS 15/U 100M BUTTERFLY | AG21: =CONCATENATE(AC21, " ",AD21) -> Lottie 0 | AI21: ='Team 5'!F50 -> Emma | AJ21: ='Team 5'!G50 -> 0 | AK21: 23 | AL21: GIRLS 15/U 100M BUTTERFLY | AM21: =CONCATENATE(AI21, " ",AJ21) -> Emma 0 | AO21: ='Team 6'!F50 -> Orla | AP21: ='Team 6'!G50 -> 0 | AQ21: 23 | AR21: GIRLS 15/U 100M BUTTERFLY | AS21: =CONCATENATE(AO21, " ",AP21) -> Orla 0 | AU21: ='Team 7'!F50 -> 0 | AV21: ='Team 7'!G50 -> 0 | AW21: 23 | AX21: GIRLS 15/U 100M BUTTERFLY | AY21: =CONCATENATE(AU21, " ",AV21) -> 0 0 | BA21: ='Team 8'!F50 -> 0 | BB21: ='Team 8'!G50 -> 0 | BC21: 23 | BD21: GIRLS 15/U 100M BUTTERFLY | BE21: =CONCATENATE(BA21, " ",BB21) -> 0 0 | BG21: ='Team 9'!F50 -> 0 | BH21: ='Team 9'!G50 -> 0 | BI21: 23 | BJ21: GIRLS 15/U 100M BUTTERFLY | BK21: =CONCATENATE(BG21, " ",BH21) -> 0 0 | BM21: ='Team 10'!F50 -> 0 | BN21: ='Team 10'!G50 -> 0 | BO21: 23 | BP21: GIRLS 15/U 100M BUTTERFLY | BQ21: =CONCATENATE(BM21, " ",BN21) -> 0 0
K22: 24 | L22: BOYS 15/U 100M BUTTERFLY | M22: ='Team 1'!F51 -> Ben | N22: ='Team 1'!G51 -> 0 | O22: =CONCATENATE(M22, " ",N22) -> Ben 0 | Q22: ='Team 2'!F51 -> Patrick | R22: ='Team 2'!G51 -> 0 | S22: 24 | T22: BOYS 15/U 100M BUTTERFLY | U22: =CONCATENATE(Q22, " ",R22) -> Patrick 0 | W22: ='Team 3'!F51 -> Connor | X22: ='Team 3'!G51 -> 0 | Y22: 24 | Z22: BOYS 15/U 100M BUTTERFLY | AA22: =CONCATENATE(W22, " ",X22) -> Connor 0 | AC22: ='Team 4'!F51 -> Tyler | AD22: ='Team 4'!G51 -> 0 | AE22: 24 | AF22: BOYS 15/U 100M BUTTERFLY | AG22: =CONCATENATE(AC22, " ",AD22) -> Tyler 0 | AI22: ='Team 5'!F51 -> Andrew | AJ22: ='Team 5'!G51 -> 0 | AK22: 24 | AL22: BOYS 15/U 100M BUTTERFLY | AM22: =CONCATENATE(AI22, " ",AJ22) -> Andrew 0 | AO22: ='Team 6'!F51 -> Thomas | AP22: ='Team 6'!G51 -> 0 | AQ22: 24 | AR22: BOYS 15/U 100M BUTTERFLY | AS22: =CONCATENATE(AO22, " ",AP22) -> Thomas 0 | AU22: ='Team 7'!F51 -> 0 | AV22: ='Team 7'!G51 -> 0 | AW22: 24 | AX22: BOYS 15/U 100M BUTTERFLY | AY22: =CONCATENATE(AU22, " ",AV22) -> 0 0 | BA22: ='Team 8'!F51 -> 0 | BB22: ='Team 8'!G51 -> 0 | BC22: 24 | BD22: BOYS 15/U 100M BUTTERFLY | BE22: =CONCATENATE(BA22, " ",BB22) -> 0 0 | BG22: ='Team 9'!F51 -> 0 | BH22: ='Team 9'!G51 -> 0 | BI22: 24 | BJ22: BOYS 15/U 100M BUTTERFLY | BK22: =CONCATENATE(BG22, " ",BH22) -> 0 0 | BM22: ='Team 10'!F51 -> 0 | BN22: ='Team 10'!G51 -> 0 | BO22: 24 | BP22: BOYS 15/U 100M BUTTERFLY | BQ22: =CONCATENATE(BM22, " ",BN22) -> 0 0
K23: 25 | L23: LADIES OPEN 100M BACKSTROKE | M23: ='Team 1'!F52 -> India | N23: ='Team 1'!G52 -> 0 | O23: =CONCATENATE(M23, " ",N23) -> India 0 | Q23: ='Team 2'!F52 -> Ella | R23: ='Team 2'!G52 -> 0 | S23: 25 | T23: LADIES OPEN 100M BACKSTROKE | U23: =CONCATENATE(Q23, " ",R23) -> Ella 0 | W23: ='Team 3'!F52 -> Mollie | X23: ='Team 3'!G52 -> 0 | Y23: 25 | Z23: LADIES OPEN 100M BACKSTROKE | AA23: =CONCATENATE(W23, " ",X23) -> Mollie 0 | AC23: ='Team 4'!F52 -> Grace | AD23: ='Team 4'!G52 -> 0 | AE23: 25 | AF23: LADIES OPEN 100M BACKSTROKE | AG23: =CONCATENATE(AC23, " ",AD23) -> Grace 0 | AI23: ='Team 5'!F52 -> Jessica | AJ23: ='Team 5'!G52 -> 0 | AK23: 25 | AL23: LADIES OPEN 100M BACKSTROKE | AM23: =CONCATENATE(AI23, " ",AJ23) -> Jessica 0 | AO23: ='Team 6'!F52 -> Emma | AP23: ='Team 6'!G52 -> 0 | AQ23: 25 | AR23: LADIES OPEN 100M BACKSTROKE | AS23: =CONCATENATE(AO23, " ",AP23) -> Emma 0 | AU23: ='Team 7'!F52 -> 0 | AV23: ='Team 7'!G52 -> 0 | AW23: 25 | AX23: LADIES OPEN 100M BACKSTROKE | AY23: =CONCATENATE(AU23, " ",AV23) -> 0 0 | BA23: ='Team 8'!F52 -> 0 | BB23: ='Team 8'!G52 -> 0 | BC23: 25 | BD23: LADIES OPEN 100M BACKSTROKE | BE23: =CONCATENATE(BA23, " ",BB23) -> 0 0 | BG23: ='Team 9'!F52 -> 0 | BH23: ='Team 9'!G52 -> 0 | BI23: 25 | BJ23: LADIES OPEN 100M BACKSTROKE | BK23: =CONCATENATE(BG23, " ",BH23) -> 0 0 | BM23: ='Team 10'!F52 -> 0 | BN23: ='Team 10'!G52 -> 0 | BO23: 25 | BP23: LADIES OPEN 100M BACKSTROKE | BQ23: =CONCATENATE(BM23, " ",BN23) -> 0 0
K24: 26 | L24: MENS OPEN 100M BACKSTROKE | M24: ='Team 1'!F53 -> Tom | N24: ='Team 1'!G53 -> 0 | O24: =CONCATENATE(M24, " ",N24) -> Tom 0 | Q24: ='Team 2'!F53 -> Samuel | R24: ='Team 2'!G53 -> 0 | S24: 26 | T24: MENS OPEN 100M BACKSTROKE | U24: =CONCATENATE(Q24, " ",R24) -> Samuel 0 | W24: ='Team 3'!F53 -> Jamie | X24: ='Team 3'!G53 -> 0 | Y24: 26 | Z24: MENS OPEN 100M BACKSTROKE | AA24: =CONCATENATE(W24, " ",X24) -> Jamie 0 | AC24: ='Team 4'!F53 -> Marcus | AD24: ='Team 4'!G53 -> 0 | AE24: 26 | AF24: MENS OPEN 100M BACKSTROKE | AG24: =CONCATENATE(AC24, " ",AD24) -> Marcus 0 | AI24: ='Team 5'!F53 -> Christopher | AJ24: ='Team 5'!G53 -> 0 | AK24: 26 | AL24: MENS OPEN 100M BACKSTROKE | AM24: =CONCATENATE(AI24, " ",AJ24) -> Christopher 0 | AO24: ='Team 6'!F53 -> Jack | AP24: ='Team 6'!G53 -> 0 | AQ24: 26 | AR24: MENS OPEN 100M BACKSTROKE | AS24: =CONCATENATE(AO24, " ",AP24) -> Jack 0 | AU24: ='Team 7'!F53 -> 0 | AV24: ='Team 7'!G53 -> 0 | AW24: 26 | AX24: MENS OPEN 100M BACKSTROKE | AY24: =CONCATENATE(AU24, " ",AV24) -> 0 0 | BA24: ='Team 8'!F53 -> 0 | BB24: ='Team 8'!G53 -> 0 | BC24: 26 | BD24: MENS OPEN 100M BACKSTROKE | BE24: =CONCATENATE(BA24, " ",BB24) -> 0 0 | BG24: ='Team 9'!F53 -> 0 | BH24: ='Team 9'!G53 -> 0 | BI24: 26 | BJ24: MENS OPEN 100M BACKSTROKE | BK24: =CONCATENATE(BG24, " ",BH24) -> 0 0 | BM24: ='Team 10'!F53 -> 0 | BN24: ='Team 10'!G53 -> 0 | BO24: 26 | BP24: MENS OPEN 100M BACKSTROKE | BQ24: =CONCATENATE(BM24, " ",BN24) -> 0 0
K25: 27 | L25: GIRLS 10/11 50M BREASTSTROKE | M25: ='Team 1'!F54 -> Ellie Rose | N25: ='Team 1'!G54 -> 0 | O25: =CONCATENATE(M25, " ",N25) -> Ellie Rose 0 | Q25: ='Team 2'!F54 -> Sophie | R25: ='Team 2'!G54 -> 0 | S25: 27 | T25: GIRLS 10/11 50M BREASTSTROKE | U25: =CONCATENATE(Q25, " ",R25) -> Sophie 0 | W25: ='Team 3'!F54 -> Charlotte | X25: ='Team 3'!G54 -> 0 | Y25: 27 | Z25: GIRLS 10/11 50M BREASTSTROKE | AA25: =CONCATENATE(W25, " ",X25) -> Charlotte 0 | AC25: ='Team 4'!F54 -> Danielle | AD25: ='Team 4'!G54 -> 0 | AE25: 27 | AF25: GIRLS 10/11 50M BREASTSTROKE | AG25: =CONCATENATE(AC25, " ",AD25) -> Danielle 0 | AI25: ='Team 5'!F54 -> Amy | AJ25: ='Team 5'!G54 -> 0 | AK25: 27 | AL25: GIRLS 10/11 50M BREASTSTROKE | AM25: =CONCATENATE(AI25, " ",AJ25) -> Amy 0 | AO25: ='Team 6'!F54 -> Fleur | AP25: ='Team 6'!G54 -> 0 | AQ25: 27 | AR25: GIRLS 10/11 50M BREASTSTROKE | AS25: =CONCATENATE(AO25, " ",AP25) -> Fleur 0 | AU25: ='Team 7'!F54 -> 0 | AV25: ='Team 7'!G54 -> 0 | AW25: 27 | AX25: GIRLS 10/11 50M BREASTSTROKE | AY25: =CONCATENATE(AU25, " ",AV25) -> 0 0 | BA25: ='Team 8'!F54 -> 0 | BB25: ='Team 8'!G54 -> 0 | BC25: 27 | BD25: GIRLS 10/11 50M BREASTSTROKE | BE25: =CONCATENATE(BA25, " ",BB25) -> 0 0 | BG25: ='Team 9'!F54 -> 0 | BH25: ='Team 9'!G54 -> 0 | BI25: 27 | BJ25: GIRLS 10/11 50M BREASTSTROKE | BK25: =CONCATENATE(BG25, " ",BH25) -> 0 0 | BM25: ='Team 10'!F54 -> 0 | BN25: ='Team 10'!G54 -> 0 | BO25: 27 | BP25: GIRLS 10/11 50M BREASTSTROKE | BQ25: =CONCATENATE(BM25, " ",BN25) -> 0 0
K26: 28 | L26: BOYS 10/11 50M BREASTSTROKE | M26: ='Team 1'!F55 -> Juneau | N26: ='Team 1'!G55 -> 0 | O26: =CONCATENATE(M26, " ",N26) -> Juneau 0 | Q26: ='Team 2'!F55 -> Jasper | R26: ='Team 2'!G55 -> 0 | S26: 28 | T26: BOYS 10/11 50M BREASTSTROKE | U26: =CONCATENATE(Q26, " ",R26) -> Jasper 0 | W26: ='Team 3'!F55 -> Isaac | X26: ='Team 3'!G55 -> 0 | Y26: 28 | Z26: BOYS 10/11 50M BREASTSTROKE | AA26: =CONCATENATE(W26, " ",X26) -> Isaac 0 | AC26: ='Team 4'!F55 -> Benjamin | AD26: ='Team 4'!G55 -> 0 | AE26: 28 | AF26: BOYS 10/11 50M BREASTSTROKE | AG26: =CONCATENATE(AC26, " ",AD26) -> Benjamin 0 | AI26: ='Team 5'!F55 -> George | AJ26: ='Team 5'!G55 -> 0 | AK26: 28 | AL26: BOYS 10/11 50M BREASTSTROKE | AM26: =CONCATENATE(AI26, " ",AJ26) -> George 0 | AO26: ='Team 6'!F55 -> Harvey | AP26: ='Team 6'!G55 -> 0 | AQ26: 28 | AR26: BOYS 10/11 50M BREASTSTROKE | AS26: =CONCATENATE(AO26, " ",AP26) -> Harvey 0 | AU26: ='Team 7'!F55 -> 0 | AV26: ='Team 7'!G55 -> 0 | AW26: 28 | AX26: BOYS 10/11 50M BREASTSTROKE | AY26: =CONCATENATE(AU26, " ",AV26) -> 0 0 | BA26: ='Team 8'!F55 -> 0 | BB26: ='Team 8'!G55 -> 0 | BC26: 28 | BD26: BOYS 10/11 50M BREASTSTROKE | BE26: =CONCATENATE(BA26, " ",BB26) -> 0 0 | BG26: ='Team 9'!F55 -> 0 | BH26: ='Team 9'!G55 -> 0 | BI26: 28 | BJ26: BOYS 10/11 50M BREASTSTROKE | BK26: =CONCATENATE(BG26, " ",BH26) -> 0 0 | BM26: ='Team 10'!F55 -> 0 | BN26: ='Team 10'!G55 -> 0 | BO26: 28 | BP26: BOYS 10/11 50M BREASTSTROKE | BQ26: =CONCATENATE(BM26, " ",BN26) -> 0 0
K27: 29 | L27: GIRLS 13/U 100M BUTTERFLY | M27: ='Team 1'!F56 -> Lorne | N27: ='Team 1'!G56 -> 0 | O27: =CONCATENATE(M27, " ",N27) -> Lorne 0 | Q27: ='Team 2'!F56 -> Emmie | R27: ='Team 2'!G56 -> 0 | S27: 29 | T27: GIRLS 13/U 100M BUTTERFLY | U27: =CONCATENATE(Q27, " ",R27) -> Emmie 0 | W27: ='Team 3'!F56 -> Jess | X27: ='Team 3'!G56 -> 0 | Y27: 29 | Z27: GIRLS 13/U 100M BUTTERFLY | AA27: =CONCATENATE(W27, " ",X27) -> Jess 0 | AC27: ='Team 4'!F56 -> Sophie | AD27: ='Team 4'!G56 -> 0 | AE27: 29 | AF27: GIRLS 13/U 100M BUTTERFLY | AG27: =CONCATENATE(AC27, " ",AD27) -> Sophie 0 | AI27: ='Team 5'!F56 -> Rose | AJ27: ='Team 5'!G56 -> 0 | AK27: 29 | AL27: GIRLS 13/U 100M BUTTERFLY | AM27: =CONCATENATE(AI27, " ",AJ27) -> Rose 0 | AO27: ='Team 6'!F56 -> Lucy | AP27: ='Team 6'!G56 -> 0 | AQ27: 29 | AR27: GIRLS 13/U 100M BUTTERFLY | AS27: =CONCATENATE(AO27, " ",AP27) -> Lucy 0 | AU27: ='Team 7'!F56 -> 0 | AV27: ='Team 7'!G56 -> 0 | AW27: 29 | AX27: GIRLS 13/U 100M BUTTERFLY | AY27: =CONCATENATE(AU27, " ",AV27) -> 0 0 | BA27: ='Team 8'!F56 -> 0 | BB27: ='Team 8'!G56 -> 0 | BC27: 29 | BD27: GIRLS 13/U 100M BUTTERFLY | BE27: =CONCATENATE(BA27, " ",BB27) -> 0 0 | BG27: ='Team 9'!F56 -> 0 | BH27: ='Team 9'!G56 -> 0 | BI27: 29 | BJ27: GIRLS 13/U 100M BUTTERFLY | BK27: =CONCATENATE(BG27, " ",BH27) -> 0 0 | BM27: ='Team 10'!F56 -> 0 | BN27: ='Team 10'!G56 -> 0 | BO27: 29 | BP27: GIRLS 13/U 100M BUTTERFLY | BQ27: =CONCATENATE(BM27, " ",BN27) -> 0 0
... K40: 42 | L40: MENS OPEN 100M FREESTYLE | M40: ='Team 1'!F69 -> Bradley | N40: ='Team 1'!G69 -> 0 | O40: =CONCATENATE(M40, " ",N40) -> Bradley 0 | Q40: ='Team 2'!F69 -> Liam | R40: ='Team 2'!G69 -> 0 | S40: 42 | T40: MENS OPEN 100M FREESTYLE | U40: =CONCATENATE(Q40, " ",R40) -> Liam 0 | W40: ='Team 3'!F69 -> Myles | X40: ='Team 3'!G69 -> 0 | Y40: 42 | Z40: MENS OPEN 100M FREESTYLE | AA40: =CONCATENATE(W40, " ",X40) -> Myles 0 | AC40: ='Team 4'!F69 -> Max | AD40: ='Team 4'!G69 -> 0 | AE40: 42 | AF40: MENS OPEN 100M FREESTYLE | AG40: =CONCATENATE(AC40, " ",AD40) -> Max 0 | AI40: ='Team 5'!F69 -> Kris | AJ40: ='Team 5'!G69 -> 0 | AK40: 42 | AL40: MENS OPEN 100M FREESTYLE | AM40: =CONCATENATE(AI40, " ",AJ40) -> Kris 0 | AO40: ='Team 6'!F69 -> Joshua | AP40: ='Team 6'!G69 -> 0 | AQ40: 42 | AR40: MENS OPEN 100M FREESTYLE | AS40: =CONCATENATE(AO40, " ",AP40) -> Joshua 0 | AU40: ='Team 7'!F69 -> 0 | AV40: ='Team 7'!G69 -> 0 | AW40: 42 | AX40: MENS OPEN 100M FREESTYLE | AY40: =CONCATENATE(AU40, " ",AV40) -> 0 0 | BA40: ='Team 8'!F69 -> 0 | BB40: ='Team 8'!G69 -> 0 | BC40: 42 | BD40: MENS OPEN 100M FREESTYLE | BE40: =CONCATENATE(BA40, " ",BB40) -> 0 0 | BG40: ='Team 9'!F69 -> 0 | BH40: ='Team 9'!G69 -> 0 | BI40: 42 | BJ40: MENS OPEN 100M FREESTYLE | BK40: =CONCATENATE(BG40, " ",BH40) -> 0 0 | BM40: ='Team 10'!F69 -> 0 | BN40: ='Team 10'!G69 -> 0 | BO40: 42 | BP40: MENS OPEN 100M FREESTYLE | BQ40: =CONCATENATE(BM40, " ",BN40) -> 0 0
K41: RELAY EVENTS | S41: RELAY EVENTS | Y41: RELAY EVENTS | AE41: RELAY EVENTS | AK41: RELAY EVENTS | AQ41: RELAY EVENTS | AW41: RELAY EVENTS | BC41: RELAY EVENTS | BI41: RELAY EVENTS | BO41: RELAY EVENTS
K42: Relay events are shown separately as they are not licensed events. Arena league rules do not require the teams to swim in the declared order. This is a times check and comments sheet only. | S42: Relay events are shown separately as they are not licensed events. Arena league rules do not require the teams to swim in a declared order. This is a times check and comments sheet only. | Y42: Relay events are shown separately as they are not licensed events. Arena league rules do not require the teams to swim in a declared order. This is a times check and comments sheet only. | AE42: Relay events are shown separately as they are not licensed events. Arena league rules do not require the teams to swim in a declared order. This is a times check and comments sheet only. | AK42: Relay events are shown separately as they are not licensed events. Arena league rules do not require the teams to swim in a declared order. This is a times check and comments sheet only. | AQ42: Relay events are shown separately as they are not licensed events. Arena league rules do not require the teams to swim in a declared order. This is a times check and comments sheet only. | AW42: Relay events are shown separately as they are not licensed events. Arena league rules do not require the teams to swim in a declared order. This is a times check and comments sheet only. | BC42: Relay events are shown separately as they are not licensed events. Arena league rules do not require the teams to swim in a declared order. This is a times check and comments sheet only. | BI42: Relay events are shown separately as they are not licensed events. Arena league rules do not require the teams to swim in a declared order. This is a times check and comments sheet only. | BO42: Relay events are shown separately as they are not licensed events. Arena league rules do not require the teams to swim in a declared order. This is a times check and comments sheet only.
K43: 3 | L43: Girls 9/11 4 x 50m Free | O43: =CONCATENATE('Team 1'!$F6, " ",'Team 1'!$G6) -> Charlotte | P43: =CONCATENATE('Team 1'!$F7, " ",'Team 1'!$G7) -> Isla | S43: 3 | T43: Girls 9/11 4 x 50m Free | U43: =CONCATENATE('Team 2'!$F6, " ",'Team 2'!$G6) -> Elyse | V43: =CONCATENATE('Team 2'!$F7, " ",'Team 2'!$G7) -> Milly | W43: =CONCATENATE('Team 1'!$F6, " ",'Team 1'!$G6) -> Charlotte | X43: =CONCATENATE('Team 1'!$F7, " ",'Team 1'!$G7) -> Isla | Y43: 3 | Z43: Girls 9/11 4 x 50m Free | AA43: =CONCATENATE('Team 3'!$F6, " ",'Team 3'!$G6) -> Lily | AB43: =CONCATENATE('Team 3'!$F7, " ",'Team 3'!$G7) -> Charlotte | AC43: =CONCATENATE('Team 1'!$F6, " ",'Team 1'!$G6) -> Charlotte | AD43: =CONCATENATE('Team 1'!$F7, " ",'Team 1'!$G7) -> Isla | AE43: 3 | AF43: Girls 9/11 4 x 50m Free | AG43: =CONCATENATE('Team 4'!$F6, " ",'Team 4'!$G6) -> Emma | AH43: =CONCATENATE('Team 4'!$F7, " ",'Team 4'!$G7) -> Danielle | AI43: =CONCATENATE('Team 1'!$F6, " ",'Team 1'!$G6) -> Charlotte | AJ43: =CONCATENATE('Team 1'!$F7, " ",'Team 1'!$G7) -> Isla | AK43: 3 | AL43: Girls 9/11 4 x 50m Free | AM43: =CONCATENATE('Team 5'!$F6, " ",'Team 5'!$G6) -> Evie | AN43: =CONCATENATE('Team 5'!$F7, " ",'Team 5'!$G7) -> Amy | AO43: =CONCATENATE('Team 1'!$F6, " ",'Team 1'!$G6) -> Charlotte | AP43: =CONCATENATE('Team 1'!$F7, " ",'Team 1'!$G7) -> Isla | AQ43: 3 | AR43: Girls 9/11 4 x 50m Free | AS43: =CONCATENATE('Team 6'!$F6, " ",'Team 6'!$G6) -> Fleur | AT43: =CONCATENATE('Team 6'!$F7, " ",'Team 6'!$G7) -> Eleanor | AU43: =CONCATENATE('Team 1'!$F6, " ",'Team 1'!$G6) -> Charlotte | AV43: =CONCATENATE('Team 1'!$F7, " ",'Team 1'!$G7) -> Isla | AW43: 3 | AX43: Girls 9/11 4 x 50m Free | AY43: =CONCATENATE('Team 7'!$F6, " ",'Team 7'!$G6) | AZ43: =CONCATENATE('Team 7'!$F7, " ",'Team 7'!$G7) | BA43: =CONCATENATE('Team 1'!$F6, " ",'Team 1'!$G6) -> Charlotte | BB43: =CONCATENATE('Team 1'!$F7, " ",'Team 1'!$G7) -> Isla | BC43: 3 | BD43: Girls 9/11 4 x 50m Free | BE43: =CONCATENATE('Team 8'!$F6, " ",'Team 8'!$G6) | BF43: =CONCATENATE('Team 8'!$F7, " ",'Team 8'!$G7) | BG43: =CONCATENATE('Team 1'!$F6, " ",'Team 1'!$G6) -> Charlotte | BH43: =CONCATENATE('Team 1'!$F7, " ",'Team 1'!$G7) -> Isla | BI43: 3 | BJ43: Girls 9/11 4 x 50m Free | BK43: =CONCATENATE('Team 9'!$F6, " ",'Team 9'!$G6) | BL43: =CONCATENATE('Team 9'!$F7, " ",'Team 9'!$G7) | BM43: =CONCATENATE('Team 1'!$F6, " ",'Team 1'!$G6) -> Charlotte | BN43: =CONCATENATE('Team 1'!$F7, " ",'Team 1'!$G7) -> Isla | BO43: 3 | BP43: Girls 9/11 4 x 50m Free | BQ43: =CONCATENATE('Team 10'!$F6, " ",'Team 10'!$G6) | BR43: =CONCATENATE('Team 10'!$F7, " ",'Team 10'!$G7) | BS43: =CONCATENATE('Team 1'!$F6, " ",'Team 1'!$G6) -> Charlotte | BT43: =CONCATENATE('Team 1'!$F7, " ",'Team 1'!$G7) -> Isla
O44: =CONCATENATE('Team 1'!$F8, " ",'Team 1'!$G8) -> Ellie Rose | P44: =CONCATENATE('Team 1'!$F9, " ",'Team 1'!$G9) -> Sienna | U44: =CONCATENATE('Team 2'!$F8, " ",'Team 2'!$G8) -> Olivia | V44: =CONCATENATE('Team 2'!$F9, " ",'Team 2'!$G9) -> Sophie | W44: =CONCATENATE('Team 1'!$F8, " ",'Team 1'!$G8) -> Ellie Rose | X44: =CONCATENATE('Team 1'!$F9, " ",'Team 1'!$G9) -> Sienna | AA44: =CONCATENATE('Team 3'!$F8, " ",'Team 3'!$G8) -> Megan | AB44: =CONCATENATE('Team 3'!$F9, " ",'Team 3'!$G9) -> Leah | AC44: =CONCATENATE('Team 1'!$F8, " ",'Team 1'!$G8) -> Ellie Rose | AD44: =CONCATENATE('Team 1'!$F9, " ",'Team 1'!$G9) -> Sienna | AG44: =CONCATENATE('Team 4'!$F8, " ",'Team 4'!$G8) -> Despoina | AH44: =CONCATENATE('Team 4'!$F9, " ",'Team 4'!$G9) -> Grace | AI44: =CONCATENATE('Team 1'!$F8, " ",'Team 1'!$G8) -> Ellie Rose | AJ44: =CONCATENATE('Team 1'!$F9, " ",'Team 1'!$G9) -> Sienna | AM44: =CONCATENATE('Team 5'!$F8, " ",'Team 5'!$G8) -> Emma | AN44: =CONCATENATE('Team 5'!$F9, " ",'Team 5'!$G9) -> Marissa | AO44: =CONCATENATE('Team 1'!$F8, " ",'Team 1'!$G8) -> Ellie Rose | AP44: =CONCATENATE('Team 1'!$F9, " ",'Team 1'!$G9) -> Sienna | AS44: =CONCATENATE('Team 6'!$F8, " ",'Team 6'!$G8) -> Amelie | AT44: =CONCATENATE('Team 6'!$F9, " ",'Team 6'!$G9) -> Eloise | AU44: =CONCATENATE('Team 1'!$F8, " ",'Team 1'!$G8) -> Ellie Rose | AV44: =CONCATENATE('Team 1'!$F9, " ",'Team 1'!$G9) -> Sienna | AY44: =CONCATENATE('Team 7'!$F8, " ",'Team 7'!$G8) | AZ44: =CONCATENATE('Team 7'!$F9, " ",'Team 7'!$G9) | BA44: =CONCATENATE('Team 1'!$F8, " ",'Team 1'!$G8) -> Ellie Rose | BB44: =CONCATENATE('Team 1'!$F9, " ",'Team 1'!$G9) -> Sienna | BE44: =CONCATENATE('Team 8'!$F8, " ",'Team 8'!$G8) | BF44: =CONCATENATE('Team 8'!$F9, " ",'Team 8'!$G9) | BG44: =CONCATENATE('Team 1'!$F8, " ",'Team 1'!$G8) -> Ellie Rose | BH44: =CONCATENATE('Team 1'!$F9, " ",'Team 1'!$G9) -> Sienna | BK44: =CONCATENATE('Team 9'!$F8, " ",'Team 9'!$G8) | BL44: =CONCATENATE('Team 9'!$F9, " ",'Team 9'!$G9) | BM44: =CONCATENATE('Team 1'!$F8, " ",'Team 1'!$G8) -> Ellie Rose | BN44: =CONCATENATE('Team 1'!$F9, " ",'Team 1'!$G9) -> Sienna | BQ44: =CONCATENATE('Team 10'!$F8, " ",'Team 10'!$G8) | BR44: =CONCATENATE('Team 10'!$F9, " ",'Team 10'!$G9) | BS44: =CONCATENATE('Team 1'!$F8, " ",'Team 1'!$G8) -> Ellie Rose | BT44: =CONCATENATE('Team 1'!$F9, " ",'Team 1'!$G9) -> Sienna
K45: 4 | L45: Boys 9/11 4 x 50m Free | O45: =CONCATENATE('Team 1'!$F10, " ",'Team 1'!$G10) -> Finlay | P45: =CONCATENATE('Team 1'!$F11, " ",'Team 1'!$G11) -> James | S45: 4 | T45: Boys 9/11 4 x 50m Free | U45: =CONCATENATE('Team 2'!$F10, " ",'Team 2'!$G10) -> Aston | V45: =CONCATENATE('Team 2'!$F11, " ",'Team 2'!$G11) -> Jasper | W45: =CONCATENATE('Team 1'!$F10, " ",'Team 1'!$G10) -> Finlay | X45: =CONCATENATE('Team 1'!$F11, " ",'Team 1'!$G11) -> James | Y45: 4 | Z45: Boys 9/11 4 x 50m Free | AA45: =CONCATENATE('Team 3'!$F10, " ",'Team 3'!$G10) -> Mark | AB45: =CONCATENATE('Team 3'!$F11, " ",'Team 3'!$G11) -> Isaac | AC45: =CONCATENATE('Team 1'!$F10, " ",'Team 1'!$G10) -> Finlay | AD45: =CONCATENATE('Team 1'!$F11, " ",'Team 1'!$G11) -> James | AE45: 4 | AF45: Boys 9/11 4 x 50m Free | AG45: =CONCATENATE('Team 4'!$F10, " ",'Team 4'!$G10) -> Benjamin | AH45: =CONCATENATE('Team 4'!$F11, " ",'Team 4'!$G11) -> Michael | AI45: =CONCATENATE('Team 1'!$F10, " ",'Team 1'!$G10) -> Finlay | AJ45: =CONCATENATE('Team 1'!$F11, " ",'Team 1'!$G11) -> James | AK45: 4 | AL45: Boys 9/11 4 x 50m Free | AM45: =CONCATENATE('Team 5'!$F10, " ",'Team 5'!$G10) -> Oliver | AN45: =CONCATENATE('Team 5'!$F11, " ",'Team 5'!$G11) -> George | AO45: =CONCATENATE('Team 1'!$F10, " ",'Team 1'!$G10) -> Finlay | AP45: =CONCATENATE('Team 1'!$F11, " ",'Team 1'!$G11) -> James | AQ45: 4 | AR45: Boys 9/11 4 x 50m Free | AS45: =CONCATENATE('Team 6'!$F10, " ",'Team 6'!$G10) -> Harvey | AT45: =CONCATENATE('Team 6'!$F11, " ",'Team 6'!$G11) -> Adam | AU45: =CONCATENATE('Team 1'!$F10, " ",'Team 1'!$G10) -> Finlay | AV45: =CONCATENATE('Team 1'!$F11, " ",'Team 1'!$G11) -> James | AW45: 4 | AX45: Boys 9/11 4 x 50m Free | AY45: =CONCATENATE('Team 7'!$F10, " ",'Team 7'!$G10) | AZ45: =CONCATENATE('Team 7'!$F11, " ",'Team 7'!$G11) | BA45: =CONCATENATE('Team 1'!$F10, " ",'Team 1'!$G10) -> Finlay | BB45: =CONCATENATE('Team 1'!$F11, " ",'Team 1'!$G11) -> James | BC45: 4 | BD45: Boys 9/11 4 x 50m Free | BE45: =CONCATENATE('Team 8'!$F10, " ",'Team 8'!$G10) | BF45: =CONCATENATE('Team 8'!$F11, " ",'Team 8'!$G11) | BG45: =CONCATENATE('Team 1'!$F10, " ",'Team 1'!$G10) -> Finlay | BH45: =CONCATENATE('Team 1'!$F11, " ",'Team 1'!$G11) -> James | BI45: 4 | BJ45: Boys 9/11 4 x 50m Free | BK45: =CONCATENATE('Team 9'!$F10, " ",'Team 9'!$G10) | BL45: =CONCATENATE('Team 9'!$F11, " ",'Team 9'!$G11) | BM45: =CONCATENATE('Team 1'!$F10, " ",'Team 1'!$G10) -> Finlay | BN45: =CONCATENATE('Team 1'!$F11, " ",'Team 1'!$G11) -> James | BO45: 4 | BP45: Boys 9/11 4 x 50m Free | BQ45: =CONCATENATE('Team 10'!$F10, " ",'Team 10'!$G10) | BR45: =CONCATENATE('Team 10'!$F11, " ",'Team 10'!$G11) | BS45: =CONCATENATE('Team 1'!$F10, " ",'Team 1'!$G10) -> Finlay | BT45: =CONCATENATE('Team 1'!$F11, " ",'Team 1'!$G11) -> James
O46: =CONCATENATE('Team 1'!$F12, " ",'Team 1'!$G12) -> Miller | P46: =CONCATENATE('Team 1'!$F13, " ",'Team 1'!$G13) -> Austin | U46: =CONCATENATE('Team 2'!$F12, " ",'Team 2'!$G12) -> Max | V46: =CONCATENATE('Team 2'!$F13, " ",'Team 2'!$G13) -> Maximillan | W46: =CONCATENATE('Team 1'!$F12, " ",'Team 1'!$G12) -> Miller | X46: =CONCATENATE('Team 1'!$F13, " ",'Team 1'!$G13) -> Austin | AA46: =CONCATENATE('Team 3'!$F12, " ",'Team 3'!$G12) -> Jack | AB46: =CONCATENATE('Team 3'!$F13, " ",'Team 3'!$G13) -> Orlando | AC46: =CONCATENATE('Team 1'!$F12, " ",'Team 1'!$G12) -> Miller | AD46: =CONCATENATE('Team 1'!$F13, " ",'Team 1'!$G13) -> Austin | AG46: =CONCATENATE('Team 4'!$F12, " ",'Team 4'!$G12) -> Harry | AH46: =CONCATENATE('Team 4'!$F13, " ",'Team 4'!$G13) -> Jonathan | AI46: =CONCATENATE('Team 1'!$F12, " ",'Team 1'!$G12) -> Miller | AJ46: =CONCATENATE('Team 1'!$F13, " ",'Team 1'!$G13) -> Austin | AM46: =CONCATENATE('Team 5'!$F12, " ",'Team 5'!$G12) -> Findley | AN46: =CONCATENATE('Team 5'!$F13, " ",'Team 5'!$G13) -> Charlie | AO46: =CONCATENATE('Team 1'!$F12, " ",'Team 1'!$G12) -> Miller | AP46: =CONCATENATE('Team 1'!$F13, " ",'Team 1'!$G13) -> Austin | AS46: =CONCATENATE('Team 6'!$F12, " ",'Team 6'!$G12) -> Euan | AT46: =CONCATENATE('Team 6'!$F13, " ",'Team 6'!$G13) -> Daniel | AU46: =CONCATENATE('Team 1'!$F12, " ",'Team 1'!$G12) -> Miller | AV46: =CONCATENATE('Team 1'!$F13, " ",'Team 1'!$G13) -> Austin | AY46: =CONCATENATE('Team 7'!$F12, " ",'Team 7'!$G12) | AZ46: =CONCATENATE('Team 7'!$F13, " ",'Team 7'!$G13) | BA46: =CONCATENATE('Team 1'!$F12, " ",'Team 1'!$G12) -> Miller | BB46: =CONCATENATE('Team 1'!$F13, " ",'Team 1'!$G13) -> Austin | BE46: =CONCATENATE('Team 8'!$F12, " ",'Team 8'!$G12) | BF46: =CONCATENATE('Team 8'!$F13, " ",'Team 8'!$G13) | BG46: =CONCATENATE('Team 1'!$F12, " ",'Team 1'!$G12) -> Miller | BH46: =CONCATENATE('Team 1'!$F13, " ",'Team 1'!$G13) -> Austin | BK46: =CONCATENATE('Team 9'!$F12, " ",'Team 9'!$G12) | BL46: =CONCATENATE('Team 9'!$F13, " ",'Team 9'!$G13) | BM46: =CONCATENATE('Team 1'!$F12, " ",'Team 1'!$G12) -> Miller | BN46: =CONCATENATE('Team 1'!$F13, " ",'Team 1'!$G13) -> Austin | BQ46: =CONCATENATE('Team 10'!$F12, " ",'Team 10'!$G12) | BR46: =CONCATENATE('Team 10'!$F13, " ",'Team 10'!$G13) | BS46: =CONCATENATE('Team 1'!$F12, " ",'Team 1'!$G12) -> Miller | BT46: =CONCATENATE('Team 1'!$F13, " ",'Team 1'!$G13) -> Austin
K47: 5 | L47: Girls 13/U 4 x 50m Medley | O47: =CONCATENATE('Team 1'!$F14, " ",'Team 1'!$G14) -> Faith | P47: =CONCATENATE('Team 1'!$F15, " ",'Team 1'!$G15) -> Sophie | S47: 5 | T47: Girls 13/U 4 x 50m Medley | U47: =CONCATENATE('Team 2'!$F14, " ",'Team 2'!$G14) -> Anna | V47: =CONCATENATE('Team 2'!$F15, " ",'Team 2'!$G15) -> Talia-Jay | W47: =CONCATENATE('Team 1'!$F14, " ",'Team 1'!$G14) -> Faith | X47: =CONCATENATE('Team 1'!$F15, " ",'Team 1'!$G15) -> Sophie | Y47: 5 | Z47: Girls 13/U 4 x 50m Medley | AA47: =CONCATENATE('Team 3'!$F14, " ",'Team 3'!$G14) -> Hannah | AB47: =CONCATENATE('Team 3'!$F15, " ",'Team 3'!$G15) -> Jess | AC47: =CONCATENATE('Team 1'!$F14, " ",'Team 1'!$G14) -> Faith | AD47: =CONCATENATE('Team 1'!$F15, " ",'Team 1'!$G15) -> Sophie | AE47: 5 | AF47: Girls 13/U 4 x 50m Medley | AG47: =CONCATENATE('Team 4'!$F14, " ",'Team 4'!$G14) -> Sophie | AH47: =CONCATENATE('Team 4'!$F15, " ",'Team 4'!$G15) -> Abby | AI47: =CONCATENATE('Team 1'!$F14, " ",'Team 1'!$G14) -> Faith | AJ47: =CONCATENATE('Team 1'!$F15, " ",'Team 1'!$G15) -> Sophie | AK47: 5 | AL47: Girls 13/U 4 x 50m Medley | AM47: =CONCATENATE('Team 5'!$F14, " ",'Team 5'!$G14) -> Jessica | AN47: =CONCATENATE('Team 5'!$F15, " ",'Team 5'!$G15) -> Samantha | AO47: =CONCATENATE('Team 1'!$F14, " ",'Team 1'!$G14) -> Faith | AP47: =CONCATENATE('Team 1'!$F15, " ",'Team 1'!$G15) -> Sophie | AQ47: 5 | AR47: Girls 13/U 4 x 50m Medley | AS47: =CONCATENATE('Team 6'!$F14, " ",'Team 6'!$G14) -> Salma | AT47: =CONCATENATE('Team 6'!$F15, " ",'Team 6'!$G15) -> Jessica | AU47: =CONCATENATE('Team 1'!$F14, " ",'Team 1'!$G14) -> Faith | AV47: =CONCATENATE('Team 1'!$F15, " ",'Team 1'!$G15) -> Sophie | AW47: 5 | AX47: Girls 13/U 4 x 50m Medley | AY47: =CONCATENATE('Team 7'!$F14, " ",'Team 7'!$G14) | AZ47: =CONCATENATE('Team 7'!$F15, " ",'Team 7'!$G15) | BA47: =CONCATENATE('Team 1'!$F14, " ",'Team 1'!$G14) -> Faith | BB47: =CONCATENATE('Team 1'!$F15, " ",'Team 1'!$G15) -> Sophie | BC47: 5 | BD47: Girls 13/U 4 x 50m Medley | BE47: =CONCATENATE('Team 8'!$F14, " ",'Team 8'!$G14) | BF47: =CONCATENATE('Team 8'!$F15, " ",'Team 8'!$G15) | BG47: =CONCATENATE('Team 1'!$F14, " ",'Team 1'!$G14) -> Faith | BH47: =CONCATENATE('Team 1'!$F15, " ",'Team 1'!$G15) -> Sophie | BI47: 5 | BJ47: Girls 13/U 4 x 50m Medley | BK47: =CONCATENATE('Team 9'!$F14, " ",'Team 9'!$G14) | BL47: =CONCATENATE('Team 9'!$F15, " ",'Team 9'!$G15) | BM47: =CONCATENATE('Team 1'!$F14, " ",'Team 1'!$G14) -> Faith | BN47: =CONCATENATE('Team 1'!$F15, " ",'Team 1'!$G15) -> Sophie | BO47: 5 | BP47: Girls 13/U 4 x 50m Medley | BQ47: =CONCATENATE('Team 10'!$F14, " ",'Team 10'!$G14) | BR47: =CONCATENATE('Team 10'!$F15, " ",'Team 10'!$G15) | BS47: =CONCATENATE('Team 1'!$F14, " ",'Team 1'!$G14) -> Faith | BT47: =CONCATENATE('Team 1'!$F15, " ",'Team 1'!$G15) -> Sophie
