Workbook

Sheet Gala Setup
H1: 100M | I1: 200m | K1: Note to all those using this programme DO NOT USE "CUT & PASTE" or "DRAG & DROP" in any Arena documents
D2: ='Gala Setup'!J7 -> 3ER231478 | G2: =DATE(YEAR(NOW()),12,31) -> 45291 | H2: National Arena Swimming League | L2: Import or Edit Teams ↓ | N2: Enter Lane Numbers ALWAYS Starting with the lowest number ↓ | P2: Team names will show here when the team sheet is imported | Q2: Enter 4 digit club code HERE ↓ | AD2: =H2 -> National Arena Swimming League | AG2: =S4 -> NASL.2023 V6 | AH2: LANE | AI2: These are the names that have been entered on the team sheet
H3: Gala recorders:- Please fill in all red boxes.
B4: =H2 -> National Arena Swimming League | C4: =H6 -> AQUA VALE S & F CENTRE AYLESBURY | D4: =H6 -> AQUA VALE S & F CENTRE AYLESBURY | E4: =H7 -> 45269 | F4: =IF(J8=25,31,IF(J8=50,11)) -> 31 | G4: League | H4: LONDON | I4: Division | J4: ONE | L4: TEAM 1 | N4: 1 | O4: =IF(P4=0,"No Team Sheet",IF(M4=0,0,IF(M4=P4,"OK","ERROR"))) -> 0 | P4: =IF('Team 1'!E1=0,"The team in the lowest numbered lane must show here",'Team 1'!E1) -> HARINGEY AQUATICS | Q4: HABL | S4: NASL.2023 V6 | AD4: League | AE4: =H4 -> LONDON | AF4: DIVISION | AG4: =J4 -> ONE | AH4: LANE 1 | AI4: =P4 -> HARINGEY AQUATICS | AJ4: =M4 -> 0 | AK4: =IF(AJ4=0,"No Team Sheet",IF(AI4=0,0,IF(AI4=AJ4,"OK","ERROR"))) -> No Team Sheet | AL4: 6 LANES | AM4: 8 LANES | AN4: 10 LANES
E5: =TEXT(E4,"DD/MM/YY") -> 09/12/23 | G5: Round | H5: THREE | I5: Gala Number | J5: TWO | L5: TEAM 2 | N5: 2 | O5: =IF(P5=0,"No Team Sheet",IF(M5=0,0,IF(M5=P5,"OK","ERROR"))) -> 0 | P5: ='Team 2'!E$1 -> STEVENAGE | Q5: STET | AD5: Round | AE5: =H5 -> THREE | AF5: Gala Number | AG5: =J5 -> TWO | AH5: LANE 2 | AI5: =P5 -> STEVENAGE | AJ5: =M5 -> 0 | AK5: =IF(AJ5=0,"No Team Sheet",IF(AI5=0,0,IF(AI5=AJ5,"OK","ERROR"))) -> No Team Sheet
E6: =LEFT(E5,2)&MID(E5,4,2)&RIGHT(E5,2) -> 091223 | G6: Gala venue | H6: AQUA VALE S & F CENTRE AYLESBURY | L6: TEAM 3 | N6: 3 | O6: =IF(P6=0,"No Team Sheet",IF(M6=0,0,IF(M6=P6,"OK","ERROR"))) -> 0 | P6: ='Team 3'!E$1 -> BORO OF BROXBOURNE | Q6: BBST | AD6: Gala venue | AE6: =H6 -> AQUA VALE S & F CENTRE AYLESBURY | AH6: LANE 3 | AI6: =P6 -> BORO OF BROXBOURNE | AJ6: =M6 -> 0 | AK6: =IF(AJ6=0,"No Team Sheet",IF(AI6=0,0,IF(AI6=AJ6,"OK","ERROR"))) -> No Team Sheet
G7: Gala Date | H7: 45269 | I7: License Number (If applicable) | J7: 3ER231478 | L7: TEAM 4 | N7: 4 | O7: =IF(P7=0,"No Team Sheet",IF(M7=0,0,IF(M7=P7,"OK","ERROR"))) -> 0 | P7: ='Team 4'!E$1 -> AYLESBURY | Q7: AYBS | S7: ='Club Names & Codes'!A1 -> CLUB CODE LIST | AD7: Gala Date | AE7: =H7 -> 45269 | AH7: LANE 4 | AI7: =P7 -> AYLESBURY | AJ7: =M7 -> 0 | AK7: =IF(AJ7=0,"No Team Sheet",IF(AI7=0,0,IF(AI7=AJ7,"OK","ERROR"))) -> No Team Sheet
G8: Pool Length for all Arena galas is | J8: 25 | L8: TEAM 5 | N8: 5 | O8: =IF(P8=0,"No Team Sheet",IF(M8=0,0,IF(M8=P8,"OK","ERROR"))) -> 0 | P8: ='Team 5'!E$1 -> BRAINTREE & BOCKING | Q8: BTRT | AD8: Pool Length | AF8: =J8 -> 25 | AH8: LANE 5 | AI8: =P8 -> BRAINTREE & BOCKING | AJ8: =M8 -> 0 | AK8: =IF(AJ8=0,"No Team Sheet",IF(AI8=0,0,IF(AI8=AJ8,"OK","ERROR"))) -> No Team Sheet
G9: IM distance for all galas is | J9: 200M | L9: TEAM 6 | N9: 6 | O9: =IF(P9=0,"No Team Sheet",IF(M9=0,0,IF(M9=P9,"OK","ERROR"))) -> 0 | P9: ='Team 6'!E$1 -> Bo of Harrow | Q9: HAWL | S9: Swimmer Eligibilty | X9: Check a Result | AG9: Metre | AH9: LANE 6 | AI9: =P9 -> Bo of Harrow | AJ9: =M9 -> 0 | AK9: =IF(AJ9=0,"No Team Sheet",IF(AI9=0,0,IF(AI9=AJ9,"OK","ERROR"))) -> No Team Sheet
G10: Notes for Gala recorders. | L10: TEAM 7 | N10: 7 | O10: =IF(P10=0,"No Team Sheet",IF(M10=0,0,IF(M10=P10,"OK","ERROR"))) -> 0 | P10: ='Team 7'!E1 -> Hillingdon 'B' | Q10: HISL | R10: Results Printout 6 Lane | AH10: LANE 7 | AI10: =P10 -> Hillingdon 'B' | AJ10: =M10 -> 0 | AK10: =IF(AJ10=0,"No Team Sheet",IF(AI10=0,0,IF(AI10=AJ10,"OK","ERROR"))) -> No Team Sheet
G11: 1/ Please ensure that all gala details are correctly entered. Team names automatically appear as shown on the team sheets. The 4 digit club codes MUST then be entered on this page. 2/ Lane order is as supplied by your league secretary & lanes should be numbered on this sheet, to coincide with the pool setup. | L11: TEAM 8 | O11: =IF(P11=0,"No Team Sheet",IF(M11=0,0,IF(M11=P11,"OK","ERROR"))) -> No Team Sheet | P11: ='Team 8'!E1 -> 0 | R11: Results Printout 8 Lane | AD11: Medley distance | AF11: =J9 -> 200M | AH11: LANE 8 | AI11: =P11 -> 0 | AJ11: =M11 -> 0 | AK11: =IF(AJ11=0,"No Team Sheet",IF(AI11=0,0,IF(AI11=AJ11,"OK","ERROR"))) -> No Team Sheet
L12: TEAM 9 | O12: =IF(P12=0,"No Team Sheet",IF(M12=0,0,IF(M12=P12,"OK","ERROR"))) -> No Team Sheet | P12: ='Team 9'!E1 -> 0 | S12: Results Printout 10 Lane | AH12: LANE 9 | AI12: =P12 -> 0 | AJ12: =M12 -> 0 | AK12: =IF(AJ12=0,"No Team Sheet",IF(AI12=0,0,IF(AI12=AJ12,"OK","ERROR"))) -> No Team Sheet
G13: 3/ Team & lane data must always be entered starting with "Team 1" no matter how many teams are swimming or which number lanes are used. | L13: TEAM 10 | O13: =IF(P13=0,"No Team Sheet",IF(M13=0,0,IF(M13=P13,"OK","ERROR"))) -> No Team Sheet | P13: ='Team 10'!E1 -> 0 | S13: Rankings HDR file | X13: Rankings MRF file | AH13: LANE 0 | AI13: =P13 -> 0 | AJ13: =M13 -> 0 | AK13: =IF(AJ13=0,"No Team Sheet",IF(AI13=0,0,IF(AI13=AJ13,"OK","ERROR"))) -> No Team Sheet
G14: 4/ If an individual gala result is tied, places are automatically calculated on countback using all events. All placings are taken into account when necessary. | N14: → | P14: Print Lane timer sheets | X14: ←
G15: 5/ Navigation between the different parts of the programme can be either by selecting the links located within each page, or by using the sheet tabs at the bottom of the page. | L15: → | N15: Run the Gala | Y15: ←
G17: 6/ If a club name is made up entirely with numbers eg 1066 or 1930 then letters must be added for points to score correctly. SC is acceptable.
L19: ↗ | Y19: ↖
G20: Email this complete excel file to your league secretary as soon as possible & at the latest by Midday of the next day.

Sheet Club Names & Codes
A1: CLUB CODE LIST | D1: Gala set up | E1: Gala Recording | F1: COMPLETE ASA CLUB CODE DATABASE 2017
A2: CLUB | B2: CODE | C2: Rankings Name | D2: ='Gala Setup'!S4 -> NASL.2023 V6 | F2: Club Name | G2: Code | H2: Region | I2: County
A3: 1066 Swimmers | B3: TENS | C3: 1066swimmers | F3: Club Name | G3: Code | H3: District | I3: County
A4: 1930 ASC | B4: ENTX | C4: 1930 | F4: 1066 Swimmers | G4: TENS | H4: S | I4: SSXS
A5: 4 Shires Swimming Club | B5: FRSS | C5: 4 Shires | F5: 1930 ASC | G5: ENTX | H5: X | I5: SEDX
A6: A.N.T. Swimming Club Of Somerset | B6: ANTW | C6: A.N.T. SC | F6: 4 Shires Swimming Club | G6: FRSS | H6: S | I6: ONBS
A7: Aberavon | B7: ABVY | C7: Aberavon | F7: Aberaeron SC | G7: ABEY | H7: Y | I7: WWAY
A8: Aberdare Comets Diving Club | B8: ACDY | C8: Aberdare Com | F8: Aberavon | G8: ABVY | H8: Y | I8: WWAY
A9: Aberdeen ASC | B9: NANX | C9: Aberdeen | F9: Aberdare Comets Diving Club | G9: ACDY | H9: Y | I9: EWAY
A10: Aberdeen Diving Club | B10: NAVX | C10: Aberdeen DC | F10: Aberdeen ASC | G10: NANX | H10: X | I10: SNDX
A11: Aberdeen Dolphins ASC | B11: NADX | C11: Aberdeen Dol | F11: Aberdeen Diving Club | G11: NAVX | H11: X | I11: SNDX
A12: Aberdeen University Diving Club | B12: NABX | C12: Adeen Uni DC | F12: Aberdeen Dolphins ASC | G12: NADX | H12: X | I12: SNDX
A13: Aberdeen University Swimming and WPC | B13: NAUX | C13: Aberdeen Uni | F13: Aberdeen University Diving Club | G13: NABX | H13: X | I13: SNDX
A14: Abergavenny Swimming Club | B14: ABAY | C14: Abergavenny | F14: Aberdeen University Swimming and Water Polo Club | G14: NAUX | H14: X | I14: SNDX
A15: Abertillery Piranhas SC | B15: ABTY | C15: Abertillery | F15: Abergavenny Swimming Club | G15: ABAY | H15: Y | I15: EWAY
A16: Aberystwyth | B16: ABRY | C16: Aberystwyth | F16: Abertillery Piranhas SC | G16: ABTY | H16: Y | I16: EWAY
... A707: Loughborough Perforamance Centre | B707: LOGI | C707: L'borogh PC | F707: Lanark | G707: WLKX | H707: X | I707: SCWX
A708: Loughborough Town SC | B708: LOUA | C708: Loughborough
A709: Loughborough University Swimming | B709: LCLA | C709: Lboro Uni | F709: Lancashire County WPSA | G709: LNCN | H709: N | I709: LNCN
A710: Loughton Masters Swimming Club | B710: LOMT | C710: Loughton Mas | F710: Lancaster City SC | G710: LANN | H710: N | I710: LNCN
A711: Louth Dolphins SC | B711: LODA | C711: Louth | F711: Larkfield SC | G711: LARS | H711: S | I711: KNTQ
A712: Lucton Typhoon SC | B712: LCMM | C712: L Typhoon | F712: Larkhall Avondale ASC | G712: WLAX | H712: X | I712: SCWX
A713: Ludlow Swimming Club | B713: LUDM | C713: Ludlow | F713: Larkhall Water Polo Club | G713: WLWX | H713: X | I713: SCWX
A714: Luton Diving Club | B714: LKDT | C714: Luton Diving | F714: Launceston SC | G714: LSCW | H714: W | I714: CWLW
A715: Lydney SC | B715: LYDW | C715: Lydney | F715: Leamington Spa SC | G715: SPAM | H715: M | I715: WWKM
A716: Lymington SC | B716: LYMS | C716: Lymington | F716: Leander SC | G716: LEAL | H716: L | I716: SRYQ
A717: Lytham St Annes SC | B717: YLSN | C717: Lytham St A | F717: Leatherhead SC | G717: LETS | H717: S | I717: SRYQ
A718: Maidenhead ASC | B718: MADS | C718: Maidenhead | F718: Ledbury & District SC | G718: LADM | H718: M | I718: WRCM
A719: Maidstone SC | B719: MAIS | C719: Maidstone SC | F719: Leek ASC | G719: LEEM | H719: M | I719: STFM
A720: Making Waves ASC | B720: WMSX | C720: Making Waves | F720: Leicester Masters | G720: LEMA | H720: A | I720: LECA
... A1287: Ythan ASC | B1287: NYNX | C1287: Ythan | F1287: Welsh Wanderers | G1287: WWPY | H1287: Y | I1287: EWAY
A1288: Derby Excel | B1288: DEXA | F1288: Welshpool | G1288: WELY | H1288: Y | I1288: NWAY
F1289: Welwyn Garden SC | G1289: WELT | H1289: T | I1289: HRTT
F1290: Wessex Diving Club | G1290: WXDW | H1290: W | I1290: DRSW
F1291: West Dorset SC | G1291: WDOW | H1291: W | I1291: DRSW
F1292: West Dunbartonshire ASC | G1292: WDDX | H1292: X | I1292: SCWX
F1293: West Kirby ASC | G1293: WEKN | H1293: N | I1293: CHRN
F1294: West London Penguin Swimming & Water Polo Club | G1294: HAPL | H1294: L | I1294: MDXL
F1295: West Midland Region | G1295: WESM | H1295: M | I1295: EASA
F1296: West Midlands Police SC | G1296: WMPM | H1296: M | I1296: WWKM
F1297: West Norfolk Swimming Club | G1297: KLWT | H1297: T | I1297: NRFT
F1298: West Suffolk Swimming Club | G1298: WSUT | H1298: T | I1298: SFKT
F1299: West Wight SC | G1299: WEWS | H1299: S | I1299: HNTS
F1300: West Wilts Diving Club | G1300: WWDW | H1300: W | I1300: WLTW
... F1388: Ythan ASC | G1388: NYNX | H1388: X | I1388: SNDX

Sheet Lane Timer sheets
D1: Gala Setup | E1: Gala Recording | F1: Check a Result | G1: Check a Swimmer | H1: Final Result | I1: Team sheets ↓
A2: Lane Timer sheets are now required at Arena League Galas 1. Ensure that you have processed any team changes before printing out these sheets. 2. Now - From this page, Press - Ctrl+P on the keyboard. 3. The default setting is for 10 lanes, with 2 pages per lane 20 pages, so please select the number of pages to equal the number of lanes in use. Examples 6 lanes = pages 1 - 12 8 lanes = pages 1 - 16 Please note Only 1 copy should be selected, as that will print 1 copy of each lane. Hand the printed sheets to the Referee who will issue them to the timekeepers. | I2: TEAM 1 | K2: ='Gala Setup'!$H7 -> 45269 | O2: ='Gala Setup'!$H4 -> LONDON | P2: ='Gala Setup'!$J4 -> ONE | Q2: ='Gala Setup'!$H7 -> 45269 | U2: ='Gala Setup'!H4 -> LONDON | V2: ='Gala Setup'!J4 -> ONE | W2: ='Gala Setup'!$H7 -> 45269 | AA2: ='Gala Setup'!$H4 -> LONDON | AB2: ='Gala Setup'!$J4 -> ONE | AC2: ='Gala Setup'!$H7 -> 45269 | AG2: ='Gala Setup'!$H4 -> LONDON | AH2: ='Gala Setup'!$J4 -> ONE | AI2: ='Gala Setup'!$H7 -> 45269 | AM2: ='Gala Setup'!$H4 -> LONDON | AN2: ='Gala Setup'!$J4 -> ONE | AO2: ='Gala Setup'!$H7 -> 45269 | AS2: ='Gala Setup'!$H4 -> LONDON | AT2: ='Gala Setup'!$J4 -> ONE | AU2: ='Gala Setup'!$H7 -> 45269 | AY2: ='Gala Setup'!$H4 -> LONDON | AZ2: ='Gala Setup'!$J4 -> ONE | BA2: ='Gala Setup'!$H7 -> 45269 | BE2: ='Gala Setup'!$H4 -> LONDON | BF2: ='Gala Setup'!$J4 -> ONE | BG2: ='Gala Setup'!$H7 -> 45269 | BK2: ='Gala Setup'!$H4 -> LONDON | BL2: ='Gala Setup'!$J4 -> ONE | BM2: ='Gala Setup'!$H7 -> 45269 | BQ2: ='Gala Setup'!$H4 -> LONDON | BR2: ='Gala Setup'!$J4 -> ONE
I3: TEAM 2 | K3: ='Gala Setup'!$H6 -> AQUA VALE S & F CENTRE AYLESBURY | Q3: ='Gala Setup'!$H6 -> AQUA VALE S & F CENTRE AYLESBURY | W3: ='Gala Setup'!$H6 -> AQUA VALE S & F CENTRE AYLESBURY | AC3: ='Gala Setup'!$H6 -> AQUA VALE S & F CENTRE AYLESBURY | AI3: ='Gala Setup'!$H6 -> AQUA VALE S & F CENTRE AYLESBURY | AO3: ='Gala Setup'!$H6 -> AQUA VALE S & F CENTRE AYLESBURY | AU3: ='Gala Setup'!$H6 -> AQUA VALE S & F CENTRE AYLESBURY | BA3: ='Gala Setup'!$H6 -> AQUA VALE S & F CENTRE AYLESBURY | BG3: ='Gala Setup'!$H6 -> AQUA VALE S & F CENTRE AYLESBURY | BM3: ='Gala Setup'!H6 -> AQUA VALE S & F CENTRE AYLESBURY
I4: TEAM 3 | K4: Events | O4: ='Gala Setup'!P4 -> HARINGEY AQUATICS | P4: Time | Q4: Events | U4: ='Gala Setup'!P5 -> STEVENAGE | V4: Time | W4: Events | AA4: ='Gala Setup'!P6 -> BORO OF BROXBOURNE | AB4: Time | AC4: Events | AG4: ='Gala Setup'!P7 -> AYLESBURY | AH4: Time | AI4: Events | AM4: ='Gala Setup'!P8 -> BRAINTREE & BOCKING | AN4: Time | AO4: Events | AS4: ='Gala Setup'!P9 -> Bo of Harrow | AT4: Time | AU4: Events | AY4: ='Gala Setup'!P10 -> Hillingdon 'B' | AZ4: Time | BA4: Events | BE4: ='Gala Setup'!P11 -> 0 | BF4: Time | BG4: Events | BK4: ='Gala Setup'!P12 -> 0 | BL4: Time | BM4: Events | BQ4: ='Gala Setup'!P13 -> 0 | BR4: Time
I5: TEAM 4 | O5: LANE | U5: LANE | AA5: LANE | AG5: LANE | AM5: LANE | AS5: LANE | AY5: LANE | BE5: LANE | BK5: LANE | BQ5: LANE
I6: TEAM 5 | O6: ='Gala Setup'!N4 -> 1 | U6: ='Gala Setup'!N5 -> 2 | AA6: ='Gala Setup'!N6 -> 3 | AG6: ='Gala Setup'!N7 -> 4 | AM6: ='Gala Setup'!N8 -> 5 | AS6: ='Gala Setup'!N9 -> 6 | AY6: ='Gala Setup'!N10 -> 7 | BE6: ='Gala Setup'!N11 -> 0 | BK6: ='Gala Setup'!N12 -> 0 | BQ6: ='Gala Setup'!N13 -> 0
I7: TEAM 6 | K7: 1 | L7: Female 16+ 200m IM | M7: ='Team 1'!F4 -> Bianca | N7: ='Team 1'!G4 -> Gomez-Velasco | O7: =CONCATENATE(M7, " ",N7) -> Bianca Gomez-Velasco | Q7: 1 | R7: Female 16+ 200m IM | S7: ='Team 2'!F4 -> Sophie | T7: ='Team 2'!G4 -> Stelmach | U7: =CONCATENATE(S7, " ",T7) -> Sophie Stelmach | W7: 1 | X7: Female 16+ 200m IM | Y7: ='Team 3'!F4 -> Hannah | Z7: ='Team 3'!G4 -> Lovelock | AA7: =CONCATENATE(Y7, " ",Z7) -> Hannah Lovelock | AC7: 1 | AD7: Female 16+ 200m IM | AE7: ='Team 4'!F4 -> LIBBY | AF7: ='Team 4'!G4 -> BLISSETT | AG7: =CONCATENATE(AE7, " ",AF7) -> LIBBY BLISSETT | AI7: 1 | AJ7: Female 16+ 200m IM | AK7: ='Team 5'!F4 -> Isabelle | AL7: ='Team 5'!G4 -> Talbot | AM7: =CONCATENATE(AK7, " ",AL7) -> Isabelle Talbot | AO7: 1 | AP7: Female 16+ 200m IM | AQ7: ='Team 6'!F4 -> Alice | AR7: ='Team 6'!G4 -> Sharrock | AS7: =CONCATENATE(AQ7, " ",AR7) -> Alice Sharrock | AU7: 1 | AV7: Female 16+ 200m IM | AW7: ='Team 7'!F4 -> Laura | AX7: ='Team 7'!G4 -> Hibberd | AY7: =CONCATENATE(AW7, " ",AX7) -> Laura Hibberd | BA7: 1 | BB7: Female 16+ 200m IM | BC7: ='Team 8'!F4 -> 0 | BD7: ='Team 8'!G4 -> 0 | BE7: =CONCATENATE(BC7, " ",BD7) -> 0 0 | BG7: 1 | BH7: Female 16+ 200m IM | BI7: ='Team 9'!F4 -> 0 | BJ7: ='Team 9'!G4 -> 0 | BK7: =CONCATENATE(BI7, " ",BJ7) -> 0 0 | BM7: 1 | BN7: Female 16+ 200m IM | BO7: ='Team 10'!F4 -> 0 | BP7: ='Team 10'!G4 -> 0 | BQ7: =CONCATENATE(BO7, " ",BP7) -> 0 0
I8: TEAM 7 | K8: 2 | L8: Open/Male 16+ 200m IM | M8: ='Team 1'!F5 -> Zente | N8: ='Team 1'!G5 -> Buzsik | O8: =CONCATENATE(M8, " ",N8) -> Zente Buzsik | Q8: 2 | R8: Open/Male 16+ 200m IM | S8: ='Team 2'!F5 -> Harry | T8: ='Team 2'!G5 -> Chapman | U8: =CONCATENATE(S8, " ",T8) -> Harry Chapman | W8: 2 | X8: Open/Male 16+ 200m IM | Y8: ='Team 3'!F5 -> George | Z8: ='Team 3'!G5 -> Lovelock | AA8: =CONCATENATE(Y8, " ",Z8) -> George Lovelock | AC8: 2 | AD8: Open/Male 16+ 200m IM | AE8: ='Team 4'!F5 -> ELLIS | AF8: ='Team 4'!G5 -> BUNCE | AG8: =CONCATENATE(AE8, " ",AF8) -> ELLIS BUNCE | AI8: 2 | AJ8: Open/Male 16+ 200m IM | AK8: ='Team 5'!F5 -> Albert | AL8: ='Team 5'!G5 -> Orley | AM8: =CONCATENATE(AK8, " ",AL8) -> Albert Orley | AO8: 2 | AP8: Open/Male 16+ 200m IM | AQ8: ='Team 6'!F5 -> Razvan | AR8: ='Team 6'!G5 -> Lembac | AS8: =CONCATENATE(AQ8, " ",AR8) -> Razvan Lembac | AU8: 2 | AV8: Open/Male 16+ 200m IM | AW8: ='Team 7'!F5 -> Liam | AX8: ='Team 7'!G5 -> Treanor | AY8: =CONCATENATE(AW8, " ",AX8) -> Liam Treanor | BA8: 2 | BB8: Open/Male 16+ 200m IM | BC8: ='Team 8'!F5 -> 0 | BD8: ='Team 8'!G5 -> 0 | BE8: =CONCATENATE(BC8, " ",BD8) -> 0 0 | BG8: 2 | BH8: Open/Male 16+ 200m IM | BI8: ='Team 9'!F5 -> 0 | BJ8: ='Team 9'!G5 -> 0 | BK8: =CONCATENATE(BI8, " ",BJ8) -> 0 0 | BM8: 2 | BN8: Open/Male 16+ 200m IM | BO8: ='Team 10'!F5 -> 0 | BP8: ='Team 10'!G5 -> 0 | BQ8: =CONCATENATE(BO8, " ",BP8) -> 0 0
I9: TEAM 8 | K9: 3 | L9: Female 9/11 4 X 50M FREESTYLE RELAY | M9: ='Team 1'!F6 -> Ines | N9: ='Team 1'!G6 -> Puente | O9: =CONCATENATE(M9, " ",N9) -> Ines Puente | Q9: 3 | R9: Female 9/11 4 X 50M FREESTYLE RELAY | S9: ='Team 2'!F6 -> Seren | T9: ='Team 2'!G6 -> Cooper | U9: =CONCATENATE(S9, " ",T9) -> Seren Cooper | W9: 3 | X9: Female 9/11 4 X 50M FREESTYLE RELAY | Y9: ='Team 3'!F6 -> Hannah | Z9: ='Team 3'!G6 -> Jounor | AA9: =CONCATENATE(Y9, " ",Z9) -> Hannah Jounor | AC9: 3 | AD9: Female 9/11 4 X 50M FREESTYLE RELAY | AE9: ='Team 4'!F6 -> WILLOW | AF9: ='Team 4'!G6 -> BROWNBRIDGE | AG9: =CONCATENATE(AE9, " ",AF9) -> WILLOW BROWNBRIDGE | AI9: 3 | AJ9: Female 9/11 4 X 50M FREESTYLE RELAY | AK9: ='Team 5'!F6 -> Layla | AL9: ='Team 5'!G6 -> Cook | AM9: =CONCATENATE(AK9, " ",AL9) -> Layla Cook | AO9: 3 | AP9: Female 9/11 4 X 50M FREESTYLE RELAY | AQ9: ='Team 6'!F6 -> Mahika | AR9: ='Team 6'!G6 -> Chandrashekar | AS9: =CONCATENATE(AQ9, " ",AR9) -> Mahika Chandrashekar | AU9: 3 | AV9: Female 9/11 4 X 50M FREESTYLE RELAY | AW9: ='Team 7'!F6 -> Zara | AX9: ='Team 7'!G6 -> Jobanputra | AY9: =CONCATENATE(AW9, " ",AX9) -> Zara Jobanputra | BA9: 3 | BB9: Female 9/11 4 X 50M FREESTYLE RELAY | BC9: ='Team 8'!F6 -> 0 | BD9: ='Team 8'!G6 -> 0 | BE9: =CONCATENATE(BC9, " ",BD9) -> 0 0 | BG9: 3 | BH9: Female 9/11 4 X 50M FREESTYLE RELAY | BI9: ='Team 9'!F6 -> 0 | BJ9: ='Team 9'!G6 -> 0 | BK9: =CONCATENATE(BI9, " ",BJ9) -> 0 0 | BM9: 3 | BN9: Female 9/11 4 X 50M FREESTYLE RELAY | BO9: ='Team 10'!F6 -> 0 | BP9: ='Team 10'!G6 -> 0 | BQ9: =CONCATENATE(BO9, " ",BP9) -> 0 0
M10: ='Team 1'!F7 -> Aaliyah | N10: ='Team 1'!G7 -> Gordon | O10: =CONCATENATE(M10, " ",N10) -> Aaliyah Gordon | S10: ='Team 2'!F7 -> Annabelle | T10: ='Team 2'!G7 -> Harris | U10: =CONCATENATE(S10, " ",T10) -> Annabelle Harris | Y10: ='Team 3'!F7 -> Niamh | Z10: ='Team 3'!G7 -> Holland | AA10: =CONCATENATE(Y10, " ",Z10) -> Niamh Holland | AE10: ='Team 4'!F7 -> CHELSEA | AF10: ='Team 4'!G7 -> DARE | AG10: =CONCATENATE(AE10, " ",AF10) -> CHELSEA DARE | AK10: ='Team 5'!F7 -> Megan | AL10: ='Team 5'!G7 -> Alexander | AM10: =CONCATENATE(AK10, " ",AL10) -> Megan Alexander | AQ10: ='Team 6'!F7 -> Miraya | AR10: ='Team 6'!G7 -> Patel | AS10: =CONCATENATE(AQ10, " ",AR10) -> Miraya Patel | AW10: ='Team 7'!F7 -> Alexa | AX10: ='Team 7'!G7 -> Homer | AY10: =CONCATENATE(AW10, " ",AX10) -> Alexa Homer | BC10: ='Team 8'!F7 -> 0 | BD10: ='Team 8'!G7 -> 0 | BE10: =CONCATENATE(BC10, " ",BD10) -> 0 0 | BI10: ='Team 9'!F7 -> 0 | BJ10: ='Team 9'!G7 -> 0 | BK10: =CONCATENATE(BI10, " ",BJ10) -> 0 0 | BO10: ='Team 10'!F7 -> 0 | BP10: ='Team 10'!G7 -> 0 | BQ10: =CONCATENATE(BO10, " ",BP10) -> 0 0
M11: ='Team 1'!F8 -> Eleanor | N11: ='Team 1'!G8 -> Skinner | O11: =CONCATENATE(M11, " ",N11) -> Eleanor Skinner | S11: ='Team 2'!F8 -> Jasmin | T11: ='Team 2'!G8 -> Hunt | U11: =CONCATENATE(S11, " ",T11) -> Jasmin Hunt | Y11: ='Team 3'!F8 -> Scarlett | Z11: ='Team 3'!G8 -> Omand | AA11: =CONCATENATE(Y11, " ",Z11) -> Scarlett Omand | AE11: ='Team 4'!F8 -> Olivia | AF11: ='Team 4'!G8 -> Genge | AG11: =CONCATENATE(AE11, " ",AF11) -> Olivia Genge | AK11: ='Team 5'!F8 -> Caoife | AL11: ='Team 5'!G8 -> Long | AM11: =CONCATENATE(AK11, " ",AL11) -> Caoife Long | AQ11: ='Team 6'!F8 -> Anna | AR11: ='Team 6'!G8 -> Rescia | AS11: =CONCATENATE(AQ11, " ",AR11) -> Anna Rescia | AW11: ='Team 7'!F8 -> Lara | AX11: ='Team 7'!G8 -> Shah | AY11: =CONCATENATE(AW11, " ",AX11) -> Lara Shah | BC11: ='Team 8'!F8 -> 0 | BD11: ='Team 8'!G8 -> 0 | BE11: =CONCATENATE(BC11, " ",BD11) -> 0 0 | BI11: ='Team 9'!F8 -> 0 | BJ11: ='Team 9'!G8 -> 0 | BK11: =CONCATENATE(BI11, " ",BJ11) -> 0 0 | BO11: ='Team 10'!F8 -> 0 | BP11: ='Team 10'!G8 -> 0 | BQ11: =CONCATENATE(BO11, " ",BP11) -> 0 0
I12: TEAM 9 | M12: ='Team 1'!F9 -> Claudia | N12: ='Team 1'!G9 -> Savov | O12: =CONCATENATE(M12, " ",N12) -> Claudia Savov | S12: ='Team 2'!F9 -> Maya | T12: ='Team 2'!G9 -> Wegner | U12: =CONCATENATE(S12, " ",T12) -> Maya Wegner | Y12: ='Team 3'!F9 -> Chloe | Z12: ='Team 3'!G9 -> Wimpenny | AA12: =CONCATENATE(Y12, " ",Z12) -> Chloe Wimpenny | AE12: ='Team 4'!F9 -> MIA | AF12: ='Team 4'!G9 -> ZUBCEVIC | AG12: =CONCATENATE(AE12, " ",AF12) -> MIA ZUBCEVIC | AK12: ='Team 5'!F9 -> Maisie | AL12: ='Team 5'!G9 -> Cooper | AM12: =CONCATENATE(AK12, " ",AL12) -> Maisie Cooper | AQ12: ='Team 6'!F9 -> Roya | AR12: ='Team 6'!G9 -> Malliwal | AS12: =CONCATENATE(AQ12, " ",AR12) -> Roya Malliwal | AW12: ='Team 7'!F9 -> Arabella | AX12: ='Team 7'!G9 -> Connick | AY12: =CONCATENATE(AW12, " ",AX12) -> Arabella Connick | BC12: ='Team 8'!F9 -> 0 | BD12: ='Team 8'!G9 -> 0 | BE12: =CONCATENATE(BC12, " ",BD12) -> 0 0 | BI12: ='Team 9'!F9 -> 0 | BJ12: ='Team 9'!G9 -> 0 | BK12: =CONCATENATE(BI12, " ",BJ12) -> 0 0 | BO12: ='Team 10'!F9 -> 0 | BP12: ='Team 10'!G9 -> 0 | BQ12: =CONCATENATE(BO12, " ",BP12) -> 0 0
I13: TEAM 10 | K13: 4 | L13: Open/Male 9/11 4 X 50M FREESTYLE RELAY | M13: ='Team 1'!F10 -> 0 | N13: ='Team 1'!G10 -> 0 | O13: =CONCATENATE(M13, " ",N13) -> 0 0 | Q13: 4 | R13: Open/Male 9/11 4 X 50M FREESTYLE RELAY | S13: ='Team 2'!F10 -> James | T13: ='Team 2'!G10 -> Winter | U13: =CONCATENATE(S13, " ",T13) -> James Winter | W13: 4 | X13: Open/Male 9/11 4 X 50M FREESTYLE RELAY | Y13: ='Team 3'!F10 -> Liam | Z13: ='Team 3'!G10 -> Thompson | AA13: =CONCATENATE(Y13, " ",Z13) -> Liam Thompson | AC13: 4 | AD13: Open/Male 9/11 4 X 50M FREESTYLE RELAY | AE13: ='Team 4'!F10 -> JAMES | AF13: ='Team 4'!G10 -> MOHAMMED | AG13: =CONCATENATE(AE13, " ",AF13) -> JAMES MOHAMMED | AI13: 4 | AJ13: Open/Male 9/11 4 X 50M FREESTYLE RELAY | AK13: ='Team 5'!F10 -> Mohammed | AL13: ='Team 5'!G10 -> Malek | AM13: =CONCATENATE(AK13, " ",AL13) -> Mohammed Malek | AO13: 4 | AP13: Open/Male 9/11 4 X 50M FREESTYLE RELAY | AQ13: ='Team 6'!F10 -> Mikhail | AR13: ='Team 6'!G10 -> Fedorov | AS13: =CONCATENATE(AQ13, " ",AR13) -> Mikhail Fedorov | AU13: 4 | AV13: Open/Male 9/11 4 X 50M FREESTYLE RELAY | AW13: ='Team 7'!F10 -> Arush | AX13: ='Team 7'!G10 -> Agarwal | AY13: =CONCATENATE(AW13, " ",AX13) -> Arush Agarwal | BA13: 4 | BB13: Open/Male 9/11 4 X 50M FREESTYLE RELAY | BC13: ='Team 8'!F10 -> 0 | BD13: ='Team 8'!G10 -> 0 | BE13: =CONCATENATE(BC13, " ",BD13) -> 0 0 | BG13: 4 | BH13: Open/Male 9/11 4 X 50M FREESTYLE RELAY | BI13: ='Team 9'!F10 -> 0 | BJ13: ='Team 9'!G10 -> 0 | BK13: =CONCATENATE(BI13, " ",BJ13) -> 0 0 | BM13: 4 | BN13: Open/Male 9/11 4 X 50M FREESTYLE RELAY | BO13: ='Team 10'!F10 -> 0 | BP13: ='Team 10'!G10 -> 0 | BQ13: =CONCATENATE(BO13, " ",BP13) -> 0 0
I14: ↑ Team sheets | M14: ='Team 1'!F11 -> 0 | N14: ='Team 1'!G11 -> 0 | O14: =CONCATENATE(M14, " ",N14) -> 0 0 | S14: ='Team 2'!F11 -> Alex | T14: ='Team 2'!G11 -> Cash | U14: =CONCATENATE(S14, " ",T14) -> Alex Cash | Y14: ='Team 3'!F11 -> Maxwell | Z14: ='Team 3'!G11 -> Croft | AA14: =CONCATENATE(Y14, " ",Z14) -> Maxwell Croft | AE14: ='Team 4'!F11 -> SIMON | AF14: ='Team 4'!G11 -> ROSA | AG14: =CONCATENATE(AE14, " ",AF14) -> SIMON ROSA | AK14: ='Team 5'!F11 -> Myron | AL14: ='Team 5'!G11 -> Young | AM14: =CONCATENATE(AK14, " ",AL14) -> Myron Young | AQ14: ='Team 6'!F11 -> Macsen | AR14: ='Team 6'!G11 -> Roberts | AS14: =CONCATENATE(AQ14, " ",AR14) -> Macsen Roberts | AW14: ='Team 7'!F11 -> Christopher | AX14: ='Team 7'!G11 -> Li Mow Ching | AY14: =CONCATENATE(AW14, " ",AX14) -> Christopher Li Mow Ching | BC14: ='Team 8'!F11 -> 0 | BD14: ='Team 8'!G11 -> 0 | BE14: =CONCATENATE(BC14, " ",BD14) -> 0 0 | BI14: ='Team 9'!F11 -> 0 | BJ14: ='Team 9'!G11 -> 0 | BK14: =CONCATENATE(BI14, " ",BJ14) -> 0 0 | BO14: ='Team 10'!F11 -> 0 | BP14: ='Team 10'!G11 -> 0 | BQ14: =CONCATENATE(BO14, " ",BP14) -> 0 0
M15: ='Team 1'!F12 -> 0 | N15: ='Team 1'!G12 -> 0 | O15: =CONCATENATE(M15, " ",N15) -> 0 0 | S15: ='Team 2'!F12 -> Kai Jun Wai | T15: ='Team 2'!G12 -> Cheung | U15: =CONCATENATE(S15, " ",T15) -> Kai Jun Wai Cheung | Y15: ='Team 3'!F12 -> Harry | Z15: ='Team 3'!G12 -> Lythgoe | AA15: =CONCATENATE(Y15, " ",Z15) -> Harry Lythgoe | AE15: ='Team 4'!F12 -> CHARLIE | AF15: ='Team 4'!G12 -> COJEEN | AG15: =CONCATENATE(AE15, " ",AF15) -> CHARLIE COJEEN | AK15: ='Team 5'!F12 -> Hayden | AL15: ='Team 5'!G12 -> Whele | AM15: =CONCATENATE(AK15, " ",AL15) -> Hayden Whele | AQ15: ='Team 6'!F12 -> Aaron | AR15: ='Team 6'!G12 -> Lal | AS15: =CONCATENATE(AQ15, " ",AR15) -> Aaron Lal | AW15: ='Team 7'!F12 -> Jai | AX15: ='Team 7'!G12 -> Bhuwania | AY15: =CONCATENATE(AW15, " ",AX15) -> Jai Bhuwania | BC15: ='Team 8'!F12 -> 0 | BD15: ='Team 8'!G12 -> 0 | BE15: =CONCATENATE(BC15, " ",BD15) -> 0 0 | BI15: ='Team 9'!F12 -> 0 | BJ15: ='Team 9'!G12 -> 0 | BK15: =CONCATENATE(BI15, " ",BJ15) -> 0 0 | BO15: ='Team 10'!F12 -> 0 | BP15: ='Team 10'!G12 -> 0 | BQ15: =CONCATENATE(BO15, " ",BP15) -> 0 0
M16: ='Team 1'!F13 -> 0 | N16: ='Team 1'!G13 -> 0 | O16: =CONCATENATE(M16, " ",N16) -> 0 0 | S16: ='Team 2'!F13 -> Charlie | T16: ='Team 2'!G13 -> Pritchard | U16: =CONCATENATE(S16, " ",T16) -> Charlie Pritchard | Y16: ='Team 3'!F13 -> Fabio | Z16: ='Team 3'!G13 -> Giambrone | AA16: =CONCATENATE(Y16, " ",Z16) -> Fabio Giambrone | AE16: ='Team 4'!F13 -> SOLOMON | AF16: ='Team 4'!G13 -> HAWKES | AG16: =CONCATENATE(AE16, " ",AF16) -> SOLOMON HAWKES | AK16: ='Team 5'!F13 -> Braden | AL16: ='Team 5'!G13 -> Barnacle | AM16: =CONCATENATE(AK16, " ",AL16) -> Braden Barnacle | AQ16: ='Team 6'!F13 -> Zayn | AR16: ='Team 6'!G13 -> Tang | AS16: =CONCATENATE(AQ16, " ",AR16) -> Zayn Tang | AW16: ='Team 7'!F13 -> Siddharth | AX16: ='Team 7'!G13 -> Kanjalkar | AY16: =CONCATENATE(AW16, " ",AX16) -> Siddharth Kanjalkar | BC16: ='Team 8'!F13 -> 0 | BD16: ='Team 8'!G13 -> 0 | BE16: =CONCATENATE(BC16, " ",BD16) -> 0 0 | BI16: ='Team 9'!F13 -> 0 | BJ16: ='Team 9'!G13 -> 0 | BK16: =CONCATENATE(BI16, " ",BJ16) -> 0 0 | BO16: ='Team 10'!F13 -> 0 | BP16: ='Team 10'!G13 -> 0 | BQ16: =CONCATENATE(BO16, " ",BP16) -> 0 0
K17: 5 | L17: Female 13/U 4 X 50M MEDLEY RELAY | M17: ='Team 1'!F14 -> Edanur | N17: ='Team 1'!G14 -> Yigit | O17: =CONCATENATE(M17, " ",N17) -> Edanur Yigit | Q17: 5 | R17: Female 13/U 4 X 50M MEDLEY RELAY | S17: ='Team 2'!F14 -> Sophie | T17: ='Team 2'!G14 -> Heraty | U17: =CONCATENATE(S17, " ",T17) -> Sophie Heraty | W17: 5 | X17: Female 13/U 4 X 50M MEDLEY RELAY | Y17: ='Team 3'!F14 -> Maya | Z17: ='Team 3'!G14 -> Robu | AA17: =CONCATENATE(Y17, " ",Z17) -> Maya Robu | AC17: 5 | AD17: Female 13/U 4 X 50M MEDLEY RELAY | AE17: ='Team 4'!F14 -> ANNABELLA | AF17: ='Team 4'!G14 -> COJEEN | AG17: =CONCATENATE(AE17, " ",AF17) -> ANNABELLA COJEEN | AI17: 5 | AJ17: Female 13/U 4 X 50M MEDLEY RELAY | AK17: ='Team 5'!F14 -> Orlagh | AL17: ='Team 5'!G14 -> Northgrave | AM17: =CONCATENATE(AK17, " ",AL17) -> Orlagh Northgrave | AO17: 5 | AP17: Female 13/U 4 X 50M MEDLEY RELAY | AQ17: ='Team 6'!F14 -> Polina | AR17: ='Team 6'!G14 -> Fedorova | AS17: =CONCATENATE(AQ17, " ",AR17) -> Polina Fedorova | AU17: 5 | AV17: Female 13/U 4 X 50M MEDLEY RELAY | AW17: ='Team 7'!F14 -> Maria | AX17: ='Team 7'!G14 -> Tzanidaki | AY17: =CONCATENATE(AW17, " ",AX17) -> Maria Tzanidaki | BA17: 5 | BB17: Female 13/U 4 X 50M MEDLEY RELAY | BC17: ='Team 8'!F14 -> 0 | BD17: ='Team 8'!G14 -> 0 | BE17: =CONCATENATE(BC17, " ",BD17) -> 0 0 | BG17: 5 | BH17: Female 13/U 4 X 50M MEDLEY RELAY | BI17: ='Team 9'!F14 -> 0 | BJ17: ='Team 9'!G14 -> 0 | BK17: =CONCATENATE(BI17, " ",BJ17) -> 0 0 | BM17: 5 | BN17: Female 13/U 4 X 50M MEDLEY RELAY | BO17: ='Team 10'!F14 -> 0 | BP17: ='Team 10'!G14 -> 0 | BQ17: =CONCATENATE(BO17, " ",BP17) -> 0 0
M18: ='Team 1'!F15 -> Amy | N18: ='Team 1'!G15 -> Hanson | O18: =CONCATENATE(M18, " ",N18) -> Amy Hanson | S18: ='Team 2'!F15 -> Ruby | T18: ='Team 2'!G15 -> Whitby | U18: =CONCATENATE(S18, " ",T18) -> Ruby Whitby | Y18: ='Team 3'!F15 -> Mia | Z18: ='Team 3'!G15 -> Nelson | AA18: =CONCATENATE(Y18, " ",Z18) -> Mia Nelson | AE18: ='Team 4'!F15 -> FRANCES | AF18: ='Team 4'!G15 -> STARSMORE | AG18: =CONCATENATE(AE18, " ",AF18) -> FRANCES STARSMORE | AK18: ='Team 5'!F15 -> Isabelle | AL18: ='Team 5'!G15 -> Reeve | AM18: =CONCATENATE(AK18, " ",AL18) -> Isabelle Reeve | AQ18: ='Team 6'!F15 -> Emma | AR18: ='Team 6'!G15 -> Sum | AS18: =CONCATENATE(AQ18, " ",AR18) -> Emma Sum | AW18: ='Team 7'!F15 -> Eliza | AX18: ='Team 7'!G15 -> Mayor | AY18: =CONCATENATE(AW18, " ",AX18) -> Eliza Mayor | BC18: ='Team 8'!F15 -> 0 | BD18: ='Team 8'!G15 -> 0 | BE18: =CONCATENATE(BC18, " ",BD18) -> 0 0 | BI18: ='Team 9'!F15 -> 0 | BJ18: ='Team 9'!G15 -> 0 | BK18: =CONCATENATE(BI18, " ",BJ18) -> 0 0 | BO18: ='Team 10'!F15 -> 0 | BP18: ='Team 10'!G15 -> 0 | BQ18: =CONCATENATE(BO18, " ",BP18) -> 0 0
M19: ='Team 1'!F16 -> Ane | N19: ='Team 1'!G16 -> Pedraza-Eguia | O19: =CONCATENATE(M19, " ",N19) -> Ane Pedraza-Eguia | S19: ='Team 2'!F16 -> Jasmin | T19: ='Team 2'!G16 -> Hunt | U19: =CONCATENATE(S19, " ",T19) -> Jasmin Hunt | Y19: ='Team 3'!F16 -> Niamh | Z19: ='Team 3'!G16 -> Holland | AA19: =CONCATENATE(Y19, " ",Z19) -> Niamh Holland | AE19: ='Team 4'!F16 -> ISLA | AF19: ='Team 4'!G16 -> MOHAMMED | AG19: =CONCATENATE(AE19, " ",AF19) -> ISLA MOHAMMED | AK19: ='Team 5'!F16 -> Aimee | AL19: ='Team 5'!G16 -> Baker | AM19: =CONCATENATE(AK19, " ",AL19) -> Aimee Baker | AQ19: ='Team 6'!F16 -> Mahika | AR19: ='Team 6'!G16 -> Chandrashekar | AS19: =CONCATENATE(AQ19, " ",AR19) -> Mahika Chandrashekar | AW19: ='Team 7'!F16 -> Mia | AX19: ='Team 7'!G16 -> Curle | AY19: =CONCATENATE(AW19, " ",AX19) -> Mia Curle | BC19: ='Team 8'!F16 -> 0 | BD19: ='Team 8'!G16 -> 0 | BE19: =CONCATENATE(BC19, " ",BD19) -> 0 0 | BI19: ='Team 9'!F16 -> 0 | BJ19: ='Team 9'!G16 -> 0 | BK19: =CONCATENATE(BI19, " ",BJ19) -> 0 0 | BO19: ='Team 10'!F16 -> 0 | BP19: ='Team 10'!G16 -> 0 | BQ19: =CONCATENATE(BO19, " ",BP19) -> 0 0
M20: ='Team 1'!F17 -> Maryla | N20: ='Team 1'!G17 -> Koslacz | O20: =CONCATENATE(M20, " ",N20) -> Maryla Koslacz | S20: ='Team 2'!F17 -> Gracie | T20: ='Team 2'!G17 -> Fleming-Jacobs | U20: =CONCATENATE(S20, " ",T20) -> Gracie Fleming-Jacobs | Y20: ='Team 3'!F17 -> Olivia | Z20: ='Team 3'!G17 -> Croft | AA20: =CONCATENATE(Y20, " ",Z20) -> Olivia Croft | AE20: ='Team 4'!F17 -> AVA | AF20: ='Team 4'!G17 -> IANNONE | AG20: =CONCATENATE(AE20, " ",AF20) -> AVA IANNONE | AK20: ='Team 5'!F17 -> Kayla | AL20: ='Team 5'!G17 -> Paxton | AM20: =CONCATENATE(AK20, " ",AL20) -> Kayla Paxton | AQ20: ='Team 6'!F17 -> Miraya | AR20: ='Team 6'!G17 -> Patel | AS20: =CONCATENATE(AQ20, " ",AR20) -> Miraya Patel | AW20: ='Team 7'!F17 -> Vaari | AX20: ='Team 7'!G17 -> Mepani | AY20: =CONCATENATE(AW20, " ",AX20) -> Vaari Mepani | BC20: ='Team 8'!F17 -> 0 | BD20: ='Team 8'!G17 -> 0 | BE20: =CONCATENATE(BC20, " ",BD20) -> 0 0 | BI20: ='Team 9'!F17 -> 0 | BJ20: ='Team 9'!G17 -> 0 | BK20: =CONCATENATE(BI20, " ",BJ20) -> 0 0 | BO20: ='Team 10'!F17 -> 0 | BP20: ='Team 10'!G17 -> 0 | BQ20: =CONCATENATE(BO20, " ",BP20) -> 0 0
C21: ='Gala Setup'!S4 -> NASL.2023 V6 | K21: 6 | L21: Open/Male 13/U 4 X 50M MEDLEY RELAY | M21: ='Team 1'!F18 -> Albert | N21: ='Team 1'!G18 -> Nezha | O21: =CONCATENATE(M21, " ",N21) -> Albert Nezha | Q21: 6 | R21: Open/Male 13/U 4 X 50M MEDLEY RELAY | S21: ='Team 2'!F18 -> James | T21: ='Team 2'!G18 -> Winter | U21: =CONCATENATE(S21, " ",T21) -> James Winter | W21: 6 | X21: Open/Male 13/U 4 X 50M MEDLEY RELAY | Y21: ='Team 3'!F18 -> Ryan | Z21: ='Team 3'!G18 -> Wimpenny | AA21: =CONCATENATE(Y21, " ",Z21) -> Ryan Wimpenny | AC21: 6 | AD21: Open/Male 13/U 4 X 50M MEDLEY RELAY | AE21: ='Team 4'!F18 -> RILEY | AF21: ='Team 4'!G18 -> BUNCE | AG21: =CONCATENATE(AE21, " ",AF21) -> RILEY BUNCE | AI21: 6 | AJ21: Open/Male 13/U 4 X 50M MEDLEY RELAY | AK21: ='Team 5'!F18 -> Liam | AL21: ='Team 5'!G18 -> Hurst | AM21: =CONCATENATE(AK21, " ",AL21) -> Liam Hurst | AO21: 6 | AP21: Open/Male 13/U 4 X 50M MEDLEY RELAY | AQ21: ='Team 6'!F18 -> Petros | AR21: ='Team 6'!G18 -> Soteriou | AS21: =CONCATENATE(AQ21, " ",AR21) -> Petros Soteriou | AU21: 6 | AV21: Open/Male 13/U 4 X 50M MEDLEY RELAY | AW21: ='Team 7'!F18 -> Nikhil | AX21: ='Team 7'!G18 -> Dawett | AY21: =CONCATENATE(AW21, " ",AX21) -> Nikhil Dawett | BA21: 6 | BB21: Open/Male 13/U 4 X 50M MEDLEY RELAY | BC21: ='Team 8'!F18 -> 0 | BD21: ='Team 8'!G18 -> 0 | BE21: =CONCATENATE(BC21, " ",BD21) -> 0 0 | BG21: 6 | BH21: Open/Male 13/U 4 X 50M MEDLEY RELAY | BI21: ='Team 9'!F18 -> 0 | BJ21: ='Team 9'!G18 -> 0 | BK21: =CONCATENATE(BI21, " ",BJ21) -> 0 0 | BM21: 6 | BN21: Open/Male 13/U 4 X 50M MEDLEY RELAY | BO21: ='Team 10'!F18 -> 0 | BP21: ='Team 10'!G18 -> 0 | BQ21: =CONCATENATE(BO21, " ",BP21) -> 0 0
M22: ='Team 1'!F19 -> Yigit | N22: ='Team 1'!G19 -> Ilhan | O22: =CONCATENATE(M22, " ",N22) -> Yigit Ilhan | S22: ='Team 2'!F19 -> Kai Jun Wai | T22: ='Team 2'!G19 -> Cheung | U22: =CONCATENATE(S22, " ",T22) -> Kai Jun Wai Cheung | Y22: ='Team 3'!F19 -> Luigi | Z22: ='Team 3'!G19 -> Giambrone | AA22: =CONCATENATE(Y22, " ",Z22) -> Luigi Giambrone | AE22: ='Team 4'!F19 -> SAMUEL | AF22: ='Team 4'!G19 -> ROSA | AG22: =CONCATENATE(AE22, " ",AF22) -> SAMUEL ROSA | AK22: ='Team 5'!F19 -> Bradley | AL22: ='Team 5'!G19 -> Rawlinson | AM22: =CONCATENATE(AK22, " ",AL22) -> Bradley Rawlinson | AQ22: ='Team 6'!F19 -> Gert | AR22: ='Team 6'!G19 -> Zeqiri | AS22: =CONCATENATE(AQ22, " ",AR22) -> Gert Zeqiri | AW22: ='Team 7'!F19 -> Advay | AX22: ='Team 7'!G19 -> Bhatia | AY22: =CONCATENATE(AW22, " ",AX22) -> Advay Bhatia | BC22: ='Team 8'!F19 -> 0 | BD22: ='Team 8'!G19 -> 0 | BE22: =CONCATENATE(BC22, " ",BD22) -> 0 0 | BI22: ='Team 9'!F19 -> 0 | BJ22: ='Team 9'!G19 -> 0 | BK22: =CONCATENATE(BI22, " ",BJ22) -> 0 0 | BO22: ='Team 10'!F19 -> 0 | BP22: ='Team 10'!G19 -> 0 | BQ22: =CONCATENATE(BO22, " ",BP22) -> 0 0
M23: ='Team 1'!F20 -> Ned Peter | N23: ='Team 1'!G20 -> Andrews | O23: =CONCATENATE(M23, " ",N23) -> Ned Peter Andrews | S23: ='Team 2'!F20 -> Oliver | T23: ='Team 2'!G20 -> Tubridy | U23: =CONCATENATE(S23, " ",T23) -> Oliver Tubridy | Y23: ='Team 3'!F20 -> Mikhail | Z23: ='Team 3'!G20 -> Zharinov | AA23: =CONCATENATE(Y23, " ",Z23) -> Mikhail Zharinov | AE23: ='Team 4'!F20 -> ROWAN | AF23: ='Team 4'!G20 -> FULLER | AG23: =CONCATENATE(AE23, " ",AF23) -> ROWAN FULLER | AK23: ='Team 5'!F20 -> Poyraz | AL23: ='Team 5'!G20 -> Akbiyik | AM23: =CONCATENATE(AK23, " ",AL23) -> Poyraz Akbiyik | AQ23: ='Team 6'!F20 -> Cosmin Ioan | AR23: ='Team 6'!G20 -> Iojan | AS23: =CONCATENATE(AQ23, " ",AR23) -> Cosmin Ioan Iojan | AW23: ='Team 7'!F20 -> Daniel | AX23: ='Team 7'!G20 -> Celi | AY23: =CONCATENATE(AW23, " ",AX23) -> Daniel Celi | BC23: ='Team 8'!F20 -> 0 | BD23: ='Team 8'!G20 -> 0 | BE23: =CONCATENATE(BC23, " ",BD23) -> 0 0 | BI23: ='Team 9'!F20 -> 0 | BJ23: ='Team 9'!G20 -> 0 | BK23: =CONCATENATE(BI23, " ",BJ23) -> 0 0 | BO23: ='Team 10'!F20 -> 0 | BP23: ='Team 10'!G20 -> 0 | BQ23: =CONCATENATE(BO23, " ",BP23) -> 0 0
M24: ='Team 1'!F21 -> Zente | N24: ='Team 1'!G21 -> Buzsik | O24: =CONCATENATE(M24, " ",N24) -> Zente Buzsik | S24: ='Team 2'!F21 -> Joseph | T24: ='Team 2'!G21 -> Bagshaw | U24: =CONCATENATE(S24, " ",T24) -> Joseph Bagshaw | Y24: ='Team 3'!F21 -> Ewan | Z24: ='Team 3'!G21 -> Thompson | AA24: =CONCATENATE(Y24, " ",Z24) -> Ewan Thompson | AE24: ='Team 4'!F21 -> RUFUS | AF24: ='Team 4'!G21 -> MARTIN | AG24: =CONCATENATE(AE24, " ",AF24) -> RUFUS MARTIN | AK24: ='Team 5'!F21 -> Benjamin | AL24: ='Team 5'!G21 -> Holland | AM24: =CONCATENATE(AK24, " ",AL24) -> Benjamin Holland | AQ24: ='Team 6'!F21 -> Dragos | AR24: ='Team 6'!G21 -> Musteate | AS24: =CONCATENATE(AQ24, " ",AR24) -> Dragos Musteate | AW24: ='Team 7'!F21 -> Bruno | AX24: ='Team 7'!G21 -> Francisco | AY24: =CONCATENATE(AW24, " ",AX24) -> Bruno Francisco | BC24: ='Team 8'!F21 -> 0 | BD24: ='Team 8'!G21 -> 0 | BE24: =CONCATENATE(BC24, " ",BD24) -> 0 0 | BI24: ='Team 9'!F21 -> 0 | BJ24: ='Team 9'!G21 -> 0 | BK24: =CONCATENATE(BI24, " ",BJ24) -> 0 0 | BO24: ='Team 10'!F21 -> 0 | BP24: ='Team 10'!G21 -> 0 | BQ24: =CONCATENATE(BO24, " ",BP24) -> 0 0
K25: 7 | L25: Female 15/U 4 X 50M FREESTYLE RELAY | M25: ='Team 1'!F22 -> Shreya | N25: ='Team 1'!G22 -> Bavishi | O25: =CONCATENATE(M25, " ",N25) -> Shreya Bavishi | Q25: 7 | R25: Female 15/U 4 X 50M FREESTYLE RELAY | S25: ='Team 2'!F22 -> Sophie | T25: ='Team 2'!G22 -> Stelmach | U25: =CONCATENATE(S25, " ",T25) -> Sophie Stelmach | W25: 7 | X25: Female 15/U 4 X 50M FREESTYLE RELAY | Y25: ='Team 3'!F22 -> Jessica | Z25: ='Team 3'!G22 -> MacKenzie | AA25: =CONCATENATE(Y25, " ",Z25) -> Jessica MacKenzie | AC25: 7 | AD25: Female 15/U 4 X 50M FREESTYLE RELAY | AE25: ='Team 4'!F22 -> MEGAN | AF25: ='Team 4'!G22 -> JOHNSON | AG25: =CONCATENATE(AE25, " ",AF25) -> MEGAN JOHNSON | AI25: 7 | AJ25: Female 15/U 4 X 50M FREESTYLE RELAY | AK25: ='Team 5'!F22 -> Esmee | AL25: ='Team 5'!G22 -> Reeve | AM25: =CONCATENATE(AK25, " ",AL25) -> Esmee Reeve | AO25: 7 | AP25: Female 15/U 4 X 50M FREESTYLE RELAY | AQ25: ='Team 6'!F22 -> Hannah | AR25: ='Team 6'!G22 -> Barrios | AS25: =CONCATENATE(AQ25, " ",AR25) -> Hannah Barrios | AU25: 7 | AV25: Female 15/U 4 X 50M FREESTYLE RELAY | AW25: ='Team 7'!F22 -> Keira | AX25: ='Team 7'!G22 -> Brannigan | AY25: =CONCATENATE(AW25, " ",AX25) -> Keira Brannigan | BA25: 7 | BB25: Female 15/U 4 X 50M FREESTYLE RELAY | BC25: ='Team 8'!F22 -> 0 | BD25: ='Team 8'!G22 -> 0 | BE25: =CONCATENATE(BC25, " ",BD25) -> 0 0 | BG25: 7 | BH25: Female 15/U 4 X 50M FREESTYLE RELAY | BI25: ='Team 9'!F22 -> 0 | BJ25: ='Team 9'!G22 -> 0 | BK25: =CONCATENATE(BI25, " ",BJ25) -> 0 0 | BM25: 7 | BN25: Female 15/U 4 X 50M FREESTYLE RELAY | BO25: ='Team 10'!F22 -> 0 | BP25: ='Team 10'!G22 -> 0 | BQ25: =CONCATENATE(BO25, " ",BP25) -> 0 0
M26: ='Team 1'!F23 -> Emily | N26: ='Team 1'!G23 -> Hudszky | O26: =CONCATENATE(M26, " ",N26) -> Emily Hudszky | S26: ='Team 2'!F23 -> Gracie | T26: ='Team 2'!G23 -> Fleming-Jacobs | U26: =CONCATENATE(S26, " ",T26) -> Gracie Fleming-Jacobs | Y26: ='Team 3'!F23 -> Hannah | Z26: ='Team 3'!G23 -> Lovelock | AA26: =CONCATENATE(Y26, " ",Z26) -> Hannah Lovelock | AE26: ='Team 4'!F23 -> ABIGAIL | AF26: ='Team 4'!G23 -> JOHNSON | AG26: =CONCATENATE(AE26, " ",AF26) -> ABIGAIL JOHNSON | AK26: ='Team 5'!F23 -> Francesca | AL26: ='Team 5'!G23 -> Baker | AM26: =CONCATENATE(AK26, " ",AL26) -> Francesca Baker | AQ26: ='Team 6'!F23 -> Laura | AR26: ='Team 6'!G23 -> Leksander | AS26: =CONCATENATE(AQ26, " ",AR26) -> Laura Leksander | AW26: ='Team 7'!F23 -> Jessica | AX26: ='Team 7'!G23 -> Sharp | AY26: =CONCATENATE(AW26, " ",AX26) -> Jessica Sharp | BC26: ='Team 8'!F23 -> 0 | BD26: ='Team 8'!G23 -> 0 | BE26: =CONCATENATE(BC26, " ",BD26) -> 0 0 | BI26: ='Team 9'!F23 -> 0 | BJ26: ='Team 9'!G23 -> 0 | BK26: =CONCATENATE(BI26, " ",BJ26) -> 0 0 | BO26: ='Team 10'!F23 -> 0 | BP26: ='Team 10'!G23 -> 0 | BQ26: =CONCATENATE(BO26, " ",BP26) -> 0 0
M27: ='Team 1'!F24 -> Taisia | N27: ='Team 1'!G24 -> Flury | O27: =CONCATENATE(M27, " ",N27) -> Taisia Flury | S27: ='Team 2'!F24 -> Daisy | T27: ='Team 2'!G24 -> Harradine | U27: =CONCATENATE(S27, " ",T27) -> Daisy Harradine | Y27: ='Team 3'!F24 -> Molly | Z27: ='Team 3'!G24 -> Bartup | AA27: =CONCATENATE(Y27, " ",Z27) -> Molly Bartup | AE27: ='Team 4'!F24 -> ZAHRA | AF27: ='Team 4'!G24 -> WALLER | AG27: =CONCATENATE(AE27, " ",AF27) -> ZAHRA WALLER | AK27: ='Team 5'!F24 -> Hollie | AL27: ='Team 5'!G24 -> Heighes | AM27: =CONCATENATE(AK27, " ",AL27) -> Hollie Heighes | AQ27: ='Team 6'!F24 -> Polina | AR27: ='Team 6'!G24 -> Fedorova | AS27: =CONCATENATE(AQ27, " ",AR27) -> Polina Fedorova | AW27: ='Team 7'!F24 -> Lara | AX27: ='Team 7'!G24 -> Lydon | AY27: =CONCATENATE(AW27, " ",AX27) -> Lara Lydon | BC27: ='Team 8'!F24 -> 0 | BD27: ='Team 8'!G24 -> 0 | BE27: =CONCATENATE(BC27, " ",BD27) -> 0 0 | BI27: ='Team 9'!F24 -> 0 | BJ27: ='Team 9'!G24 -> 0 | BK27: =CONCATENATE(BI27, " ",BJ27) -> 0 0 | BO27: ='Team 10'!F24 -> 0 | BP27: ='Team 10'!G24 -> 0 | BQ27: =CONCATENATE(BO27, " ",BP27) -> 0 0
M28: ='Team 1'!F25 -> Zoe | N28: ='Team 1'!G25 -> Panayi | O28: =CONCATENATE(M28, " ",N28) -> Zoe Panayi | S28: ='Team 2'!F25 -> Charlotte | T28: ='Team 2'!G25 -> Lyon | U28: =CONCATENATE(S28, " ",T28) -> Charlotte Lyon | Y28: ='Team 3'!F25 -> Isabel | Z28: ='Team 3'!G25 -> Mullings | AA28: =CONCATENATE(Y28, " ",Z28) -> Isabel Mullings | AE28: ='Team 4'!F25 -> AVA | AF28: ='Team 4'!G25 -> IANNONE | AG28: =CONCATENATE(AE28, " ",AF28) -> AVA IANNONE | AK28: ='Team 5'!F25 -> Mia | AL28: ='Team 5'!G25 -> Macklin | AM28: =CONCATENATE(AK28, " ",AL28) -> Mia Macklin | AQ28: ='Team 6'!F25 -> Alice | AR28: ='Team 6'!G25 -> Sharrock | AS28: =CONCATENATE(AQ28, " ",AR28) -> Alice Sharrock | AW28: ='Team 7'!F25 -> Vaari | AX28: ='Team 7'!G25 -> Mepani | AY28: =CONCATENATE(AW28, " ",AX28) -> Vaari Mepani | BC28: ='Team 8'!F25 -> 0 | BD28: ='Team 8'!G25 -> 0 | BE28: =CONCATENATE(BC28, " ",BD28) -> 0 0 | BI28: ='Team 9'!F25 -> 0 | BJ28: ='Team 9'!G25 -> 0 | BK28: =CONCATENATE(BI28, " ",BJ28) -> 0 0 | BO28: ='Team 10'!F25 -> 0 | BP28: ='Team 10'!G25 -> 0 | BQ28: =CONCATENATE(BO28, " ",BP28) -> 0 0
K29: 8 | L29: Open/Male 15/U 4 X 50M FREESTYLE RELAY | M29: ='Team 1'!F26 -> Yigit | N29: ='Team 1'!G26 -> Ilhan | O29: =CONCATENATE(M29, " ",N29) -> Yigit Ilhan | Q29: 8 | R29: Open/Male 15/U 4 X 50M FREESTYLE RELAY | S29: ='Team 2'!F26 -> Alexander | T29: ='Team 2'!G26 -> Gregory | U29: =CONCATENATE(S29, " ",T29) -> Alexander Gregory | W29: 8 | X29: Open/Male 15/U 4 X 50M FREESTYLE RELAY | Y29: ='Team 3'!F26 -> Alfie | Z29: ='Team 3'!G26 -> Bullock | AA29: =CONCATENATE(Y29, " ",Z29) -> Alfie Bullock | AC29: 8 | AD29: Open/Male 15/U 4 X 50M FREESTYLE RELAY | AE29: ='Team 4'!F26 -> CHARLES | AF29: ='Team 4'!G26 -> RAINES | AG29: =CONCATENATE(AE29, " ",AF29) -> CHARLES RAINES | AI29: 8 | AJ29: Open/Male 15/U 4 X 50M FREESTYLE RELAY | AK29: ='Team 5'!F26 -> Albert | AL29: ='Team 5'!G26 -> Orley | AM29: =CONCATENATE(AK29, " ",AL29) -> Albert Orley | AO29: 8 | AP29: Open/Male 15/U 4 X 50M FREESTYLE RELAY | AQ29: ='Team 6'!F26 -> Gianluca | AR29: ='Team 6'!G26 -> Safahe | AS29: =CONCATENATE(AQ29, " ",AR29) -> Gianluca Safahe | AU29: 8 | AV29: Open/Male 15/U 4 X 50M FREESTYLE RELAY | AW29: ='Team 7'!F26 -> Aaran | AX29: ='Team 7'!G26 -> Parmar | AY29: =CONCATENATE(AW29, " ",AX29) -> Aaran Parmar | BA29: 8 | BB29: Open/Male 15/U 4 X 50M FREESTYLE RELAY | BC29: ='Team 8'!F26 -> 0 | BD29: ='Team 8'!G26 -> 0 | BE29: =CONCATENATE(BC29, " ",BD29) -> 0 0 | BG29: 8 | BH29: Open/Male 15/U 4 X 50M FREESTYLE RELAY | BI29: ='Team 9'!F26 -> 0 | BJ29: ='Team 9'!G26 -> 0 | BK29: =CONCATENATE(BI29, " ",BJ29) -> 0 0 | BM29: 8 | BN29: Open/Male 15/U 4 X 50M FREESTYLE RELAY | BO29: ='Team 10'!F26 -> 0 | BP29: ='Team 10'!G26 -> 0 | BQ29: =CONCATENATE(BO29, " ",BP29) -> 0 0
M30: ='Team 1'!F27 -> Zente | N30: ='Team 1'!G27 -> Buzsik | O30: =CONCATENATE(M30, " ",N30) -> Zente Buzsik | S30: ='Team 2'!F27 -> Samuel | T30: ='Team 2'!G27 -> Heraty | U30: =CONCATENATE(S30, " ",T30) -> Samuel Heraty | Y30: ='Team 3'!F27 -> Ryan | Z30: ='Team 3'!G27 -> Wimpenny | AA30: =CONCATENATE(Y30, " ",Z30) -> Ryan Wimpenny | AE30: ='Team 4'!F27 -> RAFI | AF30: ='Team 4'!G27 -> GIBSON | AG30: =CONCATENATE(AE30, " ",AF30) -> RAFI GIBSON | AK30: ='Team 5'!F27 -> Nathaniel | AL30: ='Team 5'!G27 -> Coburn | AM30: =CONCATENATE(AK30, " ",AL30) -> Nathaniel Coburn | AQ30: ='Team 6'!F27 -> Owen | AR30: ='Team 6'!G27 -> Roberts | AS30: =CONCATENATE(AQ30, " ",AR30) -> Owen Roberts | AW30: ='Team 7'!F27 -> Tsz Kwai | AX30: ='Team 7'!G27 -> Chan | AY30: =CONCATENATE(AW30, " ",AX30) -> Tsz Kwai Chan | BC30: ='Team 8'!F27 -> 0 | BD30: ='Team 8'!G27 -> 0 | BE30: =CONCATENATE(BC30, " ",BD30) -> 0 0 | BI30: ='Team 9'!F27 -> 0 | BJ30: ='Team 9'!G27 -> 0 | BK30: =CONCATENATE(BI30, " ",BJ30) -> 0 0 | BO30: ='Team 10'!F27 -> 0 | BP30: ='Team 10'!G27 -> 0 | BQ30: =CONCATENATE(BO30, " ",BP30) -> 0 0
M31: ='Team 1'!F28 -> Michael | N31: ='Team 1'!G28 -> Manassero | O31: =CONCATENATE(M31, " ",N31) -> Michael Manassero | S31: ='Team 2'!F28 -> Daniel | T31: ='Team 2'!G28 -> Humphreys | U31: =CONCATENATE(S31, " ",T31) -> Daniel Humphreys | Y31: ='Team 3'!F28 -> Theo | Z31: ='Team 3'!G28 -> Smith | AA31: =CONCATENATE(Y31, " ",Z31) -> Theo Smith | AE31: ='Team 4'!F28 -> MAKSYMILIAN | AF31: ='Team 4'!G28 -> WOZNICKI | AG31: =CONCATENATE(AE31, " ",AF31) -> MAKSYMILIAN WOZNICKI | AK31: ='Team 5'!F28 -> Daniel | AL31: ='Team 5'!G28 -> Pirie | AM31: =CONCATENATE(AK31, " ",AL31) -> Daniel Pirie | AQ31: ='Team 6'!F28 -> Louis | AR31: ='Team 6'!G28 -> Waissman | AS31: =CONCATENATE(AQ31, " ",AR31) -> Louis Waissman | AW31: ='Team 7'!F28 -> Advay | AX31: ='Team 7'!G28 -> Bhatia | AY31: =CONCATENATE(AW31, " ",AX31) -> Advay Bhatia | BC31: ='Team 8'!F28 -> 0 | BD31: ='Team 8'!G28 -> 0 | BE31: =CONCATENATE(BC31, " ",BD31) -> 0 0 | BI31: ='Team 9'!F28 -> 0 | BJ31: ='Team 9'!G28 -> 0 | BK31: =CONCATENATE(BI31, " ",BJ31) -> 0 0 | BO31: ='Team 10'!F28 -> 0 | BP31: ='Team 10'!G28 -> 0 | BQ31: =CONCATENATE(BO31, " ",BP31) -> 0 0
M32: ='Team 1'!F29 -> Zalan | N32: ='Team 1'!G29 -> Tornay | O32: =CONCATENATE(M32, " ",N32) -> Zalan Tornay | S32: ='Team 2'!F29 -> Joseph | T32: ='Team 2'!G29 -> Bagshaw | U32: =CONCATENATE(S32, " ",T32) -> Joseph Bagshaw | Y32: ='Team 3'!F29 -> Luigi | Z32: ='Team 3'!G29 -> Giambrone | AA32: =CONCATENATE(Y32, " ",Z32) -> Luigi Giambrone | AE32: ='Team 4'!F29 -> SEBASTIAN | AF32: ='Team 4'!G29 -> BROWN | AG32: =CONCATENATE(AE32, " ",AF32) -> SEBASTIAN BROWN | AK32: ='Team 5'!F29 -> Joshua | AL32: ='Team 5'!G29 -> Parker | AM32: =CONCATENATE(AK32, " ",AL32) -> Joshua Parker | AQ32: ='Team 6'!F29 -> Gabriel | AR32: ='Team 6'!G29 -> Rebelo | AS32: =CONCATENATE(AQ32, " ",AR32) -> Gabriel Rebelo | AW32: ='Team 7'!F29 -> Daniel | AX32: ='Team 7'!G29 -> Celi | AY32: =CONCATENATE(AW32, " ",AX32) -> Daniel Celi | BC32: ='Team 8'!F29 -> 0 | BD32: ='Team 8'!G29 -> 0 | BE32: =CONCATENATE(BC32, " ",BD32) -> 0 0 | BI32: ='Team 9'!F29 -> 0 | BJ32: ='Team 9'!G29 -> 0 | BK32: =CONCATENATE(BI32, " ",BJ32) -> 0 0 | BO32: ='Team 10'!F29 -> 0 | BP32: ='Team 10'!G29 -> 0 | BQ32: =CONCATENATE(BO32, " ",BP32) -> 0 0
K33: 9 | L33: Female 16+ 4 X 50M MEDLEY RELAY | M33: ='Team 1'!F30 -> Isabel | N33: ='Team 1'!G30 -> Spyrou | O33: =CONCATENATE(M33, " ",N33) -> Isabel Spyrou | Q33: 9 | R33: Female 16+ 4 X 50M MEDLEY RELAY | S33: ='Team 2'!F30 -> Sophie | T33: ='Team 2'!G30 -> Lyon | U33: =CONCATENATE(S33, " ",T33) -> Sophie Lyon | W33: 9 | X33: Female 16+ 4 X 50M MEDLEY RELAY | Y33: ='Team 3'!F30 -> Grace | Z33: ='Team 3'!G30 -> Sofokleous-Ames | AA33: =CONCATENATE(Y33, " ",Z33) -> Grace Sofokleous-Ames | AC33: 9 | AD33: Female 16+ 4 X 50M MEDLEY RELAY | AE33: ='Team 4'!F30 -> LUCY | AF33: ='Team 4'!G30 -> BURNHAM | AG33: =CONCATENATE(AE33, " ",AF33) -> LUCY BURNHAM | AI33: 9 | AJ33: Female 16+ 4 X 50M MEDLEY RELAY | AK33: ='Team 5'!F30 -> Isabelle | AL33: ='Team 5'!G30 -> Talbot | AM33: =CONCATENATE(AK33, " ",AL33) -> Isabelle Talbot | AO33: 9 | AP33: Female 16+ 4 X 50M MEDLEY RELAY | AQ33: ='Team 6'!F30 -> Laura | AR33: ='Team 6'!G30 -> Leksander | AS33: =CONCATENATE(AQ33, " ",AR33) -> Laura Leksander | AU33: 9 | AV33: Female 16+ 4 X 50M MEDLEY RELAY | AW33: ='Team 7'!F30 -> Kayla | AX33: ='Team 7'!G30 -> Van Zyl | AY33: =CONCATENATE(AW33, " ",AX33) -> Kayla Van Zyl | BA33: 9 | BB33: Female 16+ 4 X 50M MEDLEY RELAY | BC33: ='Team 8'!F30 -> 0 | BD33: ='Team 8'!G30 -> 0 | BE33: =CONCATENATE(BC33, " ",BD33) -> 0 0 | BG33: 9 | BH33: Female 16+ 4 X 50M MEDLEY RELAY | BI33: ='Team 9'!F30 -> 0 | BJ33: ='Team 9'!G30 -> 0 | BK33: =CONCATENATE(BI33, " ",BJ33) -> 0 0 | BM33: 9 | BN33: Female 16+ 4 X 50M MEDLEY RELAY | BO33: ='Team 10'!F30 -> 0 | BP33: ='Team 10'!G30 -> 0 | BQ33: =CONCATENATE(BO33, " ",BP33) -> 0 0
M34: ='Team 1'!F31 -> Amy | N34: ='Team 1'!G31 -> Hanson | O34: =CONCATENATE(M34, " ",N34) -> Amy Hanson | S34: ='Team 2'!F31 -> Daisy | T34: ='Team 2'!G31 -> Harradine | U34: =CONCATENATE(S34, " ",T34) -> Daisy Harradine | Y34: ='Team 3'!F31 -> Molly | Z34: ='Team 3'!G31 -> Bartup | AA34: =CONCATENATE(Y34, " ",Z34) -> Molly Bartup | AE34: ='Team 4'!F31 -> LIBBY | AF34: ='Team 4'!G31 -> BLISSETT | AG34: =CONCATENATE(AE34, " ",AF34) -> LIBBY BLISSETT | AK34: ='Team 5'!F31 -> Marcie | AL34: ='Team 5'!G31 -> Aley | AM34: =CONCATENATE(AK34, " ",AL34) -> Marcie Aley | AQ34: ='Team 6'!F31 -> Alice | AR34: ='Team 6'!G31 -> Sharrock | AS34: =CONCATENATE(AQ34, " ",AR34) -> Alice Sharrock | AW34: ='Team 7'!F31 -> Keira | AX34: ='Team 7'!G31 -> Brannigan | AY34: =CONCATENATE(AW34, " ",AX34) -> Keira Brannigan | BC34: ='Team 8'!F31 -> 0 | BD34: ='Team 8'!G31 -> 0 | BE34: =CONCATENATE(BC34, " ",BD34) -> 0 0 | BI34: ='Team 9'!F31 -> 0 | BJ34: ='Team 9'!G31 -> 0 | BK34: =CONCATENATE(BI34, " ",BJ34) -> 0 0 | BO34: ='Team 10'!F31 -> 0 | BP34: ='Team 10'!G31 -> 0 | BQ34: =CONCATENATE(BO34, " ",BP34) -> 0 0
M35: ='Team 1'!F32 -> Charlotte | N35: ='Team 1'!G32 -> Skinner | O35: =CONCATENATE(M35, " ",N35) -> Charlotte Skinner | S35: ='Team 2'!F32 -> Madeleine | T35: ='Team 2'!G32 -> Bailiss | U35: =CONCATENATE(S35, " ",T35) -> Madeleine Bailiss | Y35: ='Team 3'!F32 -> Sophie | Z35: ='Team 3'!G32 -> Clark | AA35: =CONCATENATE(Y35, " ",Z35) -> Sophie Clark | AE35: ='Team 4'!F32 -> HANNAH | AF35: ='Team 4'!G32 -> BOLTON | AG35: =CONCATENATE(AE35, " ",AF35) -> HANNAH BOLTON | AK35: ='Team 5'!F32 -> Kathryn | AL35: ='Team 5'!G32 -> Edwards | AM35: =CONCATENATE(AK35, " ",AL35) -> Kathryn Edwards | AQ35: ='Team 6'!F32 -> Mina | AR35: ='Team 6'!G32 -> Safahe | AS35: =CONCATENATE(AQ35, " ",AR35) -> Mina Safahe | AW35: ='Team 7'!F32 -> Laura | AX35: ='Team 7'!G32 -> Hibberd | AY35: =CONCATENATE(AW35, " ",AX35) -> Laura Hibberd | BC35: ='Team 8'!F32 -> 0 | BD35: ='Team 8'!G32 -> 0 | BE35: =CONCATENATE(BC35, " ",BD35) -> 0 0 | BI35: ='Team 9'!F32 -> 0 | BJ35: ='Team 9'!G32 -> 0 | BK35: =CONCATENATE(BI35, " ",BJ35) -> 0 0 | BO35: ='Team 10'!F32 -> 0 | BP35: ='Team 10'!G32 -> 0 | BQ35: =CONCATENATE(BO35, " ",BP35) -> 0 0
M36: ='Team 1'!F33 -> Maja | N36: ='Team 1'!G33 -> Grzybek | O36: =CONCATENATE(M36, " ",N36) -> Maja Grzybek | S36: ='Team 2'!F33 -> Sophie | T36: ='Team 2'!G33 -> Stelmach | U36: =CONCATENATE(S36, " ",T36) -> Sophie Stelmach | Y36: ='Team 3'!F33 -> Jessica | Z36: ='Team 3'!G33 -> MacKenzie | AA36: =CONCATENATE(Y36, " ",Z36) -> Jessica MacKenzie | AE36: ='Team 4'!F33 -> AMBER | AF36: ='Team 4'!G33 -> CURTIS | AG36: =CONCATENATE(AE36, " ",AF36) -> AMBER CURTIS | AK36: ='Team 5'!F33 -> Lily | AL36: ='Team 5'!G33 -> Threadgold | AM36: =CONCATENATE(AK36, " ",AL36) -> Lily Threadgold | AQ36: ='Team 6'!F33 -> Crina Stefania | AR36: ='Team 6'!G33 -> Bostan | AS36: =CONCATENATE(AQ36, " ",AR36) -> Crina Stefania Bostan | AW36: ='Team 7'!F33 -> Aoife | AX36: ='Team 7'!G33 -> O'Leary | AY36: =CONCATENATE(AW36, " ",AX36) -> Aoife O'Leary | BC36: ='Team 8'!F33 -> 0 | BD36: ='Team 8'!G33 -> 0 | BE36: =CONCATENATE(BC36, " ",BD36) -> 0 0 | BI36: ='Team 9'!F33 -> 0 | BJ36: ='Team 9'!G33 -> 0 | BK36: =CONCATENATE(BI36, " ",BJ36) -> 0 0 | BO36: ='Team 10'!F33 -> 0 | BP36: ='Team 10'!G33 -> 0 | BQ36: =CONCATENATE(BO36, " ",BP36) -> 0 0
K37: 10 | L37: Open/Male 16+ 4 X 50M MEDLEY RELAY | M37: ='Team 1'!F34 -> Zalan | N37: ='Team 1'!G34 -> Tornay | O37: =CONCATENATE(M37, " ",N37) -> Zalan Tornay | Q37: 10 | R37: Open/Male 16+ 4 X 50M MEDLEY RELAY | S37: ='Team 2'!F34 -> Matthew | T37: ='Team 2'!G34 -> Costello | U37: =CONCATENATE(S37, " ",T37) -> Matthew Costello | W37: 10 | X37: Open/Male 16+ 4 X 50M MEDLEY RELAY | Y37: ='Team 3'!F34 -> Charlie | Z37: ='Team 3'!G34 -> Cropley | AA37: =CONCATENATE(Y37, " ",Z37) -> Charlie Cropley | AC37: 10 | AD37: Open/Male 16+ 4 X 50M MEDLEY RELAY | AE37: ='Team 4'!F34 -> MATTHEW | AF37: ='Team 4'!G34 -> MASTERS | AG37: =CONCATENATE(AE37, " ",AF37) -> MATTHEW MASTERS | AI37: 10 | AJ37: Open/Male 16+ 4 X 50M MEDLEY RELAY | AK37: ='Team 5'!F34 -> Jamie | AL37: ='Team 5'!G34 -> Hartnup | AM37: =CONCATENATE(AK37, " ",AL37) -> Jamie Hartnup | AO37: 10 | AP37: Open/Male 16+ 4 X 50M MEDLEY RELAY | AQ37: ='Team 6'!F34 -> Razvan | AR37: ='Team 6'!G34 -> Lembac | AS37: =CONCATENATE(AQ37, " ",AR37) -> Razvan Lembac | AU37: 10 | AV37: Open/Male 16+ 4 X 50M MEDLEY RELAY | AW37: ='Team 7'!F34 -> Tsz Kwai | AX37: ='Team 7'!G34 -> Chan | AY37: =CONCATENATE(AW37, " ",AX37) -> Tsz Kwai Chan | BA37: 10 | BB37: Open/Male 16+ 4 X 50M MEDLEY RELAY | BC37: ='Team 8'!F34 -> 0 | BD37: ='Team 8'!G34 -> 0 | BE37: =CONCATENATE(BC37, " ",BD37) -> 0 0 | BG37: 10 | BH37: Open/Male 16+ 4 X 50M MEDLEY RELAY | BI37: ='Team 9'!F34 -> 0 | BJ37: ='Team 9'!G34 -> 0 | BK37: =CONCATENATE(BI37, " ",BJ37) -> 0 0 | BM37: 10 | BN37: Open/Male 16+ 4 X 50M MEDLEY RELAY | BO37: ='Team 10'!F34 -> 0 | BP37: ='Team 10'!G34 -> 0 | BQ37: =CONCATENATE(BO37, " ",BP37) -> 0 0
M38: ='Team 1'!F35 -> Michael | N38: ='Team 1'!G35 -> Manassero | O38: =CONCATENATE(M38, " ",N38) -> Michael Manassero | S38: ='Team 2'!F35 -> Samuel | T38: ='Team 2'!G35 -> Heraty | U38: =CONCATENATE(S38, " ",T38) -> Samuel Heraty | Y38: ='Team 3'!F35 -> George | Z38: ='Team 3'!G35 -> Lovelock | AA38: =CONCATENATE(Y38, " ",Z38) -> George Lovelock | AE38: ='Team 4'!F35 -> MAX | AF38: ='Team 4'!G35 -> WALLER | AG38: =CONCATENATE(AE38, " ",AF38) -> MAX WALLER | AK38: ='Team 5'!F35 -> Robert | AL38: ='Team 5'!G35 -> Elliston | AM38: =CONCATENATE(AK38, " ",AL38) -> Robert Elliston | AQ38: ='Team 6'!F35 -> Dawid | AR38: ='Team 6'!G35 -> Otulak | AS38: =CONCATENATE(AQ38, " ",AR38) -> Dawid Otulak | AW38: ='Team 7'!F35 -> Andrew | AX38: ='Team 7'!G35 -> May | AY38: =CONCATENATE(AW38, " ",AX38) -> Andrew May | BC38: ='Team 8'!F35 -> 0 | BD38: ='Team 8'!G35 -> 0 | BE38: =CONCATENATE(BC38, " ",BD38) -> 0 0 | BI38: ='Team 9'!F35 -> 0 | BJ38: ='Team 9'!G35 -> 0 | BK38: =CONCATENATE(BI38, " ",BJ38) -> 0 0 | BO38: ='Team 10'!F35 -> 0 | BP38: ='Team 10'!G35 -> 0 | BQ38: =CONCATENATE(BO38, " ",BP38) -> 0 0
M39: ='Team 1'!F36 -> James | N39: ='Team 1'!G36 -> Smeaton | O39: =CONCATENATE(M39, " ",N39) -> James Smeaton | S39: ='Team 2'!F36 -> Daniel | T39: ='Team 2'!G36 -> Humphreys | U39: =CONCATENATE(S39, " ",T39) -> Daniel Humphreys | Y39: ='Team 3'!F36 -> Luke | Z39: ='Team 3'!G36 -> Morley | AA39: =CONCATENATE(Y39, " ",Z39) -> Luke Morley | AE39: ='Team 4'!F36 -> ELLIS | AF39: ='Team 4'!G36 -> BUNCE | AG39: =CONCATENATE(AE39, " ",AF39) -> ELLIS BUNCE | AK39: ='Team 5'!F36 -> Oliver | AL39: ='Team 5'!G36 -> Murray | AM39: =CONCATENATE(AK39, " ",AL39) -> Oliver Murray | AQ39: ='Team 6'!F36 -> Shanil | AR39: ='Team 6'!G36 -> Ramaiya | AS39: =CONCATENATE(AQ39, " ",AR39) -> Shanil Ramaiya | AW39: ='Team 7'!F36 -> Liam | AX39: ='Team 7'!G36 -> Treanor | AY39: =CONCATENATE(AW39, " ",AX39) -> Liam Treanor | BC39: ='Team 8'!F36 -> 0 | BD39: ='Team 8'!G36 -> 0 | BE39: =CONCATENATE(BC39, " ",BD39) -> 0 0 | BI39: ='Team 9'!F36 -> 0 | BJ39: ='Team 9'!G36 -> 0 | BK39: =CONCATENATE(BI39, " ",BJ39) -> 0 0 | BO39: ='Team 10'!F36 -> 0 | BP39: ='Team 10'!G36 -> 0 | BQ39: =CONCATENATE(BO39, " ",BP39) -> 0 0
M40: ='Team 1'!F37 -> Gabriel | N40: ='Team 1'!G37 -> Bhonsle | O40: =CONCATENATE(M40, " ",N40) -> Gabriel Bhonsle | S40: ='Team 2'!F37 -> Harry | T40: ='Team 2'!G37 -> Chapman | U40: =CONCATENATE(S40, " ",T40) -> Harry Chapman | Y40: ='Team 3'!F37 -> Ethan | Z40: ='Team 3'!G37 -> Saldanha | AA40: =CONCATENATE(Y40, " ",Z40) -> Ethan Saldanha | AE40: ='Team 4'!F37 -> CHARLIE | AF40: ='Team 4'!G37 -> STARSMORE | AG40: =CONCATENATE(AE40, " ",AF40) -> CHARLIE STARSMORE | AK40: ='Team 5'!F37 -> Matthew | AL40: ='Team 5'!G37 -> Pack | AM40: =CONCATENATE(AK40, " ",AL40) -> Matthew Pack | AQ40: ='Team 6'!F37 -> Wiktor | AR40: ='Team 6'!G37 -> Brejnak | AS40: =CONCATENATE(AQ40, " ",AR40) -> Wiktor Brejnak | AW40: ='Team 7'!F37 -> Aaron | AX40: ='Team 7'!G37 -> Skinner | AY40: =CONCATENATE(AW40, " ",AX40) -> Aaron Skinner | BC40: ='Team 8'!F37 -> 0 | BD40: ='Team 8'!G37 -> 0 | BE40: =CONCATENATE(BC40, " ",BD40) -> 0 0 | BI40: ='Team 9'!F37 -> 0 | BJ40: ='Team 9'!G37 -> 0 | BK40: =CONCATENATE(BI40, " ",BJ40) -> 0 0 | BO40: ='Team 10'!F37 -> 0 | BP40: ='Team 10'!G37 -> 0 | BQ40: =CONCATENATE(BO40, " ",BP40) -> 0 0
K41: 11 | L41: Female 10/11 50m Backstroke | M41: ='Team 1'!F38 -> Eleanor | N41: ='Team 1'!G38 -> Skinner | O41: =CONCATENATE(M41, " ",N41) -> Eleanor Skinner | Q41: 11 | R41: Female 10/11 50m Backstroke | S41: ='Team 2'!F38 -> Esmae | T41: ='Team 2'!G38 -> Green | U41: =CONCATENATE(S41, " ",T41) -> Esmae Green | W41: 11 | X41: Female 10/11 50m Backstroke | Y41: ='Team 3'!F38 -> Hannah | Z41: ='Team 3'!G38 -> Jounor | AA41: =CONCATENATE(Y41, " ",Z41) -> Hannah Jounor | AC41: 11 | AD41: Female 10/11 50m Backstroke | AE41: ='Team 4'!F38 -> CHELSEA | AF41: ='Team 4'!G38 -> DARE | AG41: =CONCATENATE(AE41, " ",AF41) -> CHELSEA DARE | AI41: 11 | AJ41: Female 10/11 50m Backstroke | AK41: ='Team 5'!F38 -> Maisie | AL41: ='Team 5'!G38 -> Cooper | AM41: =CONCATENATE(AK41, " ",AL41) -> Maisie Cooper | AO41: 11 | AP41: Female 10/11 50m Backstroke | AQ41: ='Team 6'!F38 -> Mahika | AR41: ='Team 6'!G38 -> Chandrashekar | AS41: =CONCATENATE(AQ41, " ",AR41) -> Mahika Chandrashekar | AU41: 11 | AV41: Female 10/11 50m Backstroke | AW41: ='Team 7'!F38 -> Zara | AX41: ='Team 7'!G38 -> Jobanputra | AY41: =CONCATENATE(AW41, " ",AX41) -> Zara Jobanputra | BA41: 11 | BB41: Female 10/11 50m Backstroke | BC41: ='Team 8'!F38 -> 0 | BD41: ='Team 8'!G38 -> 0 | BE41: =CONCATENATE(BC41, " ",BD41) -> 0 0 | BG41: 11 | BH41: Female 10/11 50m Backstroke | BI41: ='Team 9'!F38 -> 0 | BJ41: ='Team 9'!G38 -> 0 | BK41: =CONCATENATE(BI41, " ",BJ41) -> 0 0 | BM41: 11 | BN41: Female 10/11 50m Backstroke | BO41: ='Team 10'!F38 -> 0 | BP41: ='Team 10'!G38 -> 0 | BQ41: =CONCATENATE(BO41, " ",BP41) -> 0 0
K42: 12 | L42: Open/Male 10/11 50m Backstroke | M42: ='Team 1'!F39 -> Leonardo | N42: ='Team 1'!G39 -> Goad | O42: =CONCATENATE(M42, " ",N42) -> Leonardo Goad | Q42: 12 | R42: Open/Male 10/11 50m Backstroke | S42: ='Team 2'!F39 -> James | T42: ='Team 2'!G39 -> Winter | U42: =CONCATENATE(S42, " ",T42) -> James Winter | W42: 12 | X42: Open/Male 10/11 50m Backstroke | Y42: ='Team 3'!F39 -> Liam | Z42: ='Team 3'!G39 -> Thompson | AA42: =CONCATENATE(Y42, " ",Z42) -> Liam Thompson | AC42: 12 | AD42: Open/Male 10/11 50m Backstroke | AE42: ='Team 4'!F39 -> SIMON | AF42: ='Team 4'!G39 -> ROSA | AG42: =CONCATENATE(AE42, " ",AF42) -> SIMON ROSA | AI42: 12 | AJ42: Open/Male 10/11 50m Backstroke | AK42: ='Team 5'!F39 -> Myron | AL42: ='Team 5'!G39 -> Young | AM42: =CONCATENATE(AK42, " ",AL42) -> Myron Young | AO42: 12 | AP42: Open/Male 10/11 50m Backstroke | AQ42: ='Team 6'!F39 -> Macsen | AR42: ='Team 6'!G39 -> Roberts | AS42: =CONCATENATE(AQ42, " ",AR42) -> Macsen Roberts | AU42: 12 | AV42: Open/Male 10/11 50m Backstroke | AW42: ='Team 7'!F39 -> Christopher | AX42: ='Team 7'!G39 -> Li Mow Ching | AY42: =CONCATENATE(AW42, " ",AX42) -> Christopher Li Mow Ching | BA42: 12 | BB42: Open/Male 10/11 50m Backstroke | BC42: ='Team 8'!F39 -> 0 | BD42: ='Team 8'!G39 -> 0 | BE42: =CONCATENATE(BC42, " ",BD42) -> 0 0 | BG42: 12 | BH42: Open/Male 10/11 50m Backstroke | BI42: ='Team 9'!F39 -> 0 | BJ42: ='Team 9'!G39 -> 0 | BK42: =CONCATENATE(BI42, " ",BJ42) -> 0 0 | BM42: 12 | BN42: Open/Male 10/11 50m Backstroke | BO42: ='Team 10'!F39 -> 0 | BP42: ='Team 10'!G39 -> 0 | BQ42: =CONCATENATE(BO42, " ",BP42) -> 0 0
K43: 13 | L43: Female 13/U 100m Breaststroke | M43: ='Team 1'!F40 -> Amy | N43: ='Team 1'!G40 -> Hanson | O43: =CONCATENATE(M43, " ",N43) -> Amy Hanson | Q43: 13 | R43: Female 13/U 100m Breaststroke | S43: ='Team 2'!F40 -> Ruby | T43: ='Team 2'!G40 -> Whitby | U43: =CONCATENATE(S43, " ",T43) -> Ruby Whitby | W43: 13 | X43: Female 13/U 100m Breaststroke | Y43: ='Team 3'!F40 -> Mia | Z43: ='Team 3'!G40 -> Nelson | AA43: =CONCATENATE(Y43, " ",Z43) -> Mia Nelson | AC43: 13 | AD43: Female 13/U 100m Breaststroke | AE43: ='Team 4'!F40 -> FRANCES | AF43: ='Team 4'!G40 -> STARSMORE | AG43: =CONCATENATE(AE43, " ",AF43) -> FRANCES STARSMORE | AI43: 13 | AJ43: Female 13/U 100m Breaststroke | AK43: ='Team 5'!F40 -> Isabelle | AL43: ='Team 5'!G40 -> Reeve | AM43: =CONCATENATE(AK43, " ",AL43) -> Isabelle Reeve | AO43: 13 | AP43: Female 13/U 100m Breaststroke | AQ43: ='Team 6'!F40 -> Emma | AR43: ='Team 6'!G40 -> Sum | AS43: =CONCATENATE(AQ43, " ",AR43) -> Emma Sum | AU43: 13 | AV43: Female 13/U 100m Breaststroke | AW43: ='Team 7'!F40 -> Mia | AX43: ='Team 7'!G40 -> Curle | AY43: =CONCATENATE(AW43, " ",AX43) -> Mia Curle | BA43: 13 | BB43: Female 13/U 100m Breaststroke | BC43: ='Team 8'!F40 -> 0 | BD43: ='Team 8'!G40 -> 0 | BE43: =CONCATENATE(BC43, " ",BD43) -> 0 0 | BG43: 13 | BH43: Female 13/U 100m Breaststroke | BI43: ='Team 9'!F40 -> 0 | BJ43: ='Team 9'!G40 -> 0 | BK43: =CONCATENATE(BI43, " ",BJ43) -> 0 0 | BM43: 13 | BN43: Female 13/U 100m Breaststroke | BO43: ='Team 10'!F40 -> 0 | BP43: ='Team 10'!G40 -> 0 | BQ43: =CONCATENATE(BO43, " ",BP43) -> 0 0
K44: 14 | L44: Open/Male 13/U 100m Breaststroke | M44: ='Team 1'!F41 -> Albert | N44: ='Team 1'!G41 -> Nezha | O44: =CONCATENATE(M44, " ",N44) -> Albert Nezha | Q44: 14 | R44: Open/Male 13/U 100m Breaststroke | S44: ='Team 2'!F41 -> Kai Jun Wai | T44: ='Team 2'!G41 -> Cheung | U44: =CONCATENATE(S44, " ",T44) -> Kai Jun Wai Cheung | W44: 14 | X44: Open/Male 13/U 100m Breaststroke | Y44: ='Team 3'!F41 -> Ryan | Z44: ='Team 3'!G41 -> Wimpenny | AA44: =CONCATENATE(Y44, " ",Z44) -> Ryan Wimpenny | AC44: 14 | AD44: Open/Male 13/U 100m Breaststroke | AE44: ='Team 4'!F41 -> Samuel | AF44: ='Team 4'!G41 -> Rosa | AG44: =CONCATENATE(AE44, " ",AF44) -> Samuel Rosa | AI44: 14 | AJ44: Open/Male 13/U 100m Breaststroke | AK44: ='Team 5'!F41 -> Bradley | AL44: ='Team 5'!G41 -> Rawlinson | AM44: =CONCATENATE(AK44, " ",AL44) -> Bradley Rawlinson | AO44: 14 | AP44: Open/Male 13/U 100m Breaststroke | AQ44: ='Team 6'!F41 -> Dylan | AR44: ='Team 6'!G41 -> Roberts | AS44: =CONCATENATE(AQ44, " ",AR44) -> Dylan Roberts | AU44: 14 | AV44: Open/Male 13/U 100m Breaststroke | AW44: ='Team 7'!F41 -> Advay | AX44: ='Team 7'!G41 -> Bhatia | AY44: =CONCATENATE(AW44, " ",AX44) -> Advay Bhatia | BA44: 14 | BB44: Open/Male 13/U 100m Breaststroke | BC44: ='Team 8'!F41 -> 0 | BD44: ='Team 8'!G41 -> 0 | BE44: =CONCATENATE(BC44, " ",BD44) -> 0 0 | BG44: 14 | BH44: Open/Male 13/U 100m Breaststroke | BI44: ='Team 9'!F41 -> 0 | BJ44: ='Team 9'!G41 -> 0 | BK44: =CONCATENATE(BI44, " ",BJ44) -> 0 0 | BM44: 14 | BN44: Open/Male 13/U 100m Breaststroke | BO44: ='Team 10'!F41 -> 0 | BP44: ='Team 10'!G41 -> 0 | BQ44: =CONCATENATE(BO44, " ",BP44) -> 0 0
K45: 15 | L45: Female 15/U 100m Backstroke | M45: ='Team 1'!F42 -> Shreya | N45: ='Team 1'!G42 -> Bavishi | O45: =CONCATENATE(M45, " ",N45) -> Shreya Bavishi | Q45: 15 | R45: Female 15/U 100m Backstroke | S45: ='Team 2'!F42 -> Daisy | T45: ='Team 2'!G42 -> Harradine | U45: =CONCATENATE(S45, " ",T45) -> Daisy Harradine | W45: 15 | X45: Female 15/U 100m Backstroke | Y45: ='Team 3'!F42 -> Hannah | Z45: ='Team 3'!G42 -> Lovelock | AA45: =CONCATENATE(Y45, " ",Z45) -> Hannah Lovelock | AC45: 15 | AD45: Female 15/U 100m Backstroke | AE45: ='Team 4'!F42 -> MEGAN | AF45: ='Team 4'!G42 -> JOHNSON | AG45: =CONCATENATE(AE45, " ",AF45) -> MEGAN JOHNSON | AI45: 15 | AJ45: Female 15/U 100m Backstroke | AK45: ='Team 5'!F42 -> Hollie | AL45: ='Team 5'!G42 -> Heighes | AM45: =CONCATENATE(AK45, " ",AL45) -> Hollie Heighes | AO45: 15 | AP45: Female 15/U 100m Backstroke | AQ45: ='Team 6'!F42 -> Alice | AR45: ='Team 6'!G42 -> Sharrock | AS45: =CONCATENATE(AQ45, " ",AR45) -> Alice Sharrock | AU45: 15 | AV45: Female 15/U 100m Backstroke | AW45: ='Team 7'!F42 -> Keanna | AX45: ='Team 7'!G42 -> Roets | AY45: =CONCATENATE(AW45, " ",AX45) -> Keanna Roets | BA45: 15 | BB45: Female 15/U 100m Backstroke | BC45: ='Team 8'!F42 -> 0 | BD45: ='Team 8'!G42 -> 0 | BE45: =CONCATENATE(BC45, " ",BD45) -> 0 0 | BG45: 15 | BH45: Female 15/U 100m Backstroke | BI45: ='Team 9'!F42 -> 0 | BJ45: ='Team 9'!G42 -> 0 | BK45: =CONCATENATE(BI45, " ",BJ45) -> 0 0 | BM45: 15 | BN45: Female 15/U 100m Backstroke | BO45: ='Team 10'!F42 -> 0 | BP45: ='Team 10'!G42 -> 0 | BQ45: =CONCATENATE(BO45, " ",BP45) -> 0 0
K46: 16 | L46: Open/Male 100m 15/U Backstroke | M46: ='Team 1'!F43 -> Zalan | N46: ='Team 1'!G43 -> Tornay | O46: =CONCATENATE(M46, " ",N46) -> Zalan Tornay | Q46: 16 | R46: Open/Male 100m 15/U Backstroke | S46: ='Team 2'!F43 -> Alexander | T46: ='Team 2'!G43 -> Gregory | U46: =CONCATENATE(S46, " ",T46) -> Alexander Gregory | W46: 16 | X46: Open/Male 100m 15/U Backstroke | Y46: ='Team 3'!F43 -> Alfie | Z46: ='Team 3'!G43 -> Bullock | AA46: =CONCATENATE(Y46, " ",Z46) -> Alfie Bullock | AC46: 16 | AD46: Open/Male 100m 15/U Backstroke | AE46: ='Team 4'!F43 -> CHARLES | AF46: ='Team 4'!G43 -> RAINES | AG46: =CONCATENATE(AE46, " ",AF46) -> CHARLES RAINES | AI46: 16 | AJ46: Open/Male 100m 15/U Backstroke | AK46: ='Team 5'!F43 -> Albert | AL46: ='Team 5'!G43 -> Orley | AM46: =CONCATENATE(AK46, " ",AL46) -> Albert Orley | AO46: 16 | AP46: Open/Male 100m 15/U Backstroke | AQ46: ='Team 6'!F43 -> Louis | AR46: ='Team 6'!G43 -> Waissman | AS46: =CONCATENATE(AQ46, " ",AR46) -> Louis Waissman | AU46: 16 | AV46: Open/Male 100m 15/U Backstroke | AW46: ='Team 7'!F43 -> Tsz Kwai | AX46: ='Team 7'!G43 -> Chan | AY46: =CONCATENATE(AW46, " ",AX46) -> Tsz Kwai Chan | BA46: 16 | BB46: Open/Male 100m 15/U Backstroke | BC46: ='Team 8'!F43 -> 0 | BD46: ='Team 8'!G43 -> 0 | BE46: =CONCATENATE(BC46, " ",BD46) -> 0 0 | BG46: 16 | BH46: Open/Male 100m 15/U Backstroke | BI46: ='Team 9'!F43 -> 0 | BJ46: ='Team 9'!G43 -> 0 | BK46: =CONCATENATE(BI46, " ",BJ46) -> 0 0 | BM46: 16 | BN46: Open/Male 100m 15/U Backstroke | BO46: ='Team 10'!F43 -> 0 | BP46: ='Team 10'!G43 -> 0 | BQ46: =CONCATENATE(BO46, " ",BP46) -> 0 0
K47: 17 | L47: Female 16+ 100m Butterfly | M47: ='Team 1'!F44 -> Maja | N47: ='Team 1'!G44 -> Grzybek | O47: =CONCATENATE(M47, " ",N47) -> Maja Grzybek | Q47: 17 | R47: Female 16+ 100m Butterfly | S47: ='Team 2'!F44 -> Madeleine | T47: ='Team 2'!G44 -> Bailiss | U47: =CONCATENATE(S47, " ",T47) -> Madeleine Bailiss | W47: 17 | X47: Female 16+ 100m Butterfly | Y47: ='Team 3'!F44 -> Sophie | Z47: ='Team 3'!G44 -> Clark | AA47: =CONCATENATE(Y47, " ",Z47) -> Sophie Clark | AC47: 17 | AD47: Female 16+ 100m Butterfly | AE47: ='Team 4'!F44 -> LIBBY | AF47: ='Team 4'!G44 -> BLISSETT | AG47: =CONCATENATE(AE47, " ",AF47) -> LIBBY BLISSETT | AI47: 17 | AJ47: Female 16+ 100m Butterfly | AK47: ='Team 5'!F44 -> Kathryn | AL47: ='Team 5'!G44 -> Edwards | AM47: =CONCATENATE(AK47, " ",AL47) -> Kathryn Edwards | AO47: 17 | AP47: Female 16+ 100m Butterfly | AQ47: ='Team 6'!F44 -> Laura | AR47: ='Team 6'!G44 -> Leksander | AS47: =CONCATENATE(AQ47, " ",AR47) -> Laura Leksander | AU47: 17 | AV47: Female 16+ 100m Butterfly | AW47: ='Team 7'!F44 -> Keira | AX47: ='Team 7'!G44 -> Brannigan | AY47: =CONCATENATE(AW47, " ",AX47) -> Keira Brannigan | BA47: 17 | BB47: Female 16+ 100m Butterfly | BC47: ='Team 8'!F44 -> 0 | BD47: ='Team 8'!G44 -> 0 | BE47: =CONCATENATE(BC47, " ",BD47) -> 0 0 | BG47: 17 | BH47: Female 16+ 100m Butterfly | BI47: ='Team 9'!F44 -> 0 | BJ47: ='Team 9'!G44 -> 0 | BK47: =CONCATENATE(BI47, " ",BJ47) -> 0 0 | BM47: 17 | BN47: Female 16+ 100m Butterfly | BO47: ='Team 10'!F44 -> 0 | BP47: ='Team 10'!G44 -> 0 | BQ47: =CONCATENATE(BO47, " ",BP47) -> 0 0
K48: 18 | L48: Open/Male 16+ 100m Butterfly | M48: ='Team 1'!F45 -> 0 | N48: ='Team 1'!G45 -> 0 | O48: =CONCATENATE(M48, " ",N48) -> 0 0 | Q48: 18 | R48: Open/Male 16+ 100m Butterfly | S48: ='Team 2'!F45 -> Samuel | T48: ='Team 2'!G45 -> Heraty | U48: =CONCATENATE(S48, " ",T48) -> Samuel Heraty | W48: 18 | X48: Open/Male 16+ 100m Butterfly | Y48: ='Team 3'!F45 -> Luke | Z48: ='Team 3'!G45 -> Morley | AA48: =CONCATENATE(Y48, " ",Z48) -> Luke Morley | AC48: 18 | AD48: Open/Male 16+ 100m Butterfly | AE48: ='Team 4'!F45 -> ELLIS | AF48: ='Team 4'!G45 -> BUNCE | AG48: =CONCATENATE(AE48, " ",AF48) -> ELLIS BUNCE | AI48: 18 | AJ48: Open/Male 16+ 100m Butterfly | AK48: ='Team 5'!F45 -> Daniel | AL48: ='Team 5'!G45 -> Parker | AM48: =CONCATENATE(AK48, " ",AL48) -> Daniel Parker | AO48: 18 | AP48: Open/Male 16+ 100m Butterfly | AQ48: ='Team 6'!F45 -> Shanil | AR48: ='Team 6'!G45 -> Ramaiya | AS48: =CONCATENATE(AQ48, " ",AR48) -> Shanil Ramaiya | AU48: 18 | AV48: Open/Male 16+ 100m Butterfly | AW48: ='Team 7'!F45 -> Liam | AX48: ='Team 7'!G45 -> Treanor | AY48: =CONCATENATE(AW48, " ",AX48) -> Liam Treanor | BA48: 18 | BB48: Open/Male 16+ 100m Butterfly | BC48: ='Team 8'!F45 -> 0 | BD48: ='Team 8'!G45 -> 0 | BE48: =CONCATENATE(BC48, " ",BD48) -> 0 0 | BG48: 18 | BH48: Open/Male 16+ 100m Butterfly | BI48: ='Team 9'!F45 -> 0 | BJ48: ='Team 9'!G45 -> 0 | BK48: =CONCATENATE(BI48, " ",BJ48) -> 0 0 | BM48: 18 | BN48: Open/Male 16+ 100m Butterfly | BO48: ='Team 10'!F45 -> 0 | BP48: ='Team 10'!G45 -> 0 | BQ48: =CONCATENATE(BO48, " ",BP48) -> 0 0
K49: 19 | L49: Female 10/11 50m Butterfly | M49: ='Team 1'!F46 -> Claudia | N49: ='Team 1'!G46 -> Savov | O49: =CONCATENATE(M49, " ",N49) -> Claudia Savov | Q49: 19 | R49: Female 10/11 50m Butterfly | S49: ='Team 2'!F46 -> Maya | T49: ='Team 2'!G46 -> Wegner | U49: =CONCATENATE(S49, " ",T49) -> Maya Wegner | W49: 19 | X49: Female 10/11 50m Butterfly | Y49: ='Team 3'!F46 -> Scarlett | Z49: ='Team 3'!G46 -> Omand | AA49: =CONCATENATE(Y49, " ",Z49) -> Scarlett Omand | AC49: 19 | AD49: Female 10/11 50m Butterfly | AE49: ='Team 4'!F46 -> WILLOW | AF49: ='Team 4'!G46 -> BROWNBRIDGE | AG49: =CONCATENATE(AE49, " ",AF49) -> WILLOW BROWNBRIDGE | AI49: 19 | AJ49: Female 10/11 50m Butterfly | AK49: ='Team 5'!F46 -> Caoife | AL49: ='Team 5'!G46 -> Long | AM49: =CONCATENATE(AK49, " ",AL49) -> Caoife Long | AO49: 19 | AP49: Female 10/11 50m Butterfly | AQ49: ='Team 6'!F46 -> Miraya | AR49: ='Team 6'!G46 -> Patel | AS49: =CONCATENATE(AQ49, " ",AR49) -> Miraya Patel | AU49: 19 | AV49: Female 10/11 50m Butterfly | AW49: ='Team 7'!F46 -> Zara | AX49: ='Team 7'!G46 -> Jobanputra | AY49: =CONCATENATE(AW49, " ",AX49) -> Zara Jobanputra | BA49: 19 | BB49: Female 10/11 50m Butterfly | BC49: ='Team 8'!F46 -> 0 | BD49: ='Team 8'!G46 -> 0 | BE49: =CONCATENATE(BC49, " ",BD49) -> 0 0 | BG49: 19 | BH49: Female 10/11 50m Butterfly | BI49: ='Team 9'!F46 -> 0 | BJ49: ='Team 9'!G46 -> 0 | BK49: =CONCATENATE(BI49, " ",BJ49) -> 0 0 | BM49: 19 | BN49: Female 10/11 50m Butterfly | BO49: ='Team 10'!F46 -> 0 | BP49: ='Team 10'!G46 -> 0 | BQ49: =CONCATENATE(BO49, " ",BP49) -> 0 0
K50: 20 | L50: Open/Male 10/11 50m Butterfly | M50: ='Team 1'!F47 -> Kornel | N50: ='Team 1'!G47 -> Kern-Konyar | O50: =CONCATENATE(M50, " ",N50) -> Kornel Kern-Konyar | Q50: 20 | R50: Open/Male 10/11 50m Butterfly | S50: ='Team 2'!F47 -> James | T50: ='Team 2'!G47 -> Winter | U50: =CONCATENATE(S50, " ",T50) -> James Winter | W50: 20 | X50: Open/Male 10/11 50m Butterfly | Y50: ='Team 3'!F47 -> Maxwell | Z50: ='Team 3'!G47 -> Croft | AA50: =CONCATENATE(Y50, " ",Z50) -> Maxwell Croft | AC50: 20 | AD50: Open/Male 10/11 50m Butterfly | AE50: ='Team 4'!F47 -> SIMON | AF50: ='Team 4'!G47 -> ROSA | AG50: =CONCATENATE(AE50, " ",AF50) -> SIMON ROSA | AI50: 20 | AJ50: Open/Male 10/11 50m Butterfly | AK50: ='Team 5'!F47 -> Myron | AL50: ='Team 5'!G47 -> Young | AM50: =CONCATENATE(AK50, " ",AL50) -> Myron Young | AO50: 20 | AP50: Open/Male 10/11 50m Butterfly | AQ50: ='Team 6'!F47 -> Mikhail | AR50: ='Team 6'!G47 -> Fedorov | AS50: =CONCATENATE(AQ50, " ",AR50) -> Mikhail Fedorov | AU50: 20 | AV50: Open/Male 10/11 50m Butterfly | AW50: ='Team 7'!F47 -> Jai | AX50: ='Team 7'!G47 -> Bhuwania | AY50: =CONCATENATE(AW50, " ",AX50) -> Jai Bhuwania | BA50: 20 | BB50: Open/Male 10/11 50m Butterfly | BC50: ='Team 8'!F47 -> 0 | BD50: ='Team 8'!G47 -> 0 | BE50: =CONCATENATE(BC50, " ",BD50) -> 0 0 | BG50: 20 | BH50: Open/Male 10/11 50m Butterfly | BI50: ='Team 9'!F47 -> 0 | BJ50: ='Team 9'!G47 -> 0 | BK50: =CONCATENATE(BI50, " ",BJ50) -> 0 0 | BM50: 20 | BN50: Open/Male 10/11 50m Butterfly | BO50: ='Team 10'!F47 -> 0 | BP50: ='Team 10'!G47 -> 0 | BQ50: =CONCATENATE(BO50, " ",BP50) -> 0 0
K51: 21 | L51: Female 13/U 100m Backstroke | M51: ='Team 1'!F48 -> Ane | N51: ='Team 1'!G48 -> Pedraza-Eguia | O51: =CONCATENATE(M51, " ",N51) -> Ane Pedraza-Eguia | Q51: 21 | R51: Female 13/U 100m Backstroke | S51: ='Team 2'!F48 -> Sophie | T51: ='Team 2'!G48 -> Heraty | U51: =CONCATENATE(S51, " ",T51) -> Sophie Heraty | W51: 21 | X51: Female 13/U 100m Backstroke | Y51: ='Team 3'!F48 -> Maya | Z51: ='Team 3'!G48 -> Robu | AA51: =CONCATENATE(Y51, " ",Z51) -> Maya Robu | AC51: 21 | AD51: Female 13/U 100m Backstroke | AE51: ='Team 4'!F48 -> FRANCES | AF51: ='Team 4'!G48 -> STARSMORE | AG51: =CONCATENATE(AE51, " ",AF51) -> FRANCES STARSMORE | AI51: 21 | AJ51: Female 13/U 100m Backstroke | AK51: ='Team 5'!F48 -> Orlagh | AL51: ='Team 5'!G48 -> Northgrave | AM51: =CONCATENATE(AK51, " ",AL51) -> Orlagh Northgrave | AO51: 21 | AP51: Female 13/U 100m Backstroke | AQ51: ='Team 6'!F48 -> Polina | AR51: ='Team 6'!G48 -> Fedorova | AS51: =CONCATENATE(AQ51, " ",AR51) -> Polina Fedorova | AU51: 21 | AV51: Female 13/U 100m Backstroke | AW51: ='Team 7'!F48 -> Jessica | AX51: ='Team 7'!G48 -> Riach | AY51: =CONCATENATE(AW51, " ",AX51) -> Jessica Riach | BA51: 21 | BB51: Female 13/U 100m Backstroke | BC51: ='Team 8'!F48 -> 0 | BD51: ='Team 8'!G48 -> 0 | BE51: =CONCATENATE(BC51, " ",BD51) -> 0 0 | BG51: 21 | BH51: Female 13/U 100m Backstroke | BI51: ='Team 9'!F48 -> 0 | BJ51: ='Team 9'!G48 -> 0 | BK51: =CONCATENATE(BI51, " ",BJ51) -> 0 0 | BM51: 21 | BN51: Female 13/U 100m Backstroke | BO51: ='Team 10'!F48 -> 0 | BP51: ='Team 10'!G48 -> 0 | BQ51: =CONCATENATE(BO51, " ",BP51) -> 0 0
K52: 22 | L52: Open/Male 13/U 100m Backstroke | M52: ='Team 1'!F49 -> Yigit | N52: ='Team 1'!G49 -> Ilhan | O52: =CONCATENATE(M52, " ",N52) -> Yigit Ilhan | Q52: 22 | R52: Open/Male 13/U 100m Backstroke | S52: ='Team 2'!F49 -> James | T52: ='Team 2'!G49 -> Winter | U52: =CONCATENATE(S52, " ",T52) -> James Winter | W52: 22 | X52: Open/Male 13/U 100m Backstroke | Y52: ='Team 3'!F49 -> Ryan | Z52: ='Team 3'!G49 -> Wimpenny | AA52: =CONCATENATE(Y52, " ",Z52) -> Ryan Wimpenny | AC52: 22 | AD52: Open/Male 13/U 100m Backstroke | AE52: ='Team 4'!F49 -> SAMUEL | AF52: ='Team 4'!G49 -> ROSA | AG52: =CONCATENATE(AE52, " ",AF52) -> SAMUEL ROSA | AI52: 22 | AJ52: Open/Male 13/U 100m Backstroke | AK52: ='Team 5'!F49 -> Liam | AL52: ='Team 5'!G49 -> Hurst | AM52: =CONCATENATE(AK52, " ",AL52) -> Liam Hurst | AO52: 22 | AP52: Open/Male 13/U 100m Backstroke | AQ52: ='Team 6'!F49 -> Gert | AR52: ='Team 6'!G49 -> Zeqiri | AS52: =CONCATENATE(AQ52, " ",AR52) -> Gert Zeqiri | AU52: 22 | AV52: Open/Male 13/U 100m Backstroke | AW52: ='Team 7'!F49 -> Advay | AX52: ='Team 7'!G49 -> Bhatia | AY52: =CONCATENATE(AW52, " ",AX52) -> Advay Bhatia | BA52: 22 | BB52: Open/Male 13/U 100m Backstroke | BC52: ='Team 8'!F49 -> 0 | BD52: ='Team 8'!G49 -> 0 | BE52: =CONCATENATE(BC52, " ",BD52) -> 0 0 | BG52: 22 | BH52: Open/Male 13/U 100m Backstroke | BI52: ='Team 9'!F49 -> 0 | BJ52: ='Team 9'!G49 -> 0 | BK52: =CONCATENATE(BI52, " ",BJ52) -> 0 0 | BM52: 22 | BN52: Open/Male 13/U 100m Backstroke | BO52: ='Team 10'!F49 -> 0 | BP52: ='Team 10'!G49 -> 0 | BQ52: =CONCATENATE(BO52, " ",BP52) -> 0 0
... K72: 42 | L72: Open/Male 16+ 100m Freestyle | M72: ='Team 1'!F69 -> James | N72: ='Team 1'!G69 -> Smeaton | O72: =CONCATENATE(M72, " ",N72) -> James Smeaton | Q72: 42 | R72: Open/Male 16+ 100m Freestyle | S72: ='Team 2'!F69 -> Harry | T72: ='Team 2'!G69 -> Chapman | U72: =CONCATENATE(S72, " ",T72) -> Harry Chapman | W72: 42 | X72: Open/Male 16+ 100m Freestyle | Y72: ='Team 3'!F69 -> Luke | Z72: ='Team 3'!G69 -> Morley | AA72: =CONCATENATE(Y72, " ",Z72) -> Luke Morley | AC72: 42 | AD72: Open/Male 16+ 100m Freestyle | AE72: ='Team 4'!F69 -> MATTHEW | AF72: ='Team 4'!G69 -> MASTERS | AG72: =CONCATENATE(AE72, " ",AF72) -> MATTHEW MASTERS | AI72: 42 | AJ72: Open/Male 16+ 100m Freestyle | AK72: ='Team 5'!F69 -> Robert | AL72: ='Team 5'!G69 -> Elliston | AM72: =CONCATENATE(AK72, " ",AL72) -> Robert Elliston | AO72: 42 | AP72: Open/Male 16+ 100m Freestyle | AQ72: ='Team 6'!F69 -> Razvan | AR72: ='Team 6'!G69 -> Lembac | AS72: =CONCATENATE(AQ72, " ",AR72) -> Razvan Lembac | AU72: 42 | AV72: Open/Male 16+ 100m Freestyle | AW72: ='Team 7'!F69 -> Liam | AX72: ='Team 7'!G69 -> Treanor | AY72: =CONCATENATE(AW72, " ",AX72) -> Liam Treanor | BA72: 42 | BB72: Open/Male 16+ 100m Freestyle | BC72: ='Team 8'!F69 -> 0 | BD72: ='Team 8'!G69 -> 0 | BE72: =CONCATENATE(BC72, " ",BD72) -> 0 0 | BG72: 42 | BH72: Open/Male 16+ 100m Freestyle | BI72: ='Team 9'!F69 -> 0 | BJ72: ='Team 9'!G69 -> 0 | BK72: =CONCATENATE(BI72, " ",BJ72) -> 0 0 | BM72: 42 | BN72: Open/Male 16+ 100m Freestyle | BO72: ='Team 10'!F69 -> 0 | BP72: ='Team 10'!G69 -> 0 | BQ72: =CONCATENATE(BO72, " ",BP72) -> 0 0
K73: 43 | L73: Female 9/11 4 X 50M MEDLEY RELAY | M73: ='Team 1'!F70 -> Eleanor | N73: ='Team 1'!G70 -> Skinner | O73: =CONCATENATE(M73, " ",N73) -> Eleanor Skinner | Q73: 43 | R73: Female 9/11 4 X 50M MEDLEY RELAY | S73: ='Team 2'!F70 -> Esmae | T73: ='Team 2'!G70 -> Green | U73: =CONCATENATE(S73, " ",T73) -> Esmae Green | W73: 43 | X73: Female 9/11 4 X 50M MEDLEY RELAY | Y73: ='Team 3'!F70 -> Hannah | Z73: ='Team 3'!G70 -> Jounor | AA73: =CONCATENATE(Y73, " ",Z73) -> Hannah Jounor | AC73: 43 | AD73: Female 9/11 4 X 50M MEDLEY RELAY | AE73: ='Team 4'!F70 -> CHELSEA | AF73: ='Team 4'!G70 -> DARE | AG73: =CONCATENATE(AE73, " ",AF73) -> CHELSEA DARE | AI73: 43 | AJ73: Female 9/11 4 X 50M MEDLEY RELAY | AK73: ='Team 5'!F70 -> Layla | AL73: ='Team 5'!G70 -> Cook | AM73: =CONCATENATE(AK73, " ",AL73) -> Layla Cook | AO73: 43 | AP73: Female 9/11 4 X 50M MEDLEY RELAY | AQ73: ='Team 6'!F70 -> Mahika | AR73: ='Team 6'!G70 -> Chandrashekar | AS73: =CONCATENATE(AQ73, " ",AR73) -> Mahika Chandrashekar | AU73: 43 | AV73: Female 9/11 4 X 50M MEDLEY RELAY | AW73: ='Team 7'!F70 -> Alexa | AX73: ='Team 7'!G70 -> Homer | AY73: =CONCATENATE(AW73, " ",AX73) -> Alexa Homer | BA73: 43 | BB73: Female 9/11 4 X 50M MEDLEY RELAY | BC73: ='Team 8'!F70 -> 0 | BD73: ='Team 8'!G70 -> 0 | BE73: =CONCATENATE(BC73, " ",BD73) -> 0 0 | BG73: 43 | BH73: Female 9/11 4 X 50M MEDLEY RELAY | BI73: ='Team 9'!F70 -> 0 | BJ73: ='Team 9'!G70 -> 0 | BK73: =CONCATENATE(BI73, " ",BJ73) -> 0 0 | BM73: 43 | BN73: Female 9/11 4 X 50M MEDLEY RELAY | BO73: ='Team 10'!F70 -> 0 | BP73: ='Team 10'!G70 -> 0 | BQ73: =CONCATENATE(BO73, " ",BP73) -> 0 0 | BS73: =CONCATENATE('Team 1'!$F70, " ",'Team 1'!$G70) -> Eleanor Skinner | BT73: =CONCATENATE('Team 1'!$F71, " ",'Team 1'!$G71) -> Ines Puente
M74: ='Team 1'!F71 -> Ines | N74: ='Team 1'!G71 -> Puente | O74: =CONCATENATE(M74, " ",N74) -> Ines Puente | S74: ='Team 2'!F71 -> Seren | T74: ='Team 2'!G71 -> Cooper | U74: =CONCATENATE(S74, " ",T74) -> Seren Cooper | Y74: ='Team 3'!F71 -> Chloe | Z74: ='Team 3'!G71 -> Wimpenny | AA74: =CONCATENATE(Y74, " ",Z74) -> Chloe Wimpenny | AE74: ='Team 4'!F71 -> MIA | AF74: ='Team 4'!G71 -> ZUBCEVIC | AG74: =CONCATENATE(AE74, " ",AF74) -> MIA ZUBCEVIC | AK74: ='Team 5'!F71 -> Maisie | AL74: ='Team 5'!G71 -> Cooper | AM74: =CONCATENATE(AK74, " ",AL74) -> Maisie Cooper | AQ74: ='Team 6'!F71 -> Miraya | AR74: ='Team 6'!G71 -> Patel | AS74: =CONCATENATE(AQ74, " ",AR74) -> Miraya Patel | AW74: ='Team 7'!F71 -> Lara | AX74: ='Team 7'!G71 -> Shah | AY74: =CONCATENATE(AW74, " ",AX74) -> Lara Shah | BC74: ='Team 8'!F71 -> 0 | BD74: ='Team 8'!G71 -> 0 | BE74: =CONCATENATE(BC74, " ",BD74) -> 0 0 | BI74: ='Team 9'!F71 -> 0 | BJ74: ='Team 9'!G71 -> 0 | BK74: =CONCATENATE(BI74, " ",BJ74) -> 0 0 | BO74: ='Team 10'!F71 -> 0 | BP74: ='Team 10'!G71 -> 0 | BQ74: =CONCATENATE(BO74, " ",BP74) -> 0 0
M75: ='Team 1'!F72 -> Claudia | N75: ='Team 1'!G72 -> Savov | O75: =CONCATENATE(M75, " ",N75) -> Claudia Savov | S75: ='Team 2'!F72 -> Maya | T75: ='Team 2'!G72 -> Wegner | U75: =CONCATENATE(S75, " ",T75) -> Maya Wegner | Y75: ='Team 3'!F72 -> Scarlett | Z75: ='Team 3'!G72 -> Omand | AA75: =CONCATENATE(Y75, " ",Z75) -> Scarlett Omand | AE75: ='Team 4'!F72 -> WILLOW | AF75: ='Team 4'!G72 -> BROWNBRIDGE | AG75: =CONCATENATE(AE75, " ",AF75) -> WILLOW BROWNBRIDGE | AK75: ='Team 5'!F72 -> Caoife | AL75: ='Team 5'!G72 -> Long | AM75: =CONCATENATE(AK75, " ",AL75) -> Caoife Long | AQ75: ='Team 6'!F72 -> Anna | AR75: ='Team 6'!G72 -> Rescia | AS75: =CONCATENATE(AQ75, " ",AR75) -> Anna Rescia | AW75: ='Team 7'!F72 -> Zara | AX75: ='Team 7'!G72 -> Jobanputra | AY75: =CONCATENATE(AW75, " ",AX75) -> Zara Jobanputra | BC75: ='Team 8'!F72 -> 0 | BD75: ='Team 8'!G72 -> 0 | BE75: =CONCATENATE(BC75, " ",BD75) -> 0 0 | BI75: ='Team 9'!F72 -> 0 | BJ75: ='Team 9'!G72 -> 0 | BK75: =CONCATENATE(BI75, " ",BJ75) -> 0 0 | BO75: ='Team 10'!F72 -> 0 | BP75: ='Team 10'!G72 -> 0 | BQ75: =CONCATENATE(BO75, " ",BP75) -> 0 0
M76: ='Team 1'!F73 -> Aaliyah | N76: ='Team 1'!G73 -> Gordon | O76: =CONCATENATE(M76, " ",N76) -> Aaliyah Gordon | S76: ='Team 2'!F73 -> Annabelle | T76: ='Team 2'!G73 -> Harris | U76: =CONCATENATE(S76, " ",T76) -> Annabelle Harris | Y76: ='Team 3'!F73 -> Niamh | Z76: ='Team 3'!G73 -> Holland | AA76: =CONCATENATE(Y76, " ",Z76) -> Niamh Holland | AE76: ='Team 4'!F73 -> Olivia | AF76: ='Team 4'!G73 -> Genge | AG76: =CONCATENATE(AE76, " ",AF76) -> Olivia Genge | AK76: ='Team 5'!F73 -> Megan | AL76: ='Team 5'!G73 -> Alexander | AM76: =CONCATENATE(AK76, " ",AL76) -> Megan Alexander | AQ76: ='Team 6'!F73 -> Roya | AR76: ='Team 6'!G73 -> Malliwal | AS76: =CONCATENATE(AQ76, " ",AR76) -> Roya Malliwal | AW76: ='Team 7'!F73 -> Arabella | AX76: ='Team 7'!G73 -> Connick | AY76: =CONCATENATE(AW76, " ",AX76) -> Arabella Connick | BC76: ='Team 8'!F73 -> 0 | BD76: ='Team 8'!G73 -> 0 | BE76: =CONCATENATE(BC76, " ",BD76) -> 0 0 | BI76: ='Team 9'!F73 -> 0 | BJ76: ='Team 9'!G73 -> 0 | BK76: =CONCATENATE(BI76, " ",BJ76) -> 0 0 | BO76: ='Team 10'!F73 -> 0 | BP76: ='Team 10'!G73 -> 0 | BQ76: =CONCATENATE(BO76, " ",BP76) -> 0 0 | BS76: =CONCATENATE('Team 1'!$F72, " ",'Team 1'!$G72) -> Claudia Savov | BT76: =CONCATENATE('Team 1'!$F73, " ",'Team 1'!$G73) -> Aaliyah Gordon
K77: 44 | L77: Open/Male 9/11 4 X 50M MEDLEY RELAY | M77: ='Team 1'!F74 -> 0 | N77: ='Team 1'!G74 -> 0 | O77: =CONCATENATE(M77, " ",N77) -> 0 0 | Q77: 44 | R77: Open/Male 9/11 4 X 50M MEDLEY RELAY | S77: ='Team 2'!F74 -> James | T77: ='Team 2'!G74 -> Winter | U77: =CONCATENATE(S77, " ",T77) -> James Winter | W77: 44 | X77: Open/Male 9/11 4 X 50M MEDLEY RELAY | Y77: ='Team 3'!F74 -> Liam | Z77: ='Team 3'!G74 -> Thompson | AA77: =CONCATENATE(Y77, " ",Z77) -> Liam Thompson | AC77: 44 | AD77: Open/Male 9/11 4 X 50M MEDLEY RELAY | AE77: ='Team 4'!F74 -> SIMON | AF77: ='Team 4'!G74 -> ROSA | AG77: =CONCATENATE(AE77, " ",AF77) -> SIMON ROSA | AI77: 44 | AJ77: Open/Male 9/11 4 X 50M MEDLEY RELAY | AK77: ='Team 5'!F74 -> Myron | AL77: ='Team 5'!G74 -> Young | AM77: =CONCATENATE(AK77, " ",AL77) -> Myron Young | AO77: 44 | AP77: Open/Male 9/11 4 X 50M MEDLEY RELAY | AQ77: ='Team 6'!F74 -> Zayn | AR77: ='Team 6'!G74 -> Tang | AS77: =CONCATENATE(AQ77, " ",AR77) -> Zayn Tang | AU77: 44 | AV77: Open/Male 9/11 4 X 50M MEDLEY RELAY | AW77: ='Team 7'!F74 -> Christopher | AX77: ='Team 7'!G74 -> Li Mow Ching | AY77: =CONCATENATE(AW77, " ",AX77) -> Christopher Li Mow Ching | BA77: 44 | BB77: Open/Male 9/11 4 X 50M MEDLEY RELAY | BC77: ='Team 8'!F74 -> 0 | BD77: ='Team 8'!G74 -> 0 | BE77: =CONCATENATE(BC77, " ",BD77) -> 0 0 | BG77: 44 | BH77: Open/Male 9/11 4 X 50M MEDLEY RELAY | BI77: ='Team 9'!F74 -> 0 | BJ77: ='Team 9'!G74 -> 0 | BK77: =CONCATENATE(BI77, " ",BJ77) -> 0 0 | BM77: 44 | BN77: Open/Male 9/11 4 X 50M MEDLEY RELAY | BO77: ='Team 10'!F74 -> 0 | BP77: ='Team 10'!G74 -> 0 | BQ77: =CONCATENATE(BO77, " ",BP77) -> 0 0 | BS77: =CONCATENATE('Team 1'!$F74, " ",'Team 1'!$G74) | BT77: =CONCATENATE('Team 1'!$F75, " ",'Team 1'!$G75)
M78: ='Team 1'!F75 -> 0 | N78: ='Team 1'!G75 -> 0 | O78: =CONCATENATE(M78, " ",N78) -> 0 0 | S78: ='Team 2'!F75 -> Kai Jun Wai | T78: ='Team 2'!G75 -> Cheung | U78: =CONCATENATE(S78, " ",T78) -> Kai Jun Wai Cheung | Y78: ='Team 3'!F75 -> Harry | Z78: ='Team 3'!G75 -> Lythgoe | AA78: =CONCATENATE(Y78, " ",Z78) -> Harry Lythgoe | AE78: ='Team 4'!F75 -> JAMES | AF78: ='Team 4'!G75 -> MOHAMMED | AG78: =CONCATENATE(AE78, " ",AF78) -> JAMES MOHAMMED | AK78: ='Team 5'!F75 -> Braden | AL78: ='Team 5'!G75 -> Barnacle | AM78: =CONCATENATE(AK78, " ",AL78) -> Braden Barnacle | AQ78: ='Team 6'!F75 -> Mikhail | AR78: ='Team 6'!G75 -> Fedorov | AS78: =CONCATENATE(AQ78, " ",AR78) -> Mikhail Fedorov | AW78: ='Team 7'!F75 -> Arush | AX78: ='Team 7'!G75 -> Agarwal | AY78: =CONCATENATE(AW78, " ",AX78) -> Arush Agarwal | BC78: ='Team 8'!F75 -> 0 | BD78: ='Team 8'!G75 -> 0 | BE78: =CONCATENATE(BC78, " ",BD78) -> 0 0 | BI78: ='Team 9'!F75 -> 0 | BJ78: ='Team 9'!G75 -> 0 | BK78: =CONCATENATE(BI78, " ",BJ78) -> 0 0 | BO78: ='Team 10'!F75 -> 0 | BP78: ='Team 10'!G75 -> 0 | BQ78: =CONCATENATE(BO78, " ",BP78) -> 0 0
M79: ='Team 1'!F76 -> 0 | N79: ='Team 1'!G76 -> 0 | O79: =CONCATENATE(M79, " ",N79) -> 0 0 | S79: ='Team 2'!F76 -> Charlie | T79: ='Team 2'!G76 -> Pritchard | U79: =CONCATENATE(S79, " ",T79) -> Charlie Pritchard | Y79: ='Team 3'!F76 -> Maxwell | Z79: ='Team 3'!G76 -> Croft | AA79: =CONCATENATE(Y79, " ",Z79) -> Maxwell Croft | AE79: ='Team 4'!F76 -> CHARLIE | AF79: ='Team 4'!G76 -> COJEEN | AG79: =CONCATENATE(AE79, " ",AF79) -> CHARLIE COJEEN | AK79: ='Team 5'!F76 -> Mohammed | AL79: ='Team 5'!G76 -> Malek | AM79: =CONCATENATE(AK79, " ",AL79) -> Mohammed Malek | AQ79: ='Team 6'!F76 -> Aaron | AR79: ='Team 6'!G76 -> Lal | AS79: =CONCATENATE(AQ79, " ",AR79) -> Aaron Lal | AW79: ='Team 7'!F76 -> Jai | AX79: ='Team 7'!G76 -> Bhuwania | AY79: =CONCATENATE(AW79, " ",AX79) -> Jai Bhuwania | BC79: ='Team 8'!F76 -> 0 | BD79: ='Team 8'!G76 -> 0 | BE79: =CONCATENATE(BC79, " ",BD79) -> 0 0 | BI79: ='Team 9'!F76 -> 0 | BJ79: ='Team 9'!G76 -> 0 | BK79: =CONCATENATE(BI79, " ",BJ79) -> 0 0 | BO79: ='Team 10'!F76 -> 0 | BP79: ='Team 10'!G76 -> 0 | BQ79: =CONCATENATE(BO79, " ",BP79) -> 0 0
M80: ='Team 1'!F77 -> 0 | N80: ='Team 1'!G77 -> 0 | O80: =CONCATENATE(M80, " ",N80) -> 0 0 | S80: ='Team 2'!F77 -> Alex | T80: ='Team 2'!G77 -> Cash | U80: =CONCATENATE(S80, " ",T80) -> Alex Cash | Y80: ='Team 3'!F77 -> Fabio | Z80: ='Team 3'!G77 -> Giambrone | AA80: =CONCATENATE(Y80, " ",Z80) -> Fabio Giambrone | AE80: ='Team 4'!F77 -> SOLOMON | AF80: ='Team 4'!G77 -> HAWKES | AG80: =CONCATENATE(AE80, " ",AF80) -> SOLOMON HAWKES | AK80: ='Team 5'!F77 -> Hayden | AL80: ='Team 5'!G77 -> Whele | AM80: =CONCATENATE(AK80, " ",AL80) -> Hayden Whele | AQ80: ='Team 6'!F77 -> Macsen | AR80: ='Team 6'!G77 -> Roberts | AS80: =CONCATENATE(AQ80, " ",AR80) -> Macsen Roberts | AW80: ='Team 7'!F77 -> Siddharth | AX80: ='Team 7'!G77 -> Kanjalkar | AY80: =CONCATENATE(AW80, " ",AX80) -> Siddharth Kanjalkar | BC80: ='Team 8'!F77 -> 0 | BD80: ='Team 8'!G77 -> 0 | BE80: =CONCATENATE(BC80, " ",BD80) -> 0 0 | BI80: ='Team 9'!F77 -> 0 | BJ80: ='Team 9'!G77 -> 0 | BK80: =CONCATENATE(BI80, " ",BJ80) -> 0 0 | BO80: ='Team 10'!F77 -> 0 | BP80: ='Team 10'!G77 -> 0 | BQ80: =CONCATENATE(BO80, " ",BP80) -> 0 0 | BS80: =CONCATENATE('Team 1'!$F76, " ",'Team 1'!$G76) | BT80: =CONCATENATE('Team 1'!$F77, " ",'Team 1'!$G77)
K81: 45 | L81: Female 13/U 4 X 50M FREESTYLE RELAY | M81: ='Team 1'!F78 -> Edanur | N81: ='Team 1'!G78 -> Yigit | O81: =CONCATENATE(M81, " ",N81) -> Edanur Yigit | Q81: 45 | R81: Female 13/U 4 X 50M FREESTYLE RELAY | S81: ='Team 2'!F78 -> Gracie | T81: ='Team 2'!G78 -> Fleming-Jacobs | U81: =CONCATENATE(S81, " ",T81) -> Gracie Fleming-Jacobs | W81: 45 | X81: Female 13/U 4 X 50M FREESTYLE RELAY | Y81: ='Team 3'!F78 -> Olivia | Z81: ='Team 3'!G78 -> Croft | AA81: =CONCATENATE(Y81, " ",Z81) -> Olivia Croft | AC81: 45 | AD81: Female 13/U 4 X 50M FREESTYLE RELAY | AE81: ='Team 4'!F78 -> ANNABELLA | AF81: ='Team 4'!G78 -> COJEEN | AG81: =CONCATENATE(AE81, " ",AF81) -> ANNABELLA COJEEN | AI81: 45 | AJ81: Female 13/U 4 X 50M FREESTYLE RELAY | AK81: ='Team 5'!F78 -> Isabelle | AL81: ='Team 5'!G78 -> Reeve | AM81: =CONCATENATE(AK81, " ",AL81) -> Isabelle Reeve | AO81: 45 | AP81: Female 13/U 4 X 50M FREESTYLE RELAY | AQ81: ='Team 6'!F78 -> Polina | AR81: ='Team 6'!G78 -> Fedorova | AS81: =CONCATENATE(AQ81, " ",AR81) -> Polina Fedorova | AU81: 45 | AV81: Female 13/U 4 X 50M FREESTYLE RELAY | AW81: ='Team 7'!F78 -> Vaari | AX81: ='Team 7'!G78 -> Mepani | AY81: =CONCATENATE(AW81, " ",AX81) -> Vaari Mepani | BA81: 45 | BB81: Female 13/U 4 X 50M FREESTYLE RELAY | BC81: ='Team 8'!F78 -> 0 | BD81: ='Team 8'!G78 -> 0 | BE81: =CONCATENATE(BC81, " ",BD81) -> 0 0 | BG81: 45 | BH81: Female 13/U 4 X 50M FREESTYLE RELAY | BI81: ='Team 9'!F78 -> 0 | BJ81: ='Team 9'!G78 -> 0 | BK81: =CONCATENATE(BI81, " ",BJ81) -> 0 0 | BM81: 45 | BN81: Female 13/U 4 X 50M FREESTYLE RELAY | BO81: ='Team 10'!F78 -> 0 | BP81: ='Team 10'!G78 -> 0 | BQ81: =CONCATENATE(BO81, " ",BP81) -> 0 0 | BS81: =CONCATENATE('Team 1'!$F78, " ",'Team 1'!$G78) -> Edanur Yigit | BT81: =CONCATENATE('Team 1'!$F79, " ",'Team 1'!$G79) -> Ane Pedraza-Eguia
M82: ='Team 1'!F79 -> Ane | N82: ='Team 1'!G79 -> Pedraza-Eguia | O82: =CONCATENATE(M82, " ",N82) -> Ane Pedraza-Eguia | S82: ='Team 2'!F79 -> Jasmin | T82: ='Team 2'!G79 -> Hunt | U82: =CONCATENATE(S82, " ",T82) -> Jasmin Hunt | Y82: ='Team 3'!F79 -> Niamh | Z82: ='Team 3'!G79 -> Holland | AA82: =CONCATENATE(Y82, " ",Z82) -> Niamh Holland | AE82: ='Team 4'!F79 -> AVA | AF82: ='Team 4'!G79 -> IANNONE | AG82: =CONCATENATE(AE82, " ",AF82) -> AVA IANNONE | AK82: ='Team 5'!F79 -> Orlagh | AL82: ='Team 5'!G79 -> Northgrave | AM82: =CONCATENATE(AK82, " ",AL82) -> Orlagh Northgrave | AQ82: ='Team 6'!F79 -> Emma | AR82: ='Team 6'!G79 -> Sum | AS82: =CONCATENATE(AQ82, " ",AR82) -> Emma Sum | AW82: ='Team 7'!F79 -> Eliza | AX82: ='Team 7'!G79 -> Mayor | AY82: =CONCATENATE(AW82, " ",AX82) -> Eliza Mayor | BC82: ='Team 8'!F79 -> 0 | BD82: ='Team 8'!G79 -> 0 | BE82: =CONCATENATE(BC82, " ",BD82) -> 0 0 | BI82: ='Team 9'!F79 -> 0 | BJ82: ='Team 9'!G79 -> 0 | BK82: =CONCATENATE(BI82, " ",BJ82) -> 0 0 | BO82: ='Team 10'!F79 -> 0 | BP82: ='Team 10'!G79 -> 0 | BQ82: =CONCATENATE(BO82, " ",BP82) -> 0 0
M83: ='Team 1'!F80 -> Maryla | N83: ='Team 1'!G80 -> Koslacz | O83: =CONCATENATE(M83, " ",N83) -> Maryla Koslacz | S83: ='Team 2'!F80 -> Sophie | T83: ='Team 2'!G80 -> Heraty | U83: =CONCATENATE(S83, " ",T83) -> Sophie Heraty | Y83: ='Team 3'!F80 -> Mia | Z83: ='Team 3'!G80 -> Nelson | AA83: =CONCATENATE(Y83, " ",Z83) -> Mia Nelson | AE83: ='Team 4'!F80 -> FRANCES | AF83: ='Team 4'!G80 -> STARSMORE | AG83: =CONCATENATE(AE83, " ",AF83) -> FRANCES STARSMORE | AK83: ='Team 5'!F80 -> Kayla | AL83: ='Team 5'!G80 -> Paxton | AM83: =CONCATENATE(AK83, " ",AL83) -> Kayla Paxton | AQ83: ='Team 6'!F80 -> Mahika | AR83: ='Team 6'!G80 -> Chandrashekar | AS83: =CONCATENATE(AQ83, " ",AR83) -> Mahika Chandrashekar | AW83: ='Team 7'!F80 -> Maria | AX83: ='Team 7'!G80 -> Tzanidaki | AY83: =CONCATENATE(AW83, " ",AX83) -> Maria Tzanidaki | BC83: ='Team 8'!F80 -> 0 | BD83: ='Team 8'!G80 -> 0 | BE83: =CONCATENATE(BC83, " ",BD83) -> 0 0 | BI83: ='Team 9'!F80 -> 0 | BJ83: ='Team 9'!G80 -> 0 | BK83: =CONCATENATE(BI83, " ",BJ83) -> 0 0 | BO83: ='Team 10'!F80 -> 0 | BP83: ='Team 10'!G80 -> 0 | BQ83: =CONCATENATE(BO83, " ",BP83) -> 0 0
M84: ='Team 1'!F81 -> Amy | N84: ='Team 1'!G81 -> Hanson | O84: =CONCATENATE(M84, " ",N84) -> Amy Hanson | S84: ='Team 2'!F81 -> Ruby | T84: ='Team 2'!G81 -> Whitby | U84: =CONCATENATE(S84, " ",T84) -> Ruby Whitby | Y84: ='Team 3'!F81 -> Maya | Z84: ='Team 3'!G81 -> Robu | AA84: =CONCATENATE(Y84, " ",Z84) -> Maya Robu | AE84: ='Team 4'!F81 -> ISLA | AF84: ='Team 4'!G81 -> MOHAMMED | AG84: =CONCATENATE(AE84, " ",AF84) -> ISLA MOHAMMED | AK84: ='Team 5'!F81 -> Aimee | AL84: ='Team 5'!G81 -> Baker | AM84: =CONCATENATE(AK84, " ",AL84) -> Aimee Baker | AQ84: ='Team 6'!F81 -> Miraya | AR84: ='Team 6'!G81 -> Patel | AS84: =CONCATENATE(AQ84, " ",AR84) -> Miraya Patel | AW84: ='Team 7'!F81 -> Mia | AX84: ='Team 7'!G81 -> Curle | AY84: =CONCATENATE(AW84, " ",AX84) -> Mia Curle | BC84: ='Team 8'!F81 -> 0 | BD84: ='Team 8'!G81 -> 0 | BE84: =CONCATENATE(BC84, " ",BD84) -> 0 0 | BI84: ='Team 9'!F81 -> 0 | BJ84: ='Team 9'!G81 -> 0 | BK84: =CONCATENATE(BI84, " ",BJ84) -> 0 0 | BO84: ='Team 10'!F81 -> 0 | BP84: ='Team 10'!G81 -> 0 | BQ84: =CONCATENATE(BO84, " ",BP84) -> 0 0 | BS84: =CONCATENATE('Team 1'!$F80, " ",'Team 1'!$G80) -> Maryla Koslacz | BT84: =CONCATENATE('Team 1'!$F81, " ",'Team 1'!$G81) -> Amy Hanson
K85: 46 | L85: Open/Male 13/U 4 X 50M FREESTYLE RELAY | M85: ='Team 1'!F82 -> Ned Peter | N85: ='Team 1'!G82 -> Andrews | O85: =CONCATENATE(M85, " ",N85) -> Ned Peter Andrews | Q85: 46 | R85: Open/Male 13/U 4 X 50M FREESTYLE RELAY | S85: ='Team 2'!F82 -> Oliver | T85: ='Team 2'!G82 -> Tubridy | U85: =CONCATENATE(S85, " ",T85) -> Oliver Tubridy | W85: 46 | X85: Open/Male 13/U 4 X 50M FREESTYLE RELAY | Y85: ='Team 3'!F82 -> Mikhail | Z85: ='Team 3'!G82 -> Zharinov | AA85: =CONCATENATE(Y85, " ",Z85) -> Mikhail Zharinov | AC85: 46 | AD85: Open/Male 13/U 4 X 50M FREESTYLE RELAY | AE85: ='Team 4'!F82 -> RILEY | AF85: ='Team 4'!G82 -> BUNCE | AG85: =CONCATENATE(AE85, " ",AF85) -> RILEY BUNCE | AI85: 46 | AJ85: Open/Male 13/U 4 X 50M FREESTYLE RELAY | AK85: ='Team 5'!F82 -> Bradley | AL85: ='Team 5'!G82 -> Rawlinson | AM85: =CONCATENATE(AK85, " ",AL85) -> Bradley Rawlinson | AO85: 46 | AP85: Open/Male 13/U 4 X 50M FREESTYLE RELAY | AQ85: ='Team 6'!F82 -> Petros | AR85: ='Team 6'!G82 -> Soteriou | AS85: =CONCATENATE(AQ85, " ",AR85) -> Petros Soteriou | AU85: 46 | AV85: Open/Male 13/U 4 X 50M FREESTYLE RELAY | AW85: ='Team 7'!F82 -> Daniel | AX85: ='Team 7'!G82 -> Celi | AY85: =CONCATENATE(AW85, " ",AX85) -> Daniel Celi | BA85: 46 | BB85: Open/Male 13/U 4 X 50M FREESTYLE RELAY | BC85: ='Team 8'!F82 -> 0 | BD85: ='Team 8'!G82 -> 0 | BE85: =CONCATENATE(BC85, " ",BD85) -> 0 0 | BG85: 46 | BH85: Open/Male 13/U 4 X 50M FREESTYLE RELAY | BI85: ='Team 9'!F82 -> 0 | BJ85: ='Team 9'!G82 -> 0 | BK85: =CONCATENATE(BI85, " ",BJ85) -> 0 0 | BM85: 46 | BN85: Open/Male 13/U 4 X 50M FREESTYLE RELAY | BO85: ='Team 10'!F82 -> 0 | BP85: ='Team 10'!G82 -> 0 | BQ85: =CONCATENATE(BO85, " ",BP85) -> 0 0 | BS85: =CONCATENATE('Team 1'!$F82, " ",'Team 1'!$G82) -> Ned Peter Andrews | BT85: =CONCATENATE('Team 1'!$F83, " ",'Team 1'!$G83) -> Albert Nezha
M86: ='Team 1'!F83 -> Albert | N86: ='Team 1'!G83 -> Nezha | O86: =CONCATENATE(M86, " ",N86) -> Albert Nezha | S86: ='Team 2'!F83 -> Alex | T86: ='Team 2'!G83 -> Cash | U86: =CONCATENATE(S86, " ",T86) -> Alex Cash | Y86: ='Team 3'!F83 -> Ewan | Z86: ='Team 3'!G83 -> Thompson | AA86: =CONCATENATE(Y86, " ",Z86) -> Ewan Thompson | AE86: ='Team 4'!F83 -> SAMUEL | AF86: ='Team 4'!G83 -> ROSA | AG86: =CONCATENATE(AE86, " ",AF86) -> SAMUEL ROSA | AK86: ='Team 5'!F83 -> Benjamin | AL86: ='Team 5'!G83 -> Holland | AM86: =CONCATENATE(AK86, " ",AL86) -> Benjamin Holland | AQ86: ='Team 6'!F83 -> Gert | AR86: ='Team 6'!G83 -> Zeqiri | AS86: =CONCATENATE(AQ86, " ",AR86) -> Gert Zeqiri | AW86: ='Team 7'!F83 -> Nikhil | AX86: ='Team 7'!G83 -> Dawett | AY86: =CONCATENATE(AW86, " ",AX86) -> Nikhil Dawett | BC86: ='Team 8'!F83 -> 0 | BD86: ='Team 8'!G83 -> 0 | BE86: =CONCATENATE(BC86, " ",BD86) -> 0 0 | BI86: ='Team 9'!F83 -> 0 | BJ86: ='Team 9'!G83 -> 0 | BK86: =CONCATENATE(BI86, " ",BJ86) -> 0 0 | BO86: ='Team 10'!F83 -> 0 | BP86: ='Team 10'!G83 -> 0 | BQ86: =CONCATENATE(BO86, " ",BP86) -> 0 0
M87: ='Team 1'!F84 -> Zente | N87: ='Team 1'!G84 -> Buzsik | O87: =CONCATENATE(M87, " ",N87) -> Zente Buzsik | S87: ='Team 2'!F84 -> Joseph | T87: ='Team 2'!G84 -> Bagshaw | U87: =CONCATENATE(S87, " ",T87) -> Joseph Bagshaw | Y87: ='Team 3'!F84 -> Luigi | Z87: ='Team 3'!G84 -> Giambrone | AA87: =CONCATENATE(Y87, " ",Z87) -> Luigi Giambrone | AE87: ='Team 4'!F84 -> JAMES | AF87: ='Team 4'!G84 -> MOHAMMED | AG87: =CONCATENATE(AE87, " ",AF87) -> JAMES MOHAMMED | AK87: ='Team 5'!F84 -> Liam | AL87: ='Team 5'!G84 -> Hurst | AM87: =CONCATENATE(AK87, " ",AL87) -> Liam Hurst | AQ87: ='Team 6'!F84 -> Cosmin Ioan | AR87: ='Team 6'!G84 -> Iojan | AS87: =CONCATENATE(AQ87, " ",AR87) -> Cosmin Ioan Iojan | AW87: ='Team 7'!F84 -> Advay | AX87: ='Team 7'!G84 -> Bhatia | AY87: =CONCATENATE(AW87, " ",AX87) -> Advay Bhatia | BC87: ='Team 8'!F84 -> 0 | BD87: ='Team 8'!G84 -> 0 | BE87: =CONCATENATE(BC87, " ",BD87) -> 0 0 | BI87: ='Team 9'!F84 -> 0 | BJ87: ='Team 9'!G84 -> 0 | BK87: =CONCATENATE(BI87, " ",BJ87) -> 0 0 | BO87: ='Team 10'!F84 -> 0 | BP87: ='Team 10'!G84 -> 0 | BQ87: =CONCATENATE(BO87, " ",BP87) -> 0 0
M88: ='Team 1'!F85 -> Yigit | N88: ='Team 1'!G85 -> Ilhan | O88: =CONCATENATE(M88, " ",N88) -> Yigit Ilhan | S88: ='Team 2'!F85 -> Charlie | T88: ='Team 2'!G85 -> Pritchard | U88: =CONCATENATE(S88, " ",T88) -> Charlie Pritchard | Y88: ='Team 3'!F85 -> Ryan | Z88: ='Team 3'!G85 -> Wimpenny | AA88: =CONCATENATE(Y88, " ",Z88) -> Ryan Wimpenny | AE88: ='Team 4'!F85 -> ROWAN | AF88: ='Team 4'!G85 -> FULLER | AG88: =CONCATENATE(AE88, " ",AF88) -> ROWAN FULLER | AK88: ='Team 5'!F85 -> Poyraz | AL88: ='Team 5'!G85 -> Akbiyik | AM88: =CONCATENATE(AK88, " ",AL88) -> Poyraz Akbiyik | AQ88: ='Team 6'!F85 -> Dragos | AR88: ='Team 6'!G85 -> Musteate | AS88: =CONCATENATE(AQ88, " ",AR88) -> Dragos Musteate | AW88: ='Team 7'!F85 -> Bruno | AX88: ='Team 7'!G85 -> Francisco | AY88: =CONCATENATE(AW88, " ",AX88) -> Bruno Francisco | BC88: ='Team 8'!F85 -> 0 | BD88: ='Team 8'!G85 -> 0 | BE88: =CONCATENATE(BC88, " ",BD88) -> 0 0 | BI88: ='Team 9'!F85 -> 0 | BJ88: ='Team 9'!G85 -> 0 | BK88: =CONCATENATE(BI88, " ",BJ88) -> 0 0 | BO88: ='Team 10'!F85 -> 0 | BP88: ='Team 10'!G85 -> 0 | BQ88: =CONCATENATE(BO88, " ",BP88) -> 0 0 | BS88: =CONCATENATE('Team 1'!$F84, " ",'Team 1'!$G84) -> Zente Buzsik | BT88: =CONCATENATE('Team 1'!$F85, " ",'Team 1'!$G85) -> Yigit Ilhan
K89: 47 | L89: Female 15/U 4 X 50M MEDLEY RELAY | M89: ='Team 1'!F86 -> Shreya | N89: ='Team 1'!G86 -> Bavishi | O89: =CONCATENATE(M89, " ",N89) -> Shreya Bavishi | Q89: 47 | R89: Female 15/U 4 X 50M MEDLEY RELAY | S89: ='Team 2'!F86 -> Daisy | T89: ='Team 2'!G86 -> Harradine | U89: =CONCATENATE(S89, " ",T89) -> Daisy Harradine | W89: 47 | X89: Female 15/U 4 X 50M MEDLEY RELAY | Y89: ='Team 3'!F86 -> Jessica | Z89: ='Team 3'!G86 -> MacKenzie | AA89: =CONCATENATE(Y89, " ",Z89) -> Jessica MacKenzie | AC89: 47 | AD89: Female 15/U 4 X 50M MEDLEY RELAY | AE89: ='Team 4'!F86 -> MEGAN | AF89: ='Team 4'!G86 -> JOHNSON | AG89: =CONCATENATE(AE89, " ",AF89) -> MEGAN JOHNSON | AI89: 47 | AJ89: Female 15/U 4 X 50M MEDLEY RELAY | AK89: ='Team 5'!F86 -> Hollie | AL89: ='Team 5'!G86 -> Heighes | AM89: =CONCATENATE(AK89, " ",AL89) -> Hollie Heighes | AO89: 47 | AP89: Female 15/U 4 X 50M MEDLEY RELAY | AQ89: ='Team 6'!F86 -> Mina | AR89: ='Team 6'!G86 -> Safahe | AS89: =CONCATENATE(AQ89, " ",AR89) -> Mina Safahe | AU89: 47 | AV89: Female 15/U 4 X 50M MEDLEY RELAY | AW89: ='Team 7'!F86 -> Keanna | AX89: ='Team 7'!G86 -> Roets | AY89: =CONCATENATE(AW89, " ",AX89) -> Keanna Roets | BA89: 47 | BB89: Female 15/U 4 X 50M MEDLEY RELAY | BC89: ='Team 8'!F86 -> 0 | BD89: ='Team 8'!G86 -> 0 | BE89: =CONCATENATE(BC89, " ",BD89) -> 0 0 | BG89: 47 | BH89: Female 15/U 4 X 50M MEDLEY RELAY | BI89: ='Team 9'!F86 -> 0 | BJ89: ='Team 9'!G86 -> 0 | BK89: =CONCATENATE(BI89, " ",BJ89) -> 0 0 | BM89: 47 | BN89: Female 15/U 4 X 50M MEDLEY RELAY | BO89: ='Team 10'!F86 -> 0 | BP89: ='Team 10'!G86 -> 0 | BQ89: =CONCATENATE(BO89, " ",BP89) -> 0 0 | BS89: =CONCATENATE('Team 1'!$F86, " ",'Team 1'!$G86) -> Shreya Bavishi | BT89: =CONCATENATE('Team 1'!$F87, " ",'Team 1'!$G87) -> Taisia Flury
M90: ='Team 1'!F87 -> Taisia | N90: ='Team 1'!G87 -> Flury | O90: =CONCATENATE(M90, " ",N90) -> Taisia Flury | S90: ='Team 2'!F87 -> Jasmin | T90: ='Team 2'!G87 -> Hunt | U90: =CONCATENATE(S90, " ",T90) -> Jasmin Hunt | Y90: ='Team 3'!F87 -> Molly | Z90: ='Team 3'!G87 -> Bartup | AA90: =CONCATENATE(Y90, " ",Z90) -> Molly Bartup | AE90: ='Team 4'!F87 -> ZAHRA | AF90: ='Team 4'!G87 -> WALLER | AG90: =CONCATENATE(AE90, " ",AF90) -> ZAHRA WALLER | AK90: ='Team 5'!F87 -> Esmee | AL90: ='Team 5'!G87 -> Reeve | AM90: =CONCATENATE(AK90, " ",AL90) -> Esmee Reeve | AQ90: ='Team 6'!F87 -> Laura | AR90: ='Team 6'!G87 -> Leksander | AS90: =CONCATENATE(AQ90, " ",AR90) -> Laura Leksander | AW90: ='Team 7'!F87 -> Keira | AX90: ='Team 7'!G87 -> Brannigan | AY90: =CONCATENATE(AW90, " ",AX90) -> Keira Brannigan | BC90: ='Team 8'!F87 -> 0 | BD90: ='Team 8'!G87 -> 0 | BE90: =CONCATENATE(BC90, " ",BD90) -> 0 0 | BI90: ='Team 9'!F87 -> 0 | BJ90: ='Team 9'!G87 -> 0 | BK90: =CONCATENATE(BI90, " ",BJ90) -> 0 0 | BO90: ='Team 10'!F87 -> 0 | BP90: ='Team 10'!G87 -> 0 | BQ90: =CONCATENATE(BO90, " ",BP90) -> 0 0
M91: ='Team 1'!F88 -> Zoe | N91: ='Team 1'!G88 -> Panayi | O91: =CONCATENATE(M91, " ",N91) -> Zoe Panayi | S91: ='Team 2'!F88 -> Charlotte | T91: ='Team 2'!G88 -> Lyon | U91: =CONCATENATE(S91, " ",T91) -> Charlotte Lyon | Y91: ='Team 3'!F88 -> Hannah | Z91: ='Team 3'!G88 -> Lovelock | AA91: =CONCATENATE(Y91, " ",Z91) -> Hannah Lovelock | AE91: ='Team 4'!F88 -> ANNABELLA | AF91: ='Team 4'!G88 -> COJEEN | AG91: =CONCATENATE(AE91, " ",AF91) -> ANNABELLA COJEEN | AK91: ='Team 5'!F88 -> Mia | AL91: ='Team 5'!G88 -> Macklin | AM91: =CONCATENATE(AK91, " ",AL91) -> Mia Macklin | AQ91: ='Team 6'!F88 -> Crina Stefania | AR91: ='Team 6'!G88 -> Bostan | AS91: =CONCATENATE(AQ91, " ",AR91) -> Crina Stefania Bostan | AW91: ='Team 7'!F88 -> Jessica | AX91: ='Team 7'!G88 -> Sharp | AY91: =CONCATENATE(AW91, " ",AX91) -> Jessica Sharp | BC91: ='Team 8'!F88 -> 0 | BD91: ='Team 8'!G88 -> 0 | BE91: =CONCATENATE(BC91, " ",BD91) -> 0 0 | BI91: ='Team 9'!F88 -> 0 | BJ91: ='Team 9'!G88 -> 0 | BK91: =CONCATENATE(BI91, " ",BJ91) -> 0 0 | BO91: ='Team 10'!F88 -> 0 | BP91: ='Team 10'!G88 -> 0 | BQ91: =CONCATENATE(BO91, " ",BP91) -> 0 0
M92: ='Team 1'!F89 -> Emily | N92: ='Team 1'!G89 -> Hudszky | O92: =CONCATENATE(M92, " ",N92) -> Emily Hudszky | S92: ='Team 2'!F89 -> Sophie | T92: ='Team 2'!G89 -> Stelmach | U92: =CONCATENATE(S92, " ",T92) -> Sophie Stelmach | Y92: ='Team 3'!F89 -> Isabel | Z92: ='Team 3'!G89 -> Mullings | AA92: =CONCATENATE(Y92, " ",Z92) -> Isabel Mullings | AE92: ='Team 4'!F89 -> ABIGAIL | AF92: ='Team 4'!G89 -> JOHNSON | AG92: =CONCATENATE(AE92, " ",AF92) -> ABIGAIL JOHNSON | AK92: ='Team 5'!F89 -> Francesca | AL92: ='Team 5'!G89 -> Baker | AM92: =CONCATENATE(AK92, " ",AL92) -> Francesca Baker | AQ92: ='Team 6'!F89 -> Alice | AR92: ='Team 6'!G89 -> Sharrock | AS92: =CONCATENATE(AQ92, " ",AR92) -> Alice Sharrock | AW92: ='Team 7'!F89 -> Vaari | AX92: ='Team 7'!G89 -> Mepani | AY92: =CONCATENATE(AW92, " ",AX92) -> Vaari Mepani | BC92: ='Team 8'!F89 -> 0 | BD92: ='Team 8'!G89 -> 0 | BE92: =CONCATENATE(BC92, " ",BD92) -> 0 0 | BI92: ='Team 9'!F89 -> 0 | BJ92: ='Team 9'!G89 -> 0 | BK92: =CONCATENATE(BI92, " ",BJ92) -> 0 0 | BO92: ='Team 10'!F89 -> 0 | BP92: ='Team 10'!G89 -> 0 | BQ92: =CONCATENATE(BO92, " ",BP92) -> 0 0 | BS92: =CONCATENATE('Team 1'!$F88, " ",'Team 1'!$G88) -> Zoe Panayi | BT92: =CONCATENATE('Team 1'!$F89, " ",'Team 1'!$G89) -> Emily Hudszky
K93: 48 | L93: Open/Male 15/U 4 X 50M MEDLEY RELAY | M93: ='Team 1'!F90 -> Zalan | N93: ='Team 1'!G90 -> Tornay | O93: =CONCATENATE(M93, " ",N93) -> Zalan Tornay | Q93: 48 | R93: Open/Male 15/U 4 X 50M MEDLEY RELAY | S93: ='Team 2'!F90 -> Alexander | T93: ='Team 2'!G90 -> Gregory | U93: =CONCATENATE(S93, " ",T93) -> Alexander Gregory | W93: 48 | X93: Open/Male 15/U 4 X 50M MEDLEY RELAY | Y93: ='Team 3'!F90 -> Alfie | Z93: ='Team 3'!G90 -> Bullock | AA93: =CONCATENATE(Y93, " ",Z93) -> Alfie Bullock | AC93: 48 | AD93: Open/Male 15/U 4 X 50M MEDLEY RELAY | AE93: ='Team 4'!F90 -> CHARLES | AF93: ='Team 4'!G90 -> RAINES | AG93: =CONCATENATE(AE93, " ",AF93) -> CHARLES RAINES | AI93: 48 | AJ93: Open/Male 15/U 4 X 50M MEDLEY RELAY | AK93: ='Team 5'!F90 -> Albert | AL93: ='Team 5'!G90 -> Orley | AM93: =CONCATENATE(AK93, " ",AL93) -> Albert Orley | AO93: 48 | AP93: Open/Male 15/U 4 X 50M MEDLEY RELAY | AQ93: ='Team 6'!F90 -> Gianluca | AR93: ='Team 6'!G90 -> Safahe | AS93: =CONCATENATE(AQ93, " ",AR93) -> Gianluca Safahe | AU93: 48 | AV93: Open/Male 15/U 4 X 50M MEDLEY RELAY | AW93: ='Team 7'!F90 -> Tsz Kwai | AX93: ='Team 7'!G90 -> Chan | AY93: =CONCATENATE(AW93, " ",AX93) -> Tsz Kwai Chan | BA93: 48 | BB93: Open/Male 15/U 4 X 50M MEDLEY RELAY | BC93: ='Team 8'!F90 -> 0 | BD93: ='Team 8'!G90 -> 0 | BE93: =CONCATENATE(BC93, " ",BD93) -> 0 0 | BG93: 48 | BH93: Open/Male 15/U 4 X 50M MEDLEY RELAY | BI93: ='Team 9'!F90 -> 0 | BJ93: ='Team 9'!G90 -> 0 | BK93: =CONCATENATE(BI93, " ",BJ93) -> 0 0 | BM93: 48 | BN93: Open/Male 15/U 4 X 50M MEDLEY RELAY | BO93: ='Team 10'!F90 -> 0 | BP93: ='Team 10'!G90 -> 0 | BQ93: =CONCATENATE(BO93, " ",BP93) -> 0 0 | BS93: =CONCATENATE('Team 1'!$F90, " ",'Team 1'!$G90) -> Zalan Tornay | BT93: =CONCATENATE('Team 1'!$F91, " ",'Team 1'!$G91) -> Michael Manassero
M94: ='Team 1'!F91 -> Michael | N94: ='Team 1'!G91 -> Manassero | O94: =CONCATENATE(M94, " ",N94) -> Michael Manassero | S94: ='Team 2'!F91 -> Samuel | T94: ='Team 2'!G91 -> Heraty | U94: =CONCATENATE(S94, " ",T94) -> Samuel Heraty | Y94: ='Team 3'!F91 -> Theo | Z94: ='Team 3'!G91 -> Smith | AA94: =CONCATENATE(Y94, " ",Z94) -> Theo Smith | AE94: ='Team 4'!F91 -> MAKSYMILIAN | AF94: ='Team 4'!G91 -> WOZNICKI | AG94: =CONCATENATE(AE94, " ",AF94) -> MAKSYMILIAN WOZNICKI | AK94: ='Team 5'!F91 -> Nathaniel | AL94: ='Team 5'!G91 -> Coburn | AM94: =CONCATENATE(AK94, " ",AL94) -> Nathaniel Coburn | AQ94: ='Team 6'!F91 -> Owen | AR94: ='Team 6'!G91 -> Roberts | AS94: =CONCATENATE(AQ94, " ",AR94) -> Owen Roberts | AW94: ='Team 7'!F91 -> Advay | AX94: ='Team 7'!G91 -> Bhatia | AY94: =CONCATENATE(AW94, " ",AX94) -> Advay Bhatia | BC94: ='Team 8'!F91 -> 0 | BD94: ='Team 8'!G91 -> 0 | BE94: =CONCATENATE(BC94, " ",BD94) -> 0 0 | BI94: ='Team 9'!F91 -> 0 | BJ94: ='Team 9'!G91 -> 0 | BK94: =CONCATENATE(BI94, " ",BJ94) -> 0 0 | BO94: ='Team 10'!F91 -> 0 | BP94: ='Team 10'!G91 -> 0 | BQ94: =CONCATENATE(BO94, " ",BP94) -> 0 0
M95: ='Team 1'!F92 -> Ned Peter | N95: ='Team 1'!G92 -> Andrews | O95: =CONCATENATE(M95, " ",N95) -> Ned Peter Andrews | S95: ='Team 2'!F92 -> John | T95: ='Team 2'!G92 -> Langdon | U95: =CONCATENATE(S95, " ",T95) -> John Langdon | Y95: ='Team 3'!F92 -> Mikhail | Z95: ='Team 3'!G92 -> Zharinov | AA95: =CONCATENATE(Y95, " ",Z95) -> Mikhail Zharinov | AE95: ='Team 4'!F92 -> RAFI | AF95: ='Team 4'!G92 -> GIBSON | AG95: =CONCATENATE(AE95, " ",AF95) -> RAFI GIBSON | AK95: ='Team 5'!F92 -> Joshua | AL95: ='Team 5'!G92 -> Parker | AM95: =CONCATENATE(AK95, " ",AL95) -> Joshua Parker | AQ95: ='Team 6'!F92 -> Louis | AR95: ='Team 6'!G92 -> Waissman | AS95: =CONCATENATE(AQ95, " ",AR95) -> Louis Waissman | AW95: ='Team 7'!F92 -> Aaran | AX95: ='Team 7'!G92 -> Parmar | AY95: =CONCATENATE(AW95, " ",AX95) -> Aaran Parmar | BC95: ='Team 8'!F92 -> 0 | BD95: ='Team 8'!G92 -> 0 | BE95: =CONCATENATE(BC95, " ",BD95) -> 0 0 | BI95: ='Team 9'!F92 -> 0 | BJ95: ='Team 9'!G92 -> 0 | BK95: =CONCATENATE(BI95, " ",BJ95) -> 0 0 | BO95: ='Team 10'!F92 -> 0 | BP95: ='Team 10'!G92 -> 0 | BQ95: =CONCATENATE(BO95, " ",BP95) -> 0 0
M96: ='Team 1'!F93 -> Zente | N96: ='Team 1'!G93 -> Buzsik | O96: =CONCATENATE(M96, " ",N96) -> Zente Buzsik | S96: ='Team 2'!F93 -> Daniel | T96: ='Team 2'!G93 -> Humphreys | U96: =CONCATENATE(S96, " ",T96) -> Daniel Humphreys | Y96: ='Team 3'!F93 -> Ewan | Z96: ='Team 3'!G93 -> Thompson | AA96: =CONCATENATE(Y96, " ",Z96) -> Ewan Thompson | AE96: ='Team 4'!F93 -> SEBASTIAN | AF96: ='Team 4'!G93 -> BROWN | AG96: =CONCATENATE(AE96, " ",AF96) -> SEBASTIAN BROWN | AK96: ='Team 5'!F93 -> Daniel | AL96: ='Team 5'!G93 -> Pirie | AM96: =CONCATENATE(AK96, " ",AL96) -> Daniel Pirie | AQ96: ='Team 6'!F93 -> Gabriel | AR96: ='Team 6'!G93 -> Rebelo | AS96: =CONCATENATE(AQ96, " ",AR96) -> Gabriel Rebelo | AW96: ='Team 7'!F93 -> Daniel | AX96: ='Team 7'!G93 -> Celi | AY96: =CONCATENATE(AW96, " ",AX96) -> Daniel Celi | BC96: ='Team 8'!F93 -> 0 | BD96: ='Team 8'!G93 -> 0 | BE96: =CONCATENATE(BC96, " ",BD96) -> 0 0 | BI96: ='Team 9'!F93 -> 0 | BJ96: ='Team 9'!G93 -> 0 | BK96: =CONCATENATE(BI96, " ",BJ96) -> 0 0 | BO96: ='Team 10'!F93 -> 0 | BP96: ='Team 10'!G93 -> 0 | BQ96: =CONCATENATE(BO96, " ",BP96) -> 0 0 | BS96: =CONCATENATE('Team 1'!$F92, " ",'Team 1'!$G92) -> Ned Peter Andrews | BT96: =CONCATENATE('Team 1'!$F93, " ",'Team 1'!$G93) -> Zente Buzsik
K97: 49 | L97: Female 16+ 4 X 50M FREESTYLE RELAY | M97: ='Team 1'!F94 -> Isabel | N97: ='Team 1'!G94 -> Spyrou | O97: =CONCATENATE(M97, " ",N97) -> Isabel Spyrou | Q97: 49 | R97: Female 16+ 4 X 50M FREESTYLE RELAY | S97: ='Team 2'!F94 -> Lucy | T97: ='Team 2'!G94 -> Crocker | U97: =CONCATENATE(S97, " ",T97) -> Lucy Crocker | W97: 49 | X97: Female 16+ 4 X 50M FREESTYLE RELAY | Y97: ='Team 3'!F94 -> Sophie | Z97: ='Team 3'!G94 -> Clark | AA97: =CONCATENATE(Y97, " ",Z97) -> Sophie Clark | AC97: 49 | AD97: Female 16+ 4 X 50M FREESTYLE RELAY | AE97: ='Team 4'!F94 -> LUCY | AF97: ='Team 4'!G94 -> BURNHAM | AG97: =CONCATENATE(AE97, " ",AF97) -> LUCY BURNHAM | AI97: 49 | AJ97: Female 16+ 4 X 50M FREESTYLE RELAY | AK97: ='Team 5'!F94 -> Lily | AL97: ='Team 5'!G94 -> Threadgold | AM97: =CONCATENATE(AK97, " ",AL97) -> Lily Threadgold | AO97: 49 | AP97: Female 16+ 4 X 50M FREESTYLE RELAY | AQ97: ='Team 6'!F94 -> Esha | AR97: ='Team 6'!G94 -> Patel | AS97: =CONCATENATE(AQ97, " ",AR97) -> Esha Patel | AU97: 49 | AV97: Female 16+ 4 X 50M FREESTYLE RELAY | AW97: ='Team 7'!F94 -> Aoife | AX97: ='Team 7'!G94 -> O'Leary | AY97: =CONCATENATE(AW97, " ",AX97) -> Aoife O'Leary | BA97: 49 | BB97: Female 16+ 4 X 50M FREESTYLE RELAY | BC97: ='Team 8'!F94 -> 0 | BD97: ='Team 8'!G94 -> 0 | BE97: =CONCATENATE(BC97, " ",BD97) -> 0 0 | BG97: 49 | BH97: Female 16+ 4 X 50M FREESTYLE RELAY | BI97: ='Team 9'!F94 -> 0 | BJ97: ='Team 9'!G94 -> 0 | BK97: =CONCATENATE(BI97, " ",BJ97) -> 0 0 | BM97: 49 | BN97: Female 16+ 4 X 50M FREESTYLE RELAY | BO97: ='Team 10'!F94 -> 0 | BP97: ='Team 10'!G94 -> 0 | BQ97: =CONCATENATE(BO97, " ",BP97) -> 0 0 | BS97: =CONCATENATE('Team 1'!$F94, " ",'Team 1'!$G94) -> Isabel Spyrou | BT97: =CONCATENATE('Team 1'!$F95, " ",'Team 1'!$G95) -> Bianca Gomez-Velasco
M98: ='Team 1'!F95 -> Bianca | N98: ='Team 1'!G95 -> Gomez-Velasco | O98: =CONCATENATE(M98, " ",N98) -> Bianca Gomez-Velasco | S98: ='Team 2'!F95 -> Charlotte | T98: ='Team 2'!G95 -> Lyon | U98: =CONCATENATE(S98, " ",T98) -> Charlotte Lyon | Y98: ='Team 3'!F95 -> Grace | Z98: ='Team 3'!G95 -> Sofokleous-Ames | AA98: =CONCATENATE(Y98, " ",Z98) -> Grace Sofokleous-Ames | AE98: ='Team 4'!F95 -> LIBBY | AF98: ='Team 4'!G95 -> BLISSETT | AG98: =CONCATENATE(AE98, " ",AF98) -> LIBBY BLISSETT | AK98: ='Team 5'!F95 -> Kathryn | AL98: ='Team 5'!G95 -> Edwards | AM98: =CONCATENATE(AK98, " ",AL98) -> Kathryn Edwards | AQ98: ='Team 6'!F95 -> Alice | AR98: ='Team 6'!G95 -> Sharrock | AS98: =CONCATENATE(AQ98, " ",AR98) -> Alice Sharrock | AW98: ='Team 7'!F95 -> Laura | AX98: ='Team 7'!G95 -> Hibberd | AY98: =CONCATENATE(AW98, " ",AX98) -> Laura Hibberd | BC98: ='Team 8'!F95 -> 0 | BD98: ='Team 8'!G95 -> 0 | BE98: =CONCATENATE(BC98, " ",BD98) -> 0 0 | BI98: ='Team 9'!F95 -> 0 | BJ98: ='Team 9'!G95 -> 0 | BK98: =CONCATENATE(BI98, " ",BJ98) -> 0 0 | BO98: ='Team 10'!F95 -> 0 | BP98: ='Team 10'!G95 -> 0 | BQ98: =CONCATENATE(BO98, " ",BP98) -> 0 0 | BS98: =CONCATENATE('Team 1'!$F96, " ",'Team 1'!$G96) -> Charlotte Skinner | BT98: =CONCATENATE('Team 1'!$F97, " ",'Team 1'!$G97) -> Maja Grzybek
M99: ='Team 1'!F96 -> Charlotte | N99: ='Team 1'!G96 -> Skinner | O99: =CONCATENATE(M99, " ",N99) -> Charlotte Skinner | S99: ='Team 2'!F96 -> Madeleine | T99: ='Team 2'!G96 -> Bailiss | U99: =CONCATENATE(S99, " ",T99) -> Madeleine Bailiss | Y99: ='Team 3'!F96 -> Charlotte | Z99: ='Team 3'!G96 -> Brakenbury | AA99: =CONCATENATE(Y99, " ",Z99) -> Charlotte Brakenbury | AE99: ='Team 4'!F96 -> HANNAH | AF99: ='Team 4'!G96 -> BOLTON | AG99: =CONCATENATE(AE99, " ",AF99) -> HANNAH BOLTON | AK99: ='Team 5'!F96 -> Marcie | AL99: ='Team 5'!G96 -> Aley | AM99: =CONCATENATE(AK99, " ",AL99) -> Marcie Aley | AQ99: ='Team 6'!F96 -> Hannah | AR99: ='Team 6'!G96 -> Barrios | AS99: =CONCATENATE(AQ99, " ",AR99) -> Hannah Barrios | AW99: ='Team 7'!F96 -> Kayla | AX99: ='Team 7'!G96 -> Van Zyl | AY99: =CONCATENATE(AW99, " ",AX99) -> Kayla Van Zyl | BC99: ='Team 8'!F96 -> 0 | BD99: ='Team 8'!G96 -> 0 | BE99: =CONCATENATE(BC99, " ",BD99) -> 0 0 | BI99: ='Team 9'!F96 -> 0 | BJ99: ='Team 9'!G96 -> 0 | BK99: =CONCATENATE(BI99, " ",BJ99) -> 0 0 | BO99: ='Team 10'!F96 -> 0 | BP99: ='Team 10'!G96 -> 0 | BQ99: =CONCATENATE(BO99, " ",BP99) -> 0 0
M100: ='Team 1'!F97 -> Maja | N100: ='Team 1'!G97 -> Grzybek | O100: =CONCATENATE(M100, " ",N100) -> Maja Grzybek | S100: ='Team 2'!F97 -> Sophie | T100: ='Team 2'!G97 -> Lyon | U100: =CONCATENATE(S100, " ",T100) -> Sophie Lyon | Y100: ='Team 3'!F97 -> Isabel | Z100: ='Team 3'!G97 -> Mullings | AA100: =CONCATENATE(Y100, " ",Z100) -> Isabel Mullings | AE100: ='Team 4'!F97 -> AMBER | AF100: ='Team 4'!G97 -> CURTIS | AG100: =CONCATENATE(AE100, " ",AF100) -> AMBER CURTIS | AK100: ='Team 5'!F97 -> Isabelle | AL100: ='Team 5'!G97 -> Talbot | AM100: =CONCATENATE(AK100, " ",AL100) -> Isabelle Talbot | AQ100: ='Team 6'!F97 -> Laura | AR100: ='Team 6'!G97 -> Leksander | AS100: =CONCATENATE(AQ100, " ",AR100) -> Laura Leksander | AW100: ='Team 7'!F97 -> Jessica | AX100: ='Team 7'!G97 -> Sharp | AY100: =CONCATENATE(AW100, " ",AX100) -> Jessica Sharp | BC100: ='Team 8'!F97 -> 0 | BD100: ='Team 8'!G97 -> 0 | BE100: =CONCATENATE(BC100, " ",BD100) -> 0 0 | BI100: ='Team 9'!F97 -> 0 | BJ100: ='Team 9'!G97 -> 0 | BK100: =CONCATENATE(BI100, " ",BJ100) -> 0 0 | BO100: ='Team 10'!F97 -> 0 | BP100: ='Team 10'!G97 -> 0 | BQ100: =CONCATENATE(BO100, " ",BP100) -> 0 0
K101: 50 | L101: Open/Male 16+ 4 X 50M FREESTYLE RELAY | M101: ='Team 1'!F98 -> Michael | N101: ='Team 1'!G98 -> Manassero | O101: =CONCATENATE(M101, " ",N101) -> Michael Manassero | Q101: 50 | R101: Open/Male 16+ 4 X 50M FREESTYLE RELAY | S101: ='Team 2'!F98 -> Harry | T101: ='Team 2'!G98 -> Chapman | U101: =CONCATENATE(S101, " ",T101) -> Harry Chapman | W101: 50 | X101: Open/Male 16+ 4 X 50M FREESTYLE RELAY | Y101: ='Team 3'!F98 -> Luke | Z101: ='Team 3'!G98 -> Morley | AA101: =CONCATENATE(Y101, " ",Z101) -> Luke Morley | AC101: 50 | AD101: Open/Male 16+ 4 X 50M FREESTYLE RELAY | AE101: ='Team 4'!F98 -> MATTHEW | AF101: ='Team 4'!G98 -> MASTERS | AG101: =CONCATENATE(AE101, " ",AF101) -> MATTHEW MASTERS | AI101: 50 | AJ101: Open/Male 16+ 4 X 50M FREESTYLE RELAY | AK101: ='Team 5'!F98 -> Matthew | AL101: ='Team 5'!G98 -> Pack | AM101: =CONCATENATE(AK101, " ",AL101) -> Matthew Pack | AO101: 50 | AP101: Open/Male 16+ 4 X 50M FREESTYLE RELAY | AQ101: ='Team 6'!F98 -> Razvan | AR101: ='Team 6'!G98 -> Lembac | AS101: =CONCATENATE(AQ101, " ",AR101) -> Razvan Lembac | AU101: 50 | AV101: Open/Male 16+ 4 X 50M FREESTYLE RELAY | AW101: ='Team 7'!F98 -> Andrew | AX101: ='Team 7'!G98 -> May | AY101: =CONCATENATE(AW101, " ",AX101) -> Andrew May | BA101: 50 | BB101: Open/Male 16+ 4 X 50M FREESTYLE RELAY | BC101: ='Team 8'!F98 -> 0 | BD101: ='Team 8'!G98 -> 0 | BE101: =CONCATENATE(BC101, " ",BD101) -> 0 0 | BG101: 50 | BH101: Open/Male 16+ 4 X 50M FREESTYLE RELAY | BI101: ='Team 9'!F98 -> 0 | BJ101: ='Team 9'!G98 -> 0 | BK101: =CONCATENATE(BI101, " ",BJ101) -> 0 0 | BM101: 50 | BN101: Open/Male 16+ 4 X 50M FREESTYLE RELAY | BO101: ='Team 10'!F98 -> 0 | BP101: ='Team 10'!G98 -> 0 | BQ101: =CONCATENATE(BO101, " ",BP101) -> 0 0
M102: ='Team 1'!F99 -> Yigit | N102: ='Team 1'!G99 -> Ilhan | O102: =CONCATENATE(M102, " ",N102) -> Yigit Ilhan | S102: ='Team 2'!F99 -> Matthew | T102: ='Team 2'!G99 -> Costello | U102: =CONCATENATE(S102, " ",T102) -> Matthew Costello | Y102: ='Team 3'!F99 -> Ethan | Z102: ='Team 3'!G99 -> Saldanha | AA102: =CONCATENATE(Y102, " ",Z102) -> Ethan Saldanha | AE102: ='Team 4'!F99 -> ELLIS | AF102: ='Team 4'!G99 -> BUNCE | AG102: =CONCATENATE(AE102, " ",AF102) -> ELLIS BUNCE | AK102: ='Team 5'!F99 -> Oliver | AL102: ='Team 5'!G99 -> Murray | AM102: =CONCATENATE(AK102, " ",AL102) -> Oliver Murray | AQ102: ='Team 6'!F99 -> Dawid | AR102: ='Team 6'!G99 -> Otulak | AS102: =CONCATENATE(AQ102, " ",AR102) -> Dawid Otulak | AW102: ='Team 7'!F99 -> Adam | AX102: ='Team 7'!G99 -> Zoubiri | AY102: =CONCATENATE(AW102, " ",AX102) -> Adam Zoubiri | BC102: ='Team 8'!F99 -> 0 | BD102: ='Team 8'!G99 -> 0 | BE102: =CONCATENATE(BC102, " ",BD102) -> 0 0 | BI102: ='Team 9'!F99 -> 0 | BJ102: ='Team 9'!G99 -> 0 | BK102: =CONCATENATE(BI102, " ",BJ102) -> 0 0 | BO102: ='Team 10'!F99 -> 0 | BP102: ='Team 10'!G99 -> 0 | BQ102: =CONCATENATE(BO102, " ",BP102) -> 0 0 | BS102: =CONCATENATE('Team 1'!$F98, " ",'Team 1'!$G98) -> Michael Manassero | BT102: =CONCATENATE('Team 1'!$F99, " ",'Team 1'!$G99) -> Yigit Ilhan
M103: ='Team 1'!F100 -> James | N103: ='Team 1'!G100 -> Smeaton | O103: =CONCATENATE(M103, " ",N103) -> James Smeaton | S103: ='Team 2'!F100 -> Samuel | T103: ='Team 2'!G100 -> Heraty | U103: =CONCATENATE(S103, " ",T103) -> Samuel Heraty | Y103: ='Team 3'!F100 -> Charlie | Z103: ='Team 3'!G100 -> Cropley | AA103: =CONCATENATE(Y103, " ",Z103) -> Charlie Cropley | AE103: ='Team 4'!F100 -> CHARLIE | AF103: ='Team 4'!G100 -> STARSMORE | AG103: =CONCATENATE(AE103, " ",AF103) -> CHARLIE STARSMORE | AK103: ='Team 5'!F100 -> Daniel | AL103: ='Team 5'!G100 -> Parker | AM103: =CONCATENATE(AK103, " ",AL103) -> Daniel Parker | AQ103: ='Team 6'!F100 -> Shanil | AR103: ='Team 6'!G100 -> Ramaiya | AS103: =CONCATENATE(AQ103, " ",AR103) -> Shanil Ramaiya | AW103: ='Team 7'!F100 -> Liam | AX103: ='Team 7'!G100 -> Treanor | AY103: =CONCATENATE(AW103, " ",AX103) -> Liam Treanor | BC103: ='Team 8'!F100 -> 0 | BD103: ='Team 8'!G100 -> 0 | BE103: =CONCATENATE(BC103, " ",BD103) -> 0 0 | BI103: ='Team 9'!F100 -> 0 | BJ103: ='Team 9'!G100 -> 0 | BK103: =CONCATENATE(BI103, " ",BJ103) -> 0 0 | BO103: ='Team 10'!F100 -> 0 | BP103: ='Team 10'!G100 -> 0 | BQ103: =CONCATENATE(BO103, " ",BP103) -> 0 0 | BS103: =CONCATENATE('Team 1'!$F100, " ",'Team 1'!$G100) -> James Smeaton | BT103: =CONCATENATE('Team 1'!$F101, " ",'Team 1'!$G101) -> Gabriel Bhonsle
M104: ='Team 1'!F101 -> Gabriel | N104: ='Team 1'!G101 -> Bhonsle | O104: =CONCATENATE(M104, " ",N104) -> Gabriel Bhonsle | S104: ='Team 2'!F101 -> Daniel | T104: ='Team 2'!G101 -> Humphreys | U104: =CONCATENATE(S104, " ",T104) -> Daniel Humphreys | Y104: ='Team 3'!F101 -> George | Z104: ='Team 3'!G101 -> Lovelock | AA104: =CONCATENATE(Y104, " ",Z104) -> George Lovelock | AE104: ='Team 4'!F101 -> MAX | AF104: ='Team 4'!G101 -> WALLER | AG104: =CONCATENATE(AE104, " ",AF104) -> MAX WALLER | AK104: ='Team 5'!F101 -> Jamie | AL104: ='Team 5'!G101 -> Hartnup | AM104: =CONCATENATE(AK104, " ",AL104) -> Jamie Hartnup | AQ104: ='Team 6'!F101 -> Owen | AR104: ='Team 6'!G101 -> Roberts | AS104: =CONCATENATE(AQ104, " ",AR104) -> Owen Roberts | AW104: ='Team 7'!F101 -> Aaron | AX104: ='Team 7'!G101 -> Skinner | AY104: =CONCATENATE(AW104, " ",AX104) -> Aaron Skinner | BC104: ='Team 8'!F101 -> 0 | BD104: ='Team 8'!G101 -> 0 | BE104: =CONCATENATE(BC104, " ",BD104) -> 0 0 | BI104: ='Team 9'!F101 -> 0 | BJ104: ='Team 9'!G101 -> 0 | BK104: =CONCATENATE(BI104, " ",BJ104) -> 0 0 | BO104: ='Team 10'!F101 -> 0 | BP104: ='Team 10'!G101 -> 0 | BQ104: =CONCATENATE(BO104, " ",BP104) -> 0 0
K105: 51 | L105: SQUADRON RELAY 8 X 50M 1 MALE & 1 FEMALE FROM EACH AGE GROUP May swim in any order | M105: ='Team 1'!F102 -> Claudia | N105: ='Team 1'!G102 -> Savov | O105: =CONCATENATE(M105, " ",N105) -> Claudia Savov | Q105: 51 | R105: SQUADRON RELAY 8 X 50M 1 MALE & 1 FEMALE FROM EACH AGE GROUP May swim in any order | S105: ='Team 2'!F102 -> Harry | T105: ='Team 2'!G102 -> Chapman | U105: =CONCATENATE(S105, " ",T105) -> Harry Chapman | W105: 51 | X105: SQUADRON RELAY 8 X 50M 1 MALE & 1 FEMALE FROM EACH AGE GROUP May swim in any order | Y105: ='Team 3'!F102 -> Luke | Z105: ='Team 3'!G102 -> Morley | AA105: =CONCATENATE(Y105, " ",Z105) -> Luke Morley | AC105: 51 | AD105: SQUADRON RELAY 8 X 50M 1 MALE & 1 FEMALE FROM EACH AGE GROUP May swim in any order | AE105: ='Team 4'!F102 -> CHARLES | AF105: ='Team 4'!G102 -> RAINES | AG105: =CONCATENATE(AE105, " ",AF105) -> CHARLES RAINES | AI105: 51 | AJ105: SQUADRON RELAY 8 X 50M 1 MALE & 1 FEMALE FROM EACH AGE GROUP May swim in any order | AK105: ='Team 5'!F102 -> Esmee | AL105: ='Team 5'!G102 -> Reeve | AM105: =CONCATENATE(AK105, " ",AL105) -> Esmee Reeve | AO105: 51 | AP105: SQUADRON RELAY 8 X 50M 1 MALE & 1 FEMALE FROM EACH AGE GROUP May swim in any order | AQ105: ='Team 6'!F102 -> Miraya | AR105: ='Team 6'!G102 -> Patel | AS105: =CONCATENATE(AQ105, " ",AR105) -> Miraya Patel | AU105: 51 | AV105: SQUADRON RELAY 8 X 50M 1 MALE & 1 FEMALE FROM EACH AGE GROUP May swim in any order | AW105: ='Team 7'!F102 -> Aaran | AX105: ='Team 7'!G102 -> Parmar | AY105: =CONCATENATE(AW105, " ",AX105) -> Aaran Parmar | BA105: 51 | BB105: SQUADRON RELAY 8 X 50M 1 MALE & 1 FEMALE FROM EACH AGE GROUP May swim in any order | BC105: ='Team 8'!F102 -> 0 | BD105: ='Team 8'!G102 -> 0 | BE105: =CONCATENATE(BC105, " ",BD105) -> 0 0 | BG105: 51 | BH105: SQUADRON RELAY 8 X 50M 1 MALE & 1 FEMALE FROM EACH AGE GROUP May swim in any order | BI105: ='Team 9'!F102 -> 0 | BJ105: ='Team 9'!G102 -> 0 | BK105: =CONCATENATE(BI105, " ",BJ105) -> 0 0 | BM105: 51 | BN105: SQUADRON RELAY 8 X 50M 1 MALE & 1 FEMALE FROM EACH AGE GROUP May swim in any order | BO105: ='Team 10'!F102 -> 0 | BP105: ='Team 10'!G102 -> 0 | BQ105: =CONCATENATE(BO105, " ",BP105) -> 0 0
M106: ='Team 1'!F103 -> Kornel | N106: ='Team 1'!G103 -> Kern-Konyar | O106: =CONCATENATE(M106, " ",N106) -> Kornel Kern-Konyar | S106: ='Team 2'!F103 -> Lucy | T106: ='Team 2'!G103 -> Crocker | U106: =CONCATENATE(S106, " ",T106) -> Lucy Crocker | Y106: ='Team 3'!F103 -> Sophie | Z106: ='Team 3'!G103 -> Clark | AA106: =CONCATENATE(Y106, " ",Z106) -> Sophie Clark | AE106: ='Team 4'!F103 -> ANNABELLA | AF106: ='Team 4'!G103 -> COJEEN | AG106: =CONCATENATE(AE106, " ",AF106) -> ANNABELLA COJEEN | AK106: ='Team 5'!F103 -> Megan | AL106: ='Team 5'!G103 -> Alexander | AM106: =CONCATENATE(AK106, " ",AL106) -> Megan Alexander | AQ106: ='Team 6'!F103 -> Macsen | AR106: ='Team 6'!G103 -> Roberts | AS106: =CONCATENATE(AQ106, " ",AR106) -> Macsen Roberts | AW106: ='Team 7'!F103 -> Daniel | AX106: ='Team 7'!G103 -> Celi | AY106: =CONCATENATE(AW106, " ",AX106) -> Daniel Celi | BC106: ='Team 8'!F103 -> 0 | BD106: ='Team 8'!G103 -> 0 | BE106: =CONCATENATE(BC106, " ",BD106) -> 0 0 | BI106: ='Team 9'!F103 -> 0 | BJ106: ='Team 9'!G103 -> 0 | BK106: =CONCATENATE(BI106, " ",BJ106) -> 0 0 | BO106: ='Team 10'!F103 -> 0 | BP106: ='Team 10'!G103 -> 0 | BQ106: =CONCATENATE(BO106, " ",BP106) -> 0 0 | BS106: =CONCATENATE('Team 1'!$F102, " ",'Team 1'!$G102) -> Claudia Savov | BT106: =CONCATENATE('Team 1'!$F103, " ",'Team 1'!$G103) -> Kornel Kern-Konyar
M107: ='Team 1'!F104 -> Amy | N107: ='Team 1'!G104 -> Hanson | O107: =CONCATENATE(M107, " ",N107) -> Amy Hanson | S107: ='Team 2'!F104 -> Alexander | T107: ='Team 2'!G104 -> Gregory | U107: =CONCATENATE(S107, " ",T107) -> Alexander Gregory | Y107: ='Team 3'!F104 -> Liam | Z107: ='Team 3'!G104 -> Thompson | AA107: =CONCATENATE(Y107, " ",Z107) -> Liam Thompson | AE107: ='Team 4'!F104 -> JAMES | AF107: ='Team 4'!G104 -> MOHAMMED | AG107: =CONCATENATE(AE107, " ",AF107) -> JAMES MOHAMMED | AK107: ='Team 5'!F104 -> Poyraz | AL107: ='Team 5'!G104 -> Akbiyik | AM107: =CONCATENATE(AK107, " ",AL107) -> Poyraz Akbiyik | AQ107: ='Team 6'!F104 -> Polina | AR107: ='Team 6'!G104 -> Fedorova | AS107: =CONCATENATE(AQ107, " ",AR107) -> Polina Fedorova | AW107: ='Team 7'!F104 -> Keira | AX107: ='Team 7'!G104 -> Brannigan | AY107: =CONCATENATE(AW107, " ",AX107) -> Keira Brannigan | BC107: ='Team 8'!F104 -> 0 | BD107: ='Team 8'!G104 -> 0 | BE107: =CONCATENATE(BC107, " ",BD107) -> 0 0 | BI107: ='Team 9'!F104 -> 0 | BJ107: ='Team 9'!G104 -> 0 | BK107: =CONCATENATE(BI107, " ",BJ107) -> 0 0 | BO107: ='Team 10'!F104 -> 0 | BP107: ='Team 10'!G104 -> 0 | BQ107: =CONCATENATE(BO107, " ",BP107) -> 0 0
M108: ='Team 1'!F105 -> Yigit | N108: ='Team 1'!G105 -> Ilhan | O108: =CONCATENATE(M108, " ",N108) -> Yigit Ilhan | S108: ='Team 2'!F105 -> Sophie | T108: ='Team 2'!G105 -> Stelmach | U108: =CONCATENATE(S108, " ",T108) -> Sophie Stelmach | Y108: ='Team 3'!F105 -> Scarlett | Z108: ='Team 3'!G105 -> Omand | AA108: =CONCATENATE(Y108, " ",Z108) -> Scarlett Omand | AE108: ='Team 4'!F105 -> RILEY | AF108: ='Team 4'!G105 -> BUNCE | AG108: =CONCATENATE(AE108, " ",AF108) -> RILEY BUNCE | AK108: ='Team 5'!F105 -> Braden | AL108: ='Team 5'!G105 -> Barnacle | AM108: =CONCATENATE(AK108, " ",AL108) -> Braden Barnacle | AQ108: ='Team 6'!F105 -> Gert | AR108: ='Team 6'!G105 -> Zeqiri | AS108: =CONCATENATE(AQ108, " ",AR108) -> Gert Zeqiri | AW108: ='Team 7'!F105 -> Arush | AX108: ='Team 7'!G105 -> Agarwal | AY108: =CONCATENATE(AW108, " ",AX108) -> Arush Agarwal | BC108: ='Team 8'!F105 -> 0 | BD108: ='Team 8'!G105 -> 0 | BE108: =CONCATENATE(BC108, " ",BD108) -> 0 0 | BI108: ='Team 9'!F105 -> 0 | BJ108: ='Team 9'!G105 -> 0 | BK108: =CONCATENATE(BI108, " ",BJ108) -> 0 0 | BO108: ='Team 10'!F105 -> 0 | BP108: ='Team 10'!G105 -> 0 | BQ108: =CONCATENATE(BO108, " ",BP108) -> 0 0 | BS108: =CONCATENATE('Team 1'!$F104, " ",'Team 1'!$G104) -> Amy Hanson | BT108: =CONCATENATE('Team 1'!$F105, " ",'Team 1'!$G105) -> Yigit Ilhan
M109: ='Team 1'!F106 -> Zoe | N109: ='Team 1'!G106 -> Panayi | O109: =CONCATENATE(M109, " ",N109) -> Zoe Panayi | S109: ='Team 2'!F106 -> Sophie | T109: ='Team 2'!G106 -> Heraty | U109: =CONCATENATE(S109, " ",T109) -> Sophie Heraty | Y109: ='Team 3'!F106 -> Luigi | Z109: ='Team 3'!G106 -> Giambrone | AA109: =CONCATENATE(Y109, " ",Z109) -> Luigi Giambrone | AE109: ='Team 4'!F106 -> WILLOW | AF109: ='Team 4'!G106 -> BROWNBRIDGE | AG109: =CONCATENATE(AE109, " ",AF109) -> WILLOW BROWNBRIDGE | AK109: ='Team 5'!F106 -> Lily | AL109: ='Team 5'!G106 -> Threadgold | AM109: =CONCATENATE(AK109, " ",AL109) -> Lily Threadgold | AQ109: ='Team 6'!F106 -> Alice | AR109: ='Team 6'!G106 -> Sharrock | AS109: =CONCATENATE(AQ109, " ",AR109) -> Alice Sharrock | AW109: ='Team 7'!F106 -> Zara | AX109: ='Team 7'!G106 -> Jobanputra | AY109: =CONCATENATE(AW109, " ",AX109) -> Zara Jobanputra | BC109: ='Team 8'!F106 -> 0 | BD109: ='Team 8'!G106 -> 0 | BE109: =CONCATENATE(BC109, " ",BD109) -> 0 0 | BI109: ='Team 9'!F106 -> 0 | BJ109: ='Team 9'!G106 -> 0 | BK109: =CONCATENATE(BI109, " ",BJ109) -> 0 0 | BO109: ='Team 10'!F106 -> 0 | BP109: ='Team 10'!G106 -> 0 | BQ109: =CONCATENATE(BO109, " ",BP109) -> 0 0
M110: ='Team 1'!F107 -> Zalan | N110: ='Team 1'!G107 -> Tornay | O110: =CONCATENATE(M110, " ",N110) -> Zalan Tornay | S110: ='Team 2'!F107 -> Joseph | T110: ='Team 2'!G107 -> Bagshaw | U110: =CONCATENATE(S110, " ",T110) -> Joseph Bagshaw | Y110: ='Team 3'!F107 -> Olivia | Z110: ='Team 3'!G107 -> Croft | AA110: =CONCATENATE(Y110, " ",Z110) -> Olivia Croft | AE110: ='Team 4'!F107 -> ABIGAIL | AF110: ='Team 4'!G107 -> JOHNSON | AG110: =CONCATENATE(AE110, " ",AF110) -> ABIGAIL JOHNSON | AK110: ='Team 5'!F107 -> Kayla | AL110: ='Team 5'!G107 -> Paxton | AM110: =CONCATENATE(AK110, " ",AL110) -> Kayla Paxton | AQ110: ='Team 6'!F107 -> Owen | AR110: ='Team 6'!G107 -> Roberts | AS110: =CONCATENATE(AQ110, " ",AR110) -> Owen Roberts | AW110: ='Team 7'!F107 -> Vaari | AX110: ='Team 7'!G107 -> Mepani | AY110: =CONCATENATE(AW110, " ",AX110) -> Vaari Mepani | BC110: ='Team 8'!F107 -> 0 | BD110: ='Team 8'!G107 -> 0 | BE110: =CONCATENATE(BC110, " ",BD110) -> 0 0 | BI110: ='Team 9'!F107 -> 0 | BJ110: ='Team 9'!G107 -> 0 | BK110: =CONCATENATE(BI110, " ",BJ110) -> 0 0 | BO110: ='Team 10'!F107 -> 0 | BP110: ='Team 10'!G107 -> 0 | BQ110: =CONCATENATE(BO110, " ",BP110) -> 0 0
M111: ='Team 1'!F108 -> Maja | N111: ='Team 1'!G108 -> Grzybek | O111: =CONCATENATE(M111, " ",N111) -> Maja Grzybek | S111: ='Team 2'!F108 -> Maya | T111: ='Team 2'!G108 -> Wegner | U111: =CONCATENATE(S111, " ",T111) -> Maya Wegner | Y111: ='Team 3'!F108 -> Alfie | Z111: ='Team 3'!G108 -> Bullock | AA111: =CONCATENATE(Y111, " ",Z111) -> Alfie Bullock | AE111: ='Team 4'!F108 -> LUCY | AF111: ='Team 4'!G108 -> BURNHAM | AG111: =CONCATENATE(AE111, " ",AF111) -> LUCY BURNHAM | AK111: ='Team 5'!F108 -> Daniel | AL111: ='Team 5'!G108 -> Pirie | AM111: =CONCATENATE(AK111, " ",AL111) -> Daniel Pirie | AQ111: ='Team 6'!F108 -> Esha | AR111: ='Team 6'!G108 -> Patel | AS111: =CONCATENATE(AQ111, " ",AR111) -> Esha Patel | AW111: ='Team 7'!F108 -> Aoife | AX111: ='Team 7'!G108 -> O'Leary | AY111: =CONCATENATE(AW111, " ",AX111) -> Aoife O'Leary | BC111: ='Team 8'!F108 -> 0 | BD111: ='Team 8'!G108 -> 0 | BE111: =CONCATENATE(BC111, " ",BD111) -> 0 0 | BI111: ='Team 9'!F108 -> 0 | BJ111: ='Team 9'!G108 -> 0 | BK111: =CONCATENATE(BI111, " ",BJ111) -> 0 0 | BO111: ='Team 10'!F108 -> 0 | BP111: ='Team 10'!G108 -> 0 | BQ111: =CONCATENATE(BO111, " ",BP111) -> 0 0
M112: ='Team 1'!F109 -> James | N112: ='Team 1'!G109 -> Smeaton | O112: =CONCATENATE(M112, " ",N112) -> James Smeaton | S112: ='Team 2'!F109 -> Charlie | T112: ='Team 2'!G109 -> Pritchard | U112: =CONCATENATE(S112, " ",T112) -> Charlie Pritchard | Y112: ='Team 3'!F109 -> Jessica | Z112: ='Team 3'!G109 -> MacKenzie | AA112: =CONCATENATE(Y112, " ",Z112) -> Jessica MacKenzie | AE112: ='Team 4'!F109 -> MAX | AF112: ='Team 4'!G109 -> WALLER | AG112: =CONCATENATE(AE112, " ",AF112) -> MAX WALLER | AK112: ='Team 5'!F109 -> Robert | AL112: ='Team 5'!G109 -> Elliston | AM112: =CONCATENATE(AK112, " ",AL112) -> Robert Elliston | AQ112: ='Team 6'!F109 -> Razvan | AR112: ='Team 6'!G109 -> Lembac | AS112: =CONCATENATE(AQ112, " ",AR112) -> Razvan Lembac | AW112: ='Team 7'!F109 -> Andrew | AX112: ='Team 7'!G109 -> May | AY112: =CONCATENATE(AW112, " ",AX112) -> Andrew May | BC112: ='Team 8'!F109 -> 0 | BD112: ='Team 8'!G109 -> 0 | BE112: =CONCATENATE(BC112, " ",BD112) -> 0 0 | BI112: ='Team 9'!F109 -> 0 | BJ112: ='Team 9'!G109 -> 0 | BK112: =CONCATENATE(BI112, " ",BJ112) -> 0 0 | BO112: ='Team 10'!F109 -> 0 | BP112: ='Team 10'!G109 -> 0 | BQ112: =CONCATENATE(BO112, " ",BP112) -> 0 0

Sheet Recording
B1: Todays date is | D1: License Number (if applicable) | E1: National Arena Swimming League Gala Recording Sheet | L1: ='Gala Setup'!S4 -> NASL.2023 V6 | BJ1: Please select the printout sheet relevant to your gala. There are 6 ,8 or 10 lane sheets to choose from
B2: =TODAY() -> 45279 | D2: ='Gala Setup'!J7 -> 3ER231478
B3: Navigate the programme with these links. | C3: →→ | D3: Edit Team 1 | E3: Edit Team 2 | F3: Edit Team 3 | G3: Edit Team 4 | H3: Edit Team 5 | I3: Edit Team 6 | J3: Edit Team 7 | K3: Edit Team 8 | L3: Edit Team 9 | M3: Edit Team 10
C4: →→ | D4: Gala Set-up | E4: Check a Result | F4: Eligibility | G4: Final result | H4: Printout 6 Lane | I4: Printout 8 Lane | J4: Printout 10 Lane | K4: Club Codes | L4: Rankings HDR File | M4: Rankings MRF File | O4: Place | P4: Club | R4: Points | AI4: Should more than 2 teams be on equal points & blank spaces occur during the gala, please refer to the points shown at the head of the events list.
B5: CLUBS | D5: ='Gala Setup'!P4 -> HARINGEY AQUATICS | E5: ='Gala Setup'!P5 -> STEVENAGE | F5: ='Gala Setup'!P6 -> BORO OF BROXBOURNE | G5: ='Gala Setup'!P7 -> AYLESBURY | H5: ='Gala Setup'!P8 -> BRAINTREE & BOCKING | I5: ='Gala Setup'!P9 -> Bo of Harrow | J5: ='Gala Setup'!P10 -> Hillingdon 'B' | K5: ='Gala Setup'!P11 -> 0 | L5: ='Gala Setup'!P12 -> 0 | M5: ='Gala Setup'!P13 -> 0 | N5: =IF(D25>0,1) -> 1 | O5: ='Final result'!H17 -> 1st | P5: =IF(O5=0,0,'Final result'!G17) -> BRAINTREE & BOCKING | R5: ='Final result'!M17 -> 252 | AF5: =IF(AH5=0,0,"1st") -> 1st | AG5: =IF(D$26="1st",D$24,IF(E$26="1st",E$24,IF(F$26="1st",F$24,IF(G$26="1st",G$24,IF(H$26="1st",H$24,IF(I$26="1st",I$24,IF(J$26="1st",J$24,IF(K$26="1st",K$24,IF(L$26="1st",L$24,IF(M$26="1st",M$24)))))))))) -> BRAINTREE & BOCKING | AH5: =IF(D$26="1st",D$25,IF(E$26="1st",E$25,IF(F$26="1st",F$25,IF(G$26="1st",G$25,IF(H$26="1st",H$25,IF(I$26="1st",I$25,IF(J$26="1st",J$25,IF(K$26="1st",K$25,IF(L$26="1st",L$25,IF(M$26="1st",M$25,)))))))))) -> 252
AG6: =IF(D$26=1,D$24,IF(E$26=1,E$24,IF(F$26=1,F$24,IF(G$26=1,G$24,IF(H$26=1,H$24,IF(I$26=1,I$24,IF(J$26=1,J$24,IF(K$26=1,K$24,IF(L$26=1,L$24,IF(M$26=1,M$24)))))))))) -> FALSE
AG7: =IF(D$26=1,D$24,IF(E$26=1,E$24,IF(F$26=1,F$24,IF(G$26=1,G$24,IF(H$26=1,H$24,IF(I$26=1,I$24,IF(J$26=1,J$24,IF(K$26=1,K$24,IF(L$26=1,L$24,IF(M$26=1,M$24)))))))))) -> FALSE
AG8: =IF(D$26=1,D$24,IF(E$26=1,E$24,IF(F$26=1,F$24,IF(G$26=1,G$24,IF(H$26=1,H$24,IF(I$26=1,I$24,IF(J$26=1,J$24,IF(K$26=1,K$24,IF(L$26=1,L$24,IF(M$26=1,M$24)))))))))) -> FALSE
AG9: =IF(D$26=1,D$24,IF(E$26=1,E$24,IF(F$26=1,F$24,IF(G$26=1,G$24,IF(H$26=1,H$24,IF(I$26=1,I$24,IF(J$26=1,J$24,IF(K$26=1,K$24,IF(L$26=1,L$24,IF(M$26=1,M$24)))))))))) -> FALSE
AG10: =IF(D$26=1,D$24,IF(E$26=1,E$24,IF(F$26=1,F$24,IF(G$26=1,G$24,IF(H$26=1,H$24,IF(I$26=1,I$24,IF(J$26=1,J$24,IF(K$26=1,K$24,IF(L$26=1,L$24,IF(M$26=1,M$24)))))))))) -> FALSE
AG11: =IF(D$26=1,D$24,IF(E$26=1,E$24,IF(F$26=1,F$24,IF(G$26=1,G$24,IF(H$26=1,H$24,IF(I$26=1,I$24,IF(J$26=1,J$24,IF(K$26=1,K$24,IF(L$26=1,L$24,IF(M$26=1,M$24)))))))))) -> FALSE
AG12: =IF(D$26=1,D$24,IF(E$26=1,E$24,IF(F$26=1,F$24,IF(G$26=1,G$24,IF(H$26=1,H$24,IF(I$26=1,I$24,IF(J$26=1,J$24,IF(K$26=1,K$24,IF(L$26=1,L$24,IF(M$26=1,M$24)))))))))) -> FALSE
AG13: =IF(D$26=1,D$24,IF(E$26=1,E$24,IF(F$26=1,F$24,IF(G$26=1,G$24,IF(H$26=1,H$24,IF(I$26=1,I$24,IF(J$26=1,J$24,IF(K$26=1,K$24,IF(L$26=1,L$24,IF(M$26=1,M$24)))))))))) -> FALSE
AG14: =IF(D$26=1,D$24,IF(E$26=1,E$24,IF(F$26=1,F$24,IF(G$26=1,G$24,IF(H$26=1,H$24,IF(I$26=1,I$24,IF(J$26=1,J$24,IF(K$26=1,K$24,IF(L$26=1,L$24,IF(M$26=1,M$24)))))))))) -> FALSE
AG15: =IF(D$26=1,D$24,IF(E$26=1,E$24,IF(F$26=1,F$24,IF(G$26=1,G$24,IF(H$26=1,H$24,IF(I$26=1,I$24,IF(J$26=1,J$24,IF(K$26=1,K$24,IF(L$26=1,L$24,IF(M$26=1,M$24)))))))))) -> FALSE
AG16: =IF(D$26=1,D$24,IF(E$26=1,E$24,IF(F$26=1,F$24,IF(G$26=1,G$24,IF(H$26=1,H$24,IF(I$26=1,I$24,IF(J$26=1,J$24,IF(K$26=1,K$24,IF(L$26=1,L$24,IF(M$26=1,M$24)))))))))) -> FALSE
AG17: =IF(D$26=1,D$24,IF(E$26=1,E$24,IF(F$26=1,F$24,IF(G$26=1,G$24,IF(H$26=1,H$24,IF(I$26=1,I$24,IF(J$26=1,J$24,IF(K$26=1,K$24,IF(L$26=1,L$24,IF(M$26=1,M$24)))))))))) -> FALSE
N18: =IF(E25>0,1) -> 1 | O18: ='Final result'!H18 -> 2nd | P18: =IF(O18=0,0,'Final result'!G18) -> AYLESBURY | R18: ='Final result'!M18 -> 241 | T18: 3 | U18: 4 | V18: 5 | W18: 6 | X18: 7 | Y18: 8 | Z18: 9 | AA18: 10 | AB18: 11 | AC18: 12 | AF18: =IF(N27<2,0,IF(AF5=0,0,IF(AH18=AH5,"1st","2nd"))) -> 2nd | AG18: =IF(N27<2,0,IF(E5=0,0,IF(D$26="2nd",D$24,IF(E$26="2nd",E$24,IF(F$26="2nd",F$24,IF(G$26="2nd",G$24,IF(H$26="2nd",H$24,IF(I$26="2nd",I$24,IF(J$26="2nd",J$24,IF(K$26="2nd",K$24,IF(L$26="2nd",L$24,IF(M$26="2nd",M$24,IF(M$26="1st",M$24,IF(L$26="1st",L$24,IF(K$26="1st",K$24,IF(J$26="1st",J$24,IF(I$26="1st",I$24,IF(H$26="1st",H$24,IF(G$26="1st",G$24,IF(F$26="1st",F$24,IF(E$26="1st",E$24,IF(D$26="1st",D$24)))))))))))))))))))))) -> AYLESBURY | AH18: =IF(AG18=0,0,IF(D$26="2nd",D$25,IF(E$26="2nd",E$25,IF(F$26="2nd",F$25,IF(G$26="2nd",G$25,IF(H$26="2nd",H$25,IF(I$26="2nd",I$25,IF(J$26="2nd",J$25,IF(K$26="2nd",K$25,IF(L$26="2nd",L$25,IF(M$26="2nd",M$25,IF(M$26="1st",M$25,IF(L$26="1st",L$25,IF(K$26="1st",K$25,IF(J$26="1st",J$25,IF(I$26="1st",I$25,IF(H$26="1st",H$25,IF(G$26="1st",G$25,IF(F$26="1st",F$25,IF(E$26="1st",E$25,IF(D$26="1st",D$25))))))))))))))))))))) -> 241
B19: Points at Event 10 | D19: =IF(D61="","",'print 10 lane'!I167) -> 26 | E19: =IF(E61="","",'print 10 lane'!L167) -> 30 | F19: =IF(F61="","",'print 10 lane'!O167) -> 29 | G19: =IF(G61="","",'print 10 lane'!R167) -> 45 | H19: =IF(H61="","",'print 10 lane'!U167) -> 45 | I19: =IF(I61="","",'print 10 lane'!X167) -> 51 | J19: =IF(J61="","",'print 10 lane'!AA167) -> 44 | K19: =IF(K61="","",'print 10 lane'!AD167) | L19: =IF(L61="","",'print 10 lane'!AG167) | M19: =IF(M61="","",'print 10 lane'!AJ167) | N19: =IF(F25>0,1) -> 1 | O19: ='Final result'!H19 -> 3rd | P19: =IF(O19=0,0,'Final result'!G19) -> Bo of Harrow | R19: ='Final result'!M19 -> 212 | S19: =AC19 | T19: =INDIRECT(ADDRESS(ROW(),T$18)) -> 0 | U19: =INDIRECT(ADDRESS(ROW(),U$18)) -> 26 | V19: =INDIRECT(ADDRESS(ROW(),V$18)) -> 30 | W19: =INDIRECT(ADDRESS(ROW(),W$18)) -> 29 | X19: =INDIRECT(ADDRESS(ROW(),X$18)) -> 45 | Y19: =INDIRECT(ADDRESS(ROW(),Y$18)) -> 45 | Z19: =INDIRECT(ADDRESS(ROW(),Z$18)) -> 51 | AA19: =INDIRECT(ADDRESS(ROW(),AA$18)) -> 44 | ... AC19: =INDIRECT(ADDRESS(ROW(),AC$18)) | AF19: =IF(N27<3,0,IF(AF5=0,0,IF(AH19=AH18,AF18,"3rd"))) -> 3rd | AG19: =IF(N27<3,0,IF(F5=0,0,IF(D$26="3rd",D$24,IF(E$26="3rd",E$24,IF(F$26="3rd",F$24,IF(G$26="3rd",G$24,IF(H$26="3rd",H$24,IF(I$26="3rd",I$24,IF(J$26="3rd",J$24,IF(K$26="3rd",K$24,IF(L$26="3rd",L$24,IF(M$26="3rd",M$24,IF(M$26="2nd",M$24,IF(L$26="2nd",L$24,IF(K$26="2nd",K$24,IF(J$26="2nd",J$24,IF(I$26="2nd",I$24,IF(H$26="2nd",H$24,IF(G$26="2nd",G$24,IF(F$26="2nd",F$24,IF(E$26="2nd",E$24,IF(D$26="2nd",D$24,IF(D$26="1st",D$24,IF(E$26="1st",E$24,IF(F$26="1st",F$24,IF(G$26="1st",G$24,IF(H$26="1st",H$24,IF(I$26="1st",I$24,IF(J$26="1st",J$24,IF(K$26="1st",K$24,IF(L$26="1st",L$24,IF(M$26="1st",M$24)))))))))))))))))))))))))))))))) -> Bo of Harrow | AH19: =IF(AG19=0,0,IF(D$26="3rd",D$25,IF(E$26="3rd",E$25,IF(F$26="3rd",F$25,IF(G$26="3rd",G$25,IF(H$26="3rd",H$25,IF(I$26="3rd",I$25,IF(J$26="3rd",J$25,IF(K$26="3rd",K$25,IF(L$26="3rd",L$25,IF(M$26="3rd",M$25,IF(M$26="2nd",M$25,IF(L$26="2nd",L$25,IF(K$26="2nd",K$25,IF(J$26="2nd",J$25,IF(I$26="2nd",I$25,IF(H$26="2nd",H$25,IF(G$26="2nd",G$25,IF(F$26="2nd",F$25,IF(E$26="2nd",E$25,IF(D$26="2nd",D$25,IF(M$26="1st",M$25,IF(L$26="1st",L$25,IF(K$26="1st",K$25,IF(J$26="1st",J$25,IF(I$26="1st",I$25,IF(H$26="1st",H$25,IF(G$26="1st",G$25,IF(F$26="1st",F$25,IF(E$26="1st",E$25,IF(D$26="1st",D$25))))))))))))))))))))))))))))))) -> 212
B20: Points at Event 18 | D20: =IF(D92="","",'print 10 lane'!I171) -> 49 | E20: =IF(E92="","",'print 10 lane'!L171) -> 55 | F20: =IF(F92="","",'print 10 lane'!O171) -> 53 | G20: =IF(G92="","",'print 10 lane'!R171) -> 87 | H20: =IF(H92="","",'print 10 lane'!U171) -> 89 | I20: =IF(I92="","",'print 10 lane'!X171) -> 78 | J20: =IF(J92="","",'print 10 lane'!AA171) -> 79 | K20: =IF(K92="","",'print 10 lane'!AD171) | L20: =IF(L92="","",'print 10 lane'!AG171) | M20: =IF(M92="","",'print 10 lane'!AJ171) | N20: =IF(G25>0,1) -> 1 | O20: ='Final result'!H20 -> 4th | P20: =IF(O20=0,0,'Final result'!G20) -> Hillingdon 'B' | R20: ='Final result'!M20 -> 208 | S20: =AC20 | T20: =INDIRECT(ADDRESS(ROW(),T$18)) -> 0 | U20: =INDIRECT(ADDRESS(ROW(),U$18)) -> 49 | V20: =INDIRECT(ADDRESS(ROW(),V$18)) -> 55 | W20: =INDIRECT(ADDRESS(ROW(),W$18)) -> 53 | X20: =INDIRECT(ADDRESS(ROW(),X$18)) -> 87 | Y20: =INDIRECT(ADDRESS(ROW(),Y$18)) -> 89 | Z20: =INDIRECT(ADDRESS(ROW(),Z$18)) -> 78 | AA20: =INDIRECT(ADDRESS(ROW(),AA$18)) -> 79 | ... AC20: =INDIRECT(ADDRESS(ROW(),AC$18)) | AF20: =IF(N27<4,0,IF(AF5=0,0,IF(AH20=AH19,AF19,"4th"))) -> 4th | AG20: =IF(N27<4,0,IF(G5=0,0,IF(D$26="4th",D$24,IF(E$26="4th",E$24,IF(F$26="4th",F$24,IF(G$26="4th",G$24,IF(H$26="4th",H$24,IF(I$26="4th",I$24,IF(J$26="4th",J$24,IF(K$26="4th",K$24,IF(L$26="4th",L$24,IF(M$26="4th",M$24,IF(M$26="3rd",M$24,IF(L$26="3rd",L$24,IF(K$26="3rd",K$24,IF(J$26="3rd",J$24,IF(I$26="3rd",I$24,IF(H$26="3rd",H$24,IF(G$26="3rd",G$24,IF(F$26="3rd",F$24,IF(E$26="3rd",E$24,IF(D$26="3rd",D$24,IF(M$26="2nd",M$24,IF(L$26="2nd",L$24,IF(K$26="2nd",K$24,IF(J$26="2nd",J$24,IF(I$26="2nd",I$24,IF(H$26="2nd",H$24,IF(G$26="2nd",G$24,IF(F$26="2nd",F$24,IF(E$26="2nd",E$24,IF(D$26="2nd",D$24)))))))))))))))))))))))))))))))) -> Hillingdon 'B' | AH20: =IF(AG20=0,0,IF(D$26="4th",D$25,IF(E$26="4th",E$25,IF(F$26="4th",F$25,IF(G$26="4th",G$25,IF(H$26="4th",H$25,IF(I$26="4th",I$25,IF(J$26="4th",J$25,IF(K$26="4th",K$25,IF(L$26="4th",L$25,IF(M$26="4th",M$25,IF(M$26="3rd",M$25,IF(L$26="3rd",L$25,IF(K$26="3rd",K$25,IF(J$26="3rd",J$25,IF(I$26="3rd",I$25,IF(H$26="3rd",H$25,IF(G$26="3rd",G$25,IF(F$26="3rd",F$25,IF(E$26="3rd",E$25,IF(D$26="3rd",D$25,IF(M$26="2nd",M$25,IF(L$26="2nd",L$25,IF(K$26="2nd",K$25,IF(J$26="2nd",J$25,IF(I$26="2nd",I$25,IF(H$26="2nd",H$25,IF(G$26="2nd",G$25,IF(F$26="2nd",F$25,IF(E$26="2nd",E$25,IF(D$26="2nd",D$25))))))))))))))))))))))))))))))) -> 208
B21: Points at Event 26 | D21: =IF(D124="","",'print 10 lane'!I175) -> 70 | E21: =IF(E124="","",'print 10 lane'!L175) -> 86 | F21: =IF(F124="","",'print 10 lane'!O175) -> 85 | G21: =IF(G124="","",'print 10 lane'!R175) -> 119 | H21: =IF(H124="","",'print 10 lane'!U175) -> 128 | I21: =IF(I124="","",'print 10 lane'!X175) -> 112 | J21: =IF(J124="","",'print 10 lane'!AA175) -> 110 | K21: =IF(K124="","",'print 10 lane'!AD175) | L21: =IF(L124="","",'print 10 lane'!AG175) | M21: =IF(M124="","",'print 10 lane'!AJ175) | N21: =IF(H25>0,1) -> 1 | O21: ='Final result'!H21 -> 5th | P21: =IF(O21=0,0,'Final result'!G21) -> BORO OF BROXBOURNE | R21: ='Final result'!M21 -> 171 | S21: =AC21 | T21: =INDIRECT(ADDRESS(ROW(),T$18)) -> 0 | U21: =INDIRECT(ADDRESS(ROW(),U$18)) -> 70 | V21: =INDIRECT(ADDRESS(ROW(),V$18)) -> 86 | W21: =INDIRECT(ADDRESS(ROW(),W$18)) -> 85 | X21: =INDIRECT(ADDRESS(ROW(),X$18)) -> 119 | Y21: =INDIRECT(ADDRESS(ROW(),Y$18)) -> 128 | Z21: =INDIRECT(ADDRESS(ROW(),Z$18)) -> 112 | AA21: =INDIRECT(ADDRESS(ROW(),AA$18)) -> 110 | ... AC21: =INDIRECT(ADDRESS(ROW(),AC$18)) | AF21: =IF(N27<5,0,IF(AF5=0,0,IF(AH21=AH20,AF20,"5th"))) -> 5th | AG21: =IF(N27<5,0,IF(H5=0,0,IF(D$26="5th",D$24,IF(E$26="5th",E$24,IF(F$26="5th",F$24,IF(G$26="5th",G$24,IF(H$26="5th",H$24,IF(I$26="5th",I$24,IF(J$26="5th",J$24,IF(K$26="5th",K$24,IF(L$26="5th",L$24,IF(M$26="5th",M$24,IF(M$26="4th",M$24,IF(L$26="4th",L$24,IF(K$26="4th",K$24,IF(J$26="4th",J$24,IF(I$26="4th",I$24,IF(H$26="4th",H$24,IF(G$26="4th",G$24,IF(F$26="4th",F$24,IF(E$26="4th",E$24,IF(D$26="4th",D$24,IF(M$26="3rd",M$24,IF(L$26="3rd",L$24,IF(K$26="3rd",K$24,IF(J$26="3rd",J$24,IF(I$26="3rd",I$24,IF(H$26="3rd",H$24,IF(G$26="3rd",G$24,IF(F$26="3rd",F$24,IF(E$26="3rd",E$24,IF(D$26="3rd",D$24)))))))))))))))))))))))))))))))) -> BORO OF BROXBOURNE | AH21: =IF(AG21=0,0,IF(D$26="5th",D$25,IF(E$26="5th",E$25,IF(F$26="5th",F$25,IF(G$26="5th",G$25,IF(H$26="5th",H$25,IF(I$26="5th",I$25,IF(J$26="5th",J$25,IF(K$26="5th",K$25,IF(L$26="5th",L$25,IF(M$26="5th",M$25,IF(M$26="4th",M$25,IF(L$26="4th",L$25,IF(K$26="4th",K$25,IF(J$26="4th",J$25,IF(I$26="4th",I$25,IF(H$26="4th",H$25,IF(G$26="4th",G$25,IF(F$26="4th",F$25,IF(E$26="4th",E$25,IF(D$26="4th",D$25,IF(M$26="3rd",M$25,IF(L$26="3rd",L$25,IF(K$26="3rd",K$25,IF(J$26="3rd",J$25,IF(I$26="3rd",I$25,IF(H$26="3rd",H$25,IF(G$26="3rd",G$25,IF(F$26="3rd",F$25,IF(E$26="3rd",E$25,IF(D$26="3rd",D$25))))))))))))))))))))))))))))))) -> 171
B22: Points at Event 34 | D22: =IF(D156="","",'print 10 lane'!I179) -> 93 | E22: =IF(E156="","",'print 10 lane'!L179) -> 112 | F22: =IF(F156="","",'print 10 lane'!O179) -> 115 | G22: =IF(G156="","",'print 10 lane'!R179) -> 159 | H22: =IF(H156="","",'print 10 lane'!U179) -> 169 | I22: =IF(I156="","",'print 10 lane'!X179) -> 145 | J22: =IF(J156="","",'print 10 lane'!AA179) -> 138 | K22: =IF(K156="","",'print 10 lane'!AD179) | L22: =IF(L156="","",'print 10 lane'!AG179) | M22: =IF(M156="","",'print 10 lane'!AJ179) | N22: =IF(I25>0,1) -> 1 | O22: ='Final result'!H22 -> 6th | P22: =IF(O22=0,0,'Final result'!G22) -> STEVENAGE | R22: ='Final result'!M22 -> 158 | S22: =AC22 | T22: =INDIRECT(ADDRESS(ROW(),T$18)) -> 0 | U22: =INDIRECT(ADDRESS(ROW(),U$18)) -> 93 | V22: =INDIRECT(ADDRESS(ROW(),V$18)) -> 112 | W22: =INDIRECT(ADDRESS(ROW(),W$18)) -> 115 | X22: =INDIRECT(ADDRESS(ROW(),X$18)) -> 159 | Y22: =INDIRECT(ADDRESS(ROW(),Y$18)) -> 169 | Z22: =INDIRECT(ADDRESS(ROW(),Z$18)) -> 145 | AA22: =INDIRECT(ADDRESS(ROW(),AA$18)) -> 138 | ... AC22: =INDIRECT(ADDRESS(ROW(),AC$18)) | AF22: =IF(N27<6,0,IF(AF5=0,0,IF(AH22=AH21,AF21,"6th"))) -> 6th | AG22: =IF(N27<6,0,IF(I5=0,0,IF(D$26="6th",D$24,IF(E$26="6th",E$24,IF(F$26="6th",F$24,IF(G$26="6th",G$24,IF(H$26="6th",H$24,IF(I$26="6th",I$24,IF(J$26="6th",J$24,IF(K$26="6th",K$24,IF(L$26="6th",L$24,IF(M$26="6th",M$24,IF(M$26="5th",M$24,IF(L$26="5th",L$24,IF(K$26="5th",K$24,IF(J$26="5th",J$24,IF(I$26="5th",I$24,IF(H$26="5th",H$24,IF(G$26="5th",G$24,IF(F$26="5th",F$24,IF(E$26="5th",E$24,IF(D$26="5th",D$24,IF(M$26="4th",M$24,IF(L$26="4th",L$24,IF(K$26="4th",K$24,IF(J$26="4th",J$24,IF(I$26="4th",I$24,IF(H$26="4th",H$24,IF(G$26="4th",G$24,IF(F$26="4th",F$24,IF(E$26="4th",E$24,IF(D$26="4th",D24)))))))))))))))))))))))))))))))) -> STEVENAGE | AH22: =IF(AG22=0,0,IF(D$26="6th",D$25,IF(E$26="6th",E$25,IF(F$26="6th",F$25,IF(G$26="6th",G$25,IF(H$26="6th",H$25,IF(I$26="6th",I$25,IF(J$26="6th",J$25,IF(K$26="6th",K$25,IF(L$26="6th",L$25,IF(M$26="6th",M$25,IF(M$26="5th",M$25,IF(L$26="5th",L$25,IF(K$26="5th",K$25,IF(J$26="5th",J$25,IF(I$26="5th",I$25,IF(H$26="5th",H$25,IF(G$26="5th",G$25,IF(F$26="5th",F$25,IF(E$26="5th",E$25,IF(D$26="5th",D$25,IF(M$26="4th",M$25,IF(L$26="4th",L$25,IF(K$26="4th",K$25,IF(J$26="4th",J$25,IF(I$26="4th",I$25,IF(H$26="4th",H$25,IF(G$26="4th",G$25,IF(F$26="4th",F$25,IF(E$26="4th",E$25,IF(D$26="4th",D$25))))))))))))))))))))))))))))))) -> 158
B23: Points at Event 42 | D23: =IF(D188="","",'print 10 lane'!I182) -> 122 | E23: =IF(E188="","",'print 10 lane'!L182) -> 128 | F23: =IF(F188="","",'print 10 lane'!O182) -> 148 | G23: =IF(G188="","",'print 10 lane'!R182) -> 199 | H23: =IF(H188="","",'print 10 lane'!U182) -> 207 | I23: =IF(I188="","",'print 10 lane'!X182) -> 180 | J23: =IF(J188="","",'print 10 lane'!AA182) -> 171 | K23: =IF(K188="","",'print 10 lane'!AD182) | L23: =IF(L188="","",'print 10 lane'!AG182) | M23: =IF(M188="","",'print 10 lane'!AJ182) | N23: =IF(J25>0,1) -> 1 | O23: ='Final result'!H23 -> 7th | P23: =IF(O23=0,0,'Final result'!G23) -> HARINGEY AQUATICS | R23: ='Final result'!M23 -> 152 | S23: =AC23 | T23: =INDIRECT(ADDRESS(ROW(),T$18)) -> 0 | U23: =INDIRECT(ADDRESS(ROW(),U$18)) -> 122 | V23: =INDIRECT(ADDRESS(ROW(),V$18)) -> 128 | W23: =INDIRECT(ADDRESS(ROW(),W$18)) -> 148 | X23: =INDIRECT(ADDRESS(ROW(),X$18)) -> 199 | Y23: =INDIRECT(ADDRESS(ROW(),Y$18)) -> 207 | Z23: =INDIRECT(ADDRESS(ROW(),Z$18)) -> 180 | AA23: =INDIRECT(ADDRESS(ROW(),AA$18)) -> 171 | ... AC23: =INDIRECT(ADDRESS(ROW(),AC$18)) | AF23: =IF(N27<7,0,IF(AF5=0,0,IF(AH23=AH22,AF22,"7th"))) -> 7th | AG23: =IF(N27<7,0,IF(J5=0,0,IF(D$26="7th",D$24,IF(E$26="7th",E$24,IF(F$26="7th",F$24,IF(G$26="7th",G$24,IF(H$26="7th",H$24,IF(I$26="7th",I$24,IF(J$26="7th",J$24,IF(K$26="7th",K$24,IF(L$26="7th",L$24,IF(M$26="7th",M$24,IF(M$26="6th",M$24,IF(L$26="6th",L$24,IF(K$26="6th",K$24,IF(J$26="6th",J$24,IF(I$26="6th",I$24,IF(H$26="6th",H$24,IF(G$26="6th",G$24,IF(F$26="6th",F$24,IF(E$26="6th",E$24,IF(D$26="6th",D$24,IF(M$26="5th",M$24,IF(L$26="5th",L$24,IF(K$26="5th",K$24,IF(J$26="5th",J$24,IF(I$26="5th",I$24,IF(H$26="5th",H$24,IF(G$26="5th",G$24,IF(F$26="5th",F$24,IF(E$26="5th",E$24,IF(D$26="5th",D$24)))))))))))))))))))))))))))))))) -> HARINGEY AQUATICS | AH23: =IF(AG23=0,0,IF(D$26="7th",D$25,IF(E$26="7th",E$25,IF(F$26="7th",F$25,IF(G$26="7th",G$25,IF(H$26="7th",H$25,IF(I$26="7th",I$25,IF(J$26="7th",J$25,IF(K$26="7th",K$25,IF(L$26="7th",L$25,IF(M$26="7th",M$25,IF(M$26="6th",M$25,IF(L$26="6th",L$25,IF(K$26="6th",K$25,IF(J$26="6th",J$25,IF(I$26="6th",I$25,IF(H$26="6th",H$25,IF(G$26="6th",G$25,IF(F$26="6th",F$25,IF(M$26="6th",E$25,IF(D$26="6th",D$25,IF(M$26="5th",M$25,IF(L$26="5th",L$25,IF(K$26="5th",K$25,IF(J$26="5th",J$25,IF(I$26="5th",I$25,IF(H$26="5th",H$25,IF(G$26="5th",G$25,IF(F$26="5th",F$25,IF(E$26="5th",E$25,IF(D$26="5th",D$25))))))))))))))))))))))))))))))) -> 152
B24: CLUBS | D24: =D5 -> HARINGEY AQUATICS | E24: =E5 -> STEVENAGE | F24: =F5 -> BORO OF BROXBOURNE | G24: =G5 -> AYLESBURY | H24: =H5 -> BRAINTREE & BOCKING | I24: =I5 -> Bo of Harrow | J24: =J5 -> Hillingdon 'B' | K24: =K5 -> 0 | ... M24: =M5 -> 0 | N24: =IF(K25>0,1) -> FALSE | O24: ='Final result'!H24 -> 0 | P24: =IF(O24=0,0,'Final result'!G24) -> 0 | R24: ='Final result'!M24 -> FALSE | S24: =AC24 -> 0 | T24: =INDIRECT(ADDRESS(ROW(),T$18)) -> 0 | U24: =INDIRECT(ADDRESS(ROW(),U$18)) -> HARINGEY AQUATICS | V24: =INDIRECT(ADDRESS(ROW(),V$18)) -> STEVENAGE | W24: =INDIRECT(ADDRESS(ROW(),W$18)) -> BORO OF BROXBOURNE | X24: =INDIRECT(ADDRESS(ROW(),X$18)) -> AYLESBURY | Y24: =INDIRECT(ADDRESS(ROW(),Y$18)) -> BRAINTREE & BOCKING | Z24: =INDIRECT(ADDRESS(ROW(),Z$18)) -> Bo of Harrow | AA24: =INDIRECT(ADDRESS(ROW(),AA$18)) -> Hillingdon 'B' | ... AC24: =INDIRECT(ADDRESS(ROW(),AC$18)) -> 0 | AF24: =IF(N27<8,0,IF(AF5=0,0,IF(AH24=AH23,AF23,"8th"))) -> 0 | AG24: =IF(N27<8,0,IF(K5=0,0,IF(D$26="8th",D$24,IF(E$26="8th",E$24,IF(F$26="8th",F$24,IF(G$26="8th",G$24,IF(H$26="8th",H$24,IF(I$26="8th",I$24,IF(J$26="8th",J$24,IF(K$26="8th",K$24,IF(L$26="8th",L$24,IF(M$26="8th",M$24,IF(L$26="7th",L$24,IF(K$26="7th",K$24,IF(J$26="7th",J$24,IF(I$26="7th",I$24,IF(H$26="7th",H$24,IF(G$26="7th",G$24,IF(F$26="7th",F$24,IF(E$26="7th",E$24,IF(M$26="7th",D$24,IF(M$26="7th",M$24,IF(M$26="6th",M$24,IF(L$26="6th",L$24,IF(K$26="6th",K$24,IF(J$26="6th",J$24,IF(I$26="6th",I$24,IF(H$26="6th",H$24,IF(G$26="6th",G$24,IF(F$26="6th",F$24,IF(E$26="6th",E$24,IF(D$26="6th",D$24)))))))))))))))))))))))))))))))) -> 0 | AH24: =IF(AG24=0,0,IF(D$26="8th",D$25,IF(E$26="8th",E$25,IF(F$26="8th",F$25,IF(G$26="8th",G$25,IF(H$26="8th",H$25,IF(I$26="8th",I$25,IF(J$26="8th",J$25,IF(K$26="8th",K$25,IF(L$26="8th",L$25,IF(M$26="8th",M$25,IF(M$26="7th",M$25,IF(L$26="7th",L$25,IF(K$26="7th",K$25,IF(J$26="7th",J$25,IF(I$26="7th",I$25,IF(H$26="7th",H$25,IF(G$26="7th",G$25,IF(F$26="7th",F$25,IF(E$26="7th",E$25,IF(D$26="7th",D$25,IF(M$26="6th",M$25,IF(L$26="6th",L$25,IF(K$26="6th",K$25,IF(J$26="6th",J$25,IF(I$26="6th",I$25,IF(H$26="6th",H$25,IF(G$26="6th",G$25,IF(F$26="6th",F$25,IF(M$26="6th",E$25,IF(D$26="6th",D$25))))))))))))))))))))))))))))))) -> 0
B25: POINTS TO DATE | D25: ='print 10 lane'!J9 -> 152 | E25: ='print 10 lane'!M9 -> 158 | F25: ='print 10 lane'!P9 -> 171 | G25: ='print 10 lane'!S9 -> 241 | H25: ='print 10 lane'!V9 -> 252 | I25: ='print 10 lane'!Y9 -> 212 | J25: ='print 10 lane'!AB9 -> 208 | K25: ='print 10 lane'!AE9 -> 0 | L25: ='print 10 lane'!AH9 -> 0 | M25: ='print 10 lane'!AK9 -> 0 | N25: =IF(L25>0,1) -> FALSE | O25: ='Final result'!H25 -> 0 | P25: =IF(O25=0,0,'Final result'!G25) -> 0 | R25: ='Final result'!M25 -> FALSE | S25: =AC25 -> 0 | T25: =INDIRECT(ADDRESS(ROW(),T$18)) -> 0 | U25: =INDIRECT(ADDRESS(ROW(),U$18)) -> 152 | V25: =INDIRECT(ADDRESS(ROW(),V$18)) -> 158 | W25: =INDIRECT(ADDRESS(ROW(),W$18)) -> 171 | X25: =INDIRECT(ADDRESS(ROW(),X$18)) -> 241 | Y25: =INDIRECT(ADDRESS(ROW(),Y$18)) -> 252 | Z25: =INDIRECT(ADDRESS(ROW(),Z$18)) -> 212 | AA25: =INDIRECT(ADDRESS(ROW(),AA$18)) -> 208 | ... AC25: =INDIRECT(ADDRESS(ROW(),AC$18)) -> 0 | AF25: =IF(N27<9,0,IF(AF5=0,0,IF(AH25=AH24,AF24,"9th"))) -> 0 | AG25: =IF(N27<9,0,IF(L5=0,0,IF(D$26="9th",D$24,IF(E$26="9th",E$24,IF(F$26="9th",F$24,IF(G$26="9th",G$24,IF(H$26="9th",H$24,IF(I$26="9th",I$24,IF(J$26="9th",J$24,IF(K$26="9th",K$24,IF(L$26="9th",L$24,IF(M$26="9th",M$24,IF(L$26="8th",L$24,IF(K$26="8th",K$24,IF(J$26="8th",J$24,IF(I$26="8th",I$24,IF(H$26="8th",H$24,IF(G$26="8th",G$24,IF(F$26="8th",F$24,IF(E$26="8th",E$24,IF(D$26="8th",D$24,IF(M$26="8th",M$24,IF(M$26="7th",M$24,IF(L$26="7th",L$24,IF(K$26="7th",K$24,IF(J$26="7th",J$24,IF(I$26="7th",I$24,IF(H$26="7th",H$24,IF(G$26="7th",G$24,IF(F$26="7th",F$24,IF(E$26="7th",E$24,IF(M$26="7th",D$24)))))))))))))))))))))))))))))))) -> 0 | AH25: =IF(AG25=0,0,IF(D$26="9th",D$25,IF(E$26="9th",E$25,IF(F$26="9th",F$25,IF(G$26="9th",G$25,IF(H$26="9th",H$25,IF(I$26="9th",I$25,IF(J$26="9th",J$25,IF(K$26="9th",K$25,IF(L$26="9th",L$25,IF(M$26="9th",M$25,IF(M$26="8th",M$25,IF(L$26="8th",L$25,IF(K$26="8th",K$25,IF(J$26="8th",J$25,IF(I$26="8th",I$25,IF(H$26="8th",H$25,IF(G$26="8th",G$25,IF(F$26="8th",F$25,IF(E$26="8th",E$25,IF(D$26="8th",D$25,IF(M$26="7th",M$25,IF(L$26="7th",L$25,IF(K$26="7th",K$25,IF(J$26="7th",J$25,IF(I$26="7th",I$25,IF(H$26="7th",H$25,IF(G$26="7th",G$25,IF(F$26="7th",F$25,IF(E$26="7th",E$25,IF(D$26="7th",D$25))))))))))))))))))))))))))))))) -> 0
B26: PLACINGS | D26: =IF('print 10 lane'!J7=1,"1st",IF('print 10 lane'!J7=2,"2nd",IF('print 10 lane'!J7=3,"3rd",IF('print 10 lane'!J7=4,"4th",IF('print 10 lane'!J7=5,"5th",IF('print 10 lane'!J7=6,"6th",IF('print 10 lane'!J7=7,"7th",IF('print 10 lane'!J7=8,"8th",IF('print 10 lane'!J7=9,"9th",IF('print 10 lane'!J7=10,"10th")))))))))) -> 7th | E26: =IF('print 10 lane'!M7=1,"1st",IF('print 10 lane'!M7=2,"2nd",IF('print 10 lane'!M7=3,"3rd",IF('print 10 lane'!M7=4,"4th",IF('print 10 lane'!M7=5,"5th",IF('print 10 lane'!M7=6,"6th",IF('print 10 lane'!M7=7,"7th",IF('print 10 lane'!M7=8,"8th",IF('print 10 lane'!M7=9,"9th",IF('print 10 lane'!M7=10,"10th")))))))))) -> 6th | F26: =IF('print 10 lane'!P7=1,"1st",IF('print 10 lane'!P7=2,"2nd",IF('print 10 lane'!P7=3,"3rd",IF('print 10 lane'!P7=4,"4th",IF('print 10 lane'!P7=5,"5th",IF('print 10 lane'!P7=6,"6th",IF('print 10 lane'!P7=7,"7th",IF('print 10 lane'!P7=8,"8th",IF('print 10 lane'!P7=9,"9th",IF('print 10 lane'!P7=10,"10th")))))))))) -> 5th | G26: =IF('print 10 lane'!S7=1,"1st",IF('print 10 lane'!S7=2,"2nd",IF('print 10 lane'!S7=3,"3rd",IF('print 10 lane'!S7=4,"4th",IF('print 10 lane'!S7=5,"5th",IF('print 10 lane'!S7=6,"6th",IF('print 10 lane'!S7=7,"7th",IF('print 10 lane'!S7=8,"8th",IF('print 10 lane'!S7=9,"9th",IF('print 10 lane'!S7=10,"10th")))))))))) -> 2nd | H26: =IF('print 10 lane'!V7=1,"1st",IF('print 10 lane'!V7=2,"2nd",IF('print 10 lane'!V7=3,"3rd",IF('print 10 lane'!V7=4,"4th",IF('print 10 lane'!V7=5,"5th",IF('print 10 lane'!V7=6,"6th",IF('print 10 lane'!V7=7,"7th",IF('print 10 lane'!V7=8,"8th",IF('print 10 lane'!V7=9,"9th",IF('print 10 lane'!V7=10,"10th")))))))))) -> 1st | I26: =IF('print 10 lane'!Y7=1,"1st",IF('print 10 lane'!Y7=2,"2nd",IF('print 10 lane'!Y7=3,"3rd",IF('print 10 lane'!Y7=4,"4th",IF('print 10 lane'!Y7=5,"5th",IF('print 10 lane'!Y7=6,"6th",IF('print 10 lane'!Y7=7,"7th",IF('print 10 lane'!Y7=8,"8th",IF('print 10 lane'!Y7=9,"9th",IF('print 10 lane'!Y7=10,"10th")))))))))) -> 3rd | J26: =IF('print 10 lane'!AB7=1,"1st",IF('print 10 lane'!AB7=2,"2nd",IF('print 10 lane'!AB7=3,"3rd",IF('print 10 lane'!AB7=4,"4th",IF('print 10 lane'!AB7=5,"5th",IF('print 10 lane'!AB7=6,"6th",IF('print 10 lane'!AB7=7,"7th",IF('print 10 lane'!AB7=8,"8th",IF('print 10 lane'!AB7=9,"9th",IF('print 10 lane'!AB7=10,"10th")))))))))) -> 4th | K26: =IF('print 10 lane'!AE7=1,"1st",IF('print 10 lane'!AE7=2,"2nd",IF('print 10 lane'!AE7=3,"3rd",IF('print 10 lane'!AE7=4,"4th",IF('print 10 lane'!AE7=5,"5th",IF('print 10 lane'!AE7=6,"6th",IF('print 10 lane'!AE7=7,"7th",IF('print 10 lane'!AE7=8,"8th",IF('print 10 lane'!AE7=9,"9th",IF('print 10 lane'!AE7=10,"10th")))))))))) -> FALSE | L26: =IF('print 10 lane'!AH7=1,"1st",IF('print 10 lane'!AH7=2,"2nd",IF('print 10 lane'!AH7=3,"3rd",IF('print 10 lane'!AH7=4,"4th",IF('print 10 lane'!AH7=5,"5th",IF('print 10 lane'!AH7=6,"6th",IF('print 10 lane'!AH7=7,"7th",IF('print 10 lane'!AH7=8,"8th",IF('print 10 lane'!AH7=9,"9th",IF('print 10 lane'!AH7=10,"10th")))))))))) -> FALSE | M26: =IF('print 10 lane'!AK7=1,"1st",IF('print 10 lane'!AK7=2,"2nd",IF('print 10 lane'!AK7=3,"3rd",IF('print 10 lane'!AK7=4,"4th",IF('print 10 lane'!AK7=5,"5th",IF('print 10 lane'!AK7=6,"6th",IF('print 10 lane'!AK7=7,"7th",IF('print 10 lane'!AK7=8,"8th",IF('print 10 lane'!AK7=9,"9th",IF('print 10 lane'!AK7=10,"10th")))))))))) -> FALSE | N26: =IF(M25>0,1) -> FALSE | O26: ='Final result'!H26 -> 0 | P26: =IF(O26=0,0,'Final result'!G26) -> 0 | R26: ='Final result'!M26 -> FALSE | S26: =AC26 -> FALSE | T26: =INDIRECT(ADDRESS(ROW(),T$18)) -> 0 | U26: =INDIRECT(ADDRESS(ROW(),U$18)) -> 7th | V26: =INDIRECT(ADDRESS(ROW(),V$18)) -> 6th | W26: =INDIRECT(ADDRESS(ROW(),W$18)) -> 5th | X26: =INDIRECT(ADDRESS(ROW(),X$18)) -> 2nd | Y26: =INDIRECT(ADDRESS(ROW(),Y$18)) -> 1st | Z26: =INDIRECT(ADDRESS(ROW(),Z$18)) -> 3rd | AA26: =INDIRECT(ADDRESS(ROW(),AA$18)) -> 4th | ... AC26: =INDIRECT(ADDRESS(ROW(),AC$18)) -> FALSE | AF26: =IF(N27<10,0,IF(AF5=0,0,IF(AH26=AH25,AF25,"10th"))) -> 0 | AG26: =IF(N27<10,0,IF(M5=0,0,IF(D$26="10th",D$24,IF(E$26="10th",E$24,IF(F$26="10th",F$24,IF(G$26="10th",G$24,IF(H$26="10th",H$24,IF(I$26="10th",I$24,IF(J$26="10th",J$24,IF(K$26="10th",K$24,IF(L$26="10th",L$24,IF(M$26="10th",M$24,IF(M$26="9th",M$24,IF(L$26="9th",L$24,IF(K$26="9th",K$24,IF(J$26="9th",J$24,IF(I$26="9th",I$24,IF(H$26="9th",H$24,IF(G$26="9th",G$24,IF(F$26="9th",F$24,IF(E$26="9th",E$24,IF(D$26="9th",D$24,IF(D$26="8th",D$24,IF(M$26="8th",M$24,IF(L$26="8th",L$24,IF(K$26="8th",K$24,IF(J$26="8th",J$24,IF(I$26="8th",I$24,IF(H$26="8th",H$24,IF(G$26="8th",G$24,IF(F$26="8th",F$24,IF(E$26="8th",E$24)))))))))))))))))))))))))))))))) -> 0 | AH26: =IF(AG26=0,0,IF(D$26="10th",D$25,IF(E$26="10th",E$25,IF(F$26="10th",F$25,IF(G$26="10th",G$25,IF(H$26="10th",H$25,IF(I$26="10th",I$25,IF(J$26="10th",J$25,IF(K$26="10th",K$25,IF(L$26="10th",L$25,IF(M$26="10th",M$25,IF(M$26="9th",M$25,IF(L$26="9th",L$25,IF(K$26="9th",K$25,IF(J$26="9th",J$25,IF(I$26="9th",I$25,IF(H$26="9th",H$25,IF(G$26="9th",G$25,IF(F$26="9th",F$25,IF(E$26="9th",E$25,IF(D$26="9th",D$25,IF(M$26="8th",M$25,IF(L$26="8th",L$25,IF(K$26="8th",K$25,IF(J$26="8th",J$25,IF(I$26="8th",I$25,IF(H$26="8th",H$25,IF(G$26="8th",G$25,IF(F$26="8th",F$25,IF(E$26="8th",E$25,IF(D$26="8th",D$25))))))))))))))))))))))))))))))) -> 0
N27: =SUM(N5:N26) -> 7 | O27: ='Gala Setup'!S4 -> NASL.2023 V6 | S27: =AC27 -> 0 | T27: =INDIRECT(ADDRESS(ROW(),T$18)) -> 0 | U27: =INDIRECT(ADDRESS(ROW(),U$18)) -> 0 | V27: =INDIRECT(ADDRESS(ROW(),V$18)) -> 0 | W27: =INDIRECT(ADDRESS(ROW(),W$18)) -> 0 | X27: =INDIRECT(ADDRESS(ROW(),X$18)) -> 0 | Y27: =INDIRECT(ADDRESS(ROW(),Y$18)) -> 0 | Z27: =INDIRECT(ADDRESS(ROW(),Z$18)) -> 0 | AA27: =INDIRECT(ADDRESS(ROW(),AA$18)) -> 0 | ... AC27: =INDIRECT(ADDRESS(ROW(),AC$18)) -> 0
B28: EVENTS | D28: LANE | E28: LANE | F28: LANE | G28: LANE | H28: LANE | I28: LANE | J28: LANE | K28: LANE | L28: LANE | M28: LANE | O28: When points are equal, countback on all races is used to place clubs. For the table above to be fully functional a spread of events may be needed. The lane columns show places from gala points only.
D29: ='Gala Setup'!N4 -> 1 | E29: ='Gala Setup'!N5 -> 2 | F29: ='Gala Setup'!N6 -> 3 | G29: ='Gala Setup'!N7 -> 4 | H29: ='Gala Setup'!N8 -> 5 | I29: ='Gala Setup'!N9 -> 6 | J29: ='Gala Setup'!N10 -> 7 | K29: ='Gala Setup'!N11 -> 0 | L29: ='Gala Setup'!N12 -> 0 | M29: ='Gala Setup'!N13 -> 0
B30: Error Correction | D30: Error correction is simple. At any time during or after the Gala, Simply DELETE the incorrect information & retype with the correction. DO NOT USE DRAG & DROP or CUT & PASTE. ---------- These processes will create #REF! & result in loss of data. | O30: ='Gala Setup'!S4 -> NASL.2023 V6
B31: EVENT 1 | C31: PLACE | D31: ='print 10 lane'!J12 -> 2 | E31: ='print 10 lane'!M12 -> 5 | F31: ='print 10 lane'!P12 -> 3 | G31: ='print 10 lane'!S12 -> 1 | H31: ='print 10 lane'!V12 -> 7 | I31: ='print 10 lane'!Y12 -> 4 | J31: ='print 10 lane'!AB12 -> 6 | K31: ='print 10 lane'!AE12 -> 0 | L31: ='print 10 lane'!AH12 -> 0 | M31: ='print 10 lane'!AK12 -> 0 | O31: Any swim which requires no points to be awarded must have a zero entered into the time box. The reason for a no point allocation must be entered into the box below the swimmers name. Text will automatically allow space of approximately 30 letters (in the printout sheet) for this explanation.
C32: TIME | D32: 23406 | E32: 23956 | F32: 23461 | G32: 23120 | H32: 24331 | I32: 23815 | J32: 24026 | S32: =AC32 -> 0 | T32: =INDIRECT(ADDRESS(ROW(),T$18)) -> TIME | U32: =INDIRECT(ADDRESS(ROW(),U$18)) -> 23406 | V32: =INDIRECT(ADDRESS(ROW(),V$18)) -> 23956 | W32: =INDIRECT(ADDRESS(ROW(),W$18)) -> 23461 | X32: =INDIRECT(ADDRESS(ROW(),X$18)) -> 23120 | Y32: =INDIRECT(ADDRESS(ROW(),Y$18)) -> 24331 | Z32: =INDIRECT(ADDRESS(ROW(),Z$18)) -> 23815 | AA32: =INDIRECT(ADDRESS(ROW(),AA$18)) -> 24026 | ... AC32: =INDIRECT(ADDRESS(ROW(),AC$18)) -> 0
B33: ='Team 1'!B4 -> FEMALE 16+ 200M IM | C33: SWIMMER | D33: ='print 10 lane'!I13 -> Bianca Gomez-Velasco | E33: ='print 10 lane'!L13 -> Sophie Stelmach | F33: ='print 10 lane'!O13 -> Hannah Lovelock | G33: ='print 10 lane'!R13 -> Libby Blissett | H33: ='print 10 lane'!U13 -> Isabelle Talbot | I33: ='print 10 lane'!X13 -> Alice Sharrock | J33: ='print 10 lane'!AA13 -> Laura Hibberd | K33: ='print 10 lane'!AD13 | L33: ='print 10 lane'!AG13 | M33: ='print 10 lane'!AJ13 | S33: =AC33 | T33: =INDIRECT(ADDRESS(ROW(),T$18)) -> SWIMMER | U33: =INDIRECT(ADDRESS(ROW(),U$18)) -> Bianca Gomez-Velasco | V33: =INDIRECT(ADDRESS(ROW(),V$18)) -> Sophie Stelmach | W33: =INDIRECT(ADDRESS(ROW(),W$18)) -> Hannah Lovelock | X33: =INDIRECT(ADDRESS(ROW(),X$18)) -> Libby Blissett | Y33: =INDIRECT(ADDRESS(ROW(),Y$18)) -> Isabelle Talbot | Z33: =INDIRECT(ADDRESS(ROW(),Z$18)) -> Alice Sharrock | AA33: =INDIRECT(ADDRESS(ROW(),AA$18)) -> Laura Hibberd | ... AC33: =INDIRECT(ADDRESS(ROW(),AC$18))
C34: DQ REASON | S34: =AC34 -> 0 | T34: =INDIRECT(ADDRESS(ROW(),T$18)) -> DQ REASON | U34: =INDIRECT(ADDRESS(ROW(),U$18)) -> 0 | V34: =INDIRECT(ADDRESS(ROW(),V$18)) -> 0 | W34: =INDIRECT(ADDRESS(ROW(),W$18)) -> 0 | X34: =INDIRECT(ADDRESS(ROW(),X$18)) -> 0 | Y34: =INDIRECT(ADDRESS(ROW(),Y$18)) -> 0 | Z34: =INDIRECT(ADDRESS(ROW(),Z$18)) -> 0 | AA34: =INDIRECT(ADDRESS(ROW(),AA$18)) -> 0 | ... AC34: =INDIRECT(ADDRESS(ROW(),AC$18)) -> 0
B35: EVENT 2 | C35: PLACE | D35: ='print 10 lane'!J15 -> 0 | E35: ='print 10 lane'!M15 -> 6 | F35: ='print 10 lane'!P15 -> 5 | G35: ='print 10 lane'!S15 -> 3 | H35: ='print 10 lane'!V15 -> 2 | I35: ='print 10 lane'!Y15 -> 1 | J35: ='print 10 lane'!AB15 -> 4 | K35: ='print 10 lane'!AE15 -> 0 | L35: ='print 10 lane'!AH15 -> 0 | M35: ='print 10 lane'!AK15 -> 0
C36: TIME | D36: 0 | E36: 24067 | F36: 22788 | G36: 22375 | H36: 22274 | I36: 21941 | J36: 22554 | S36: =AC36 -> 0 | T36: =INDIRECT(ADDRESS(ROW(),T$18)) -> TIME | U36: =INDIRECT(ADDRESS(ROW(),U$18)) -> 0 | V36: =INDIRECT(ADDRESS(ROW(),V$18)) -> 24067 | W36: =INDIRECT(ADDRESS(ROW(),W$18)) -> 22788 | X36: =INDIRECT(ADDRESS(ROW(),X$18)) -> 22375 | Y36: =INDIRECT(ADDRESS(ROW(),Y$18)) -> 22274 | Z36: =INDIRECT(ADDRESS(ROW(),Z$18)) -> 21941 | AA36: =INDIRECT(ADDRESS(ROW(),AA$18)) -> 22554 | ... AC36: =INDIRECT(ADDRESS(ROW(),AC$18)) -> 0
B37: ='Team 1'!B5 -> OPEN/MALE 16+ 200M IM | C37: SWIMMER | D37: ='print 10 lane'!I16 -> Zente Buzsik | E37: ='print 10 lane'!L16 -> Harry Chapman | F37: ='print 10 lane'!O16 -> George Lovelock | G37: ='print 10 lane'!R16 -> Ellis Bunce | H37: ='print 10 lane'!U16 -> Albert Orley | I37: ='print 10 lane'!X16 -> Razvan Lembac | J37: ='print 10 lane'!AA16 -> Liam Treanor | K37: ='print 10 lane'!AD16 | L37: ='print 10 lane'!AG16 | M37: ='print 10 lane'!AJ16 | S37: =AC37 | T37: =INDIRECT(ADDRESS(ROW(),T$18)) -> SWIMMER | U37: =INDIRECT(ADDRESS(ROW(),U$18)) -> Zente Buzsik | V37: =INDIRECT(ADDRESS(ROW(),V$18)) -> Harry Chapman | W37: =INDIRECT(ADDRESS(ROW(),W$18)) -> George Lovelock | X37: =INDIRECT(ADDRESS(ROW(),X$18)) -> Ellis Bunce | Y37: =INDIRECT(ADDRESS(ROW(),Y$18)) -> Albert Orley | Z37: =INDIRECT(ADDRESS(ROW(),Z$18)) -> Razvan Lembac | AA37: =INDIRECT(ADDRESS(ROW(),AA$18)) -> Liam Treanor | ... AC37: =INDIRECT(ADDRESS(ROW(),AC$18))
C38: DQ REASON | D38: 6.4 did not initiate the turn straight away when turned onto breast | S38: =AC38 -> 0 | T38: =INDIRECT(ADDRESS(ROW(),T$18)) -> DQ REASON | U38: =INDIRECT(ADDRESS(ROW(),U$18)) -> 6.4 did not initiate the turn straight away when turned onto breast | V38: =INDIRECT(ADDRESS(ROW(),V$18)) -> 0 | W38: =INDIRECT(ADDRESS(ROW(),W$18)) -> 0 | X38: =INDIRECT(ADDRESS(ROW(),X$18)) -> 0 | Y38: =INDIRECT(ADDRESS(ROW(),Y$18)) -> 0 | Z38: =INDIRECT(ADDRESS(ROW(),Z$18)) -> 0 | AA38: =INDIRECT(ADDRESS(ROW(),AA$18)) -> 0 | ... AC38: =INDIRECT(ADDRESS(ROW(),AC$18)) -> 0
B39: EVENT 3 | C39: PLACE | D39: ='print 10 lane'!J18 -> 1 | E39: ='print 10 lane'!M18 -> 0 | F39: ='print 10 lane'!P18 -> 0 | G39: ='print 10 lane'!S18 -> 4 | H39: ='print 10 lane'!V18 -> 3 | I39: ='print 10 lane'!Y18 -> 5 | J39: ='print 10 lane'!AB18 -> 2 | K39: ='print 10 lane'!AE18 -> 0 | L39: ='print 10 lane'!AH18 -> 0 | M39: ='print 10 lane'!AK18 -> 0
B40: ='Team 1'!B6 -> FEMALE 9/11 4 X 50M FREESTYLE RELAY | C40: TIME | D40: 23002 | E40: 0 | F40: 0 | G40: 23871 | H40: 23688 | I40: 24575 | J40: 23678 | O40: Error correction. Simply overwrite the incorrect information. Do not use "Drag & Drop" or "Cut & Paste" as this will corrupt the programming | S40: =AC40 -> 0 | T40: =INDIRECT(ADDRESS(ROW(),T$18)) -> TIME | U40: =INDIRECT(ADDRESS(ROW(),U$18)) -> 23002 | V40: =INDIRECT(ADDRESS(ROW(),V$18)) -> 0 | W40: =INDIRECT(ADDRESS(ROW(),W$18)) -> 0 | X40: =INDIRECT(ADDRESS(ROW(),X$18)) -> 23871 | Y40: =INDIRECT(ADDRESS(ROW(),Y$18)) -> 23688 | Z40: =INDIRECT(ADDRESS(ROW(),Z$18)) -> 24575 | AA40: =INDIRECT(ADDRESS(ROW(),AA$18)) -> 23678 | ... AC40: =INDIRECT(ADDRESS(ROW(),AC$18)) -> 0
C41: DQ REASON | E41: OA swimmer | S41: =AC41 -> 0 | T41: =INDIRECT(ADDRESS(ROW(),T$18)) -> DQ REASON | U41: =INDIRECT(ADDRESS(ROW(),U$18)) -> 0 | V41: =INDIRECT(ADDRESS(ROW(),V$18)) -> OA swimmer | W41: =INDIRECT(ADDRESS(ROW(),W$18)) -> 0 | X41: =INDIRECT(ADDRESS(ROW(),X$18)) -> 0 | Y41: =INDIRECT(ADDRESS(ROW(),Y$18)) -> 0 | Z41: =INDIRECT(ADDRESS(ROW(),Z$18)) -> 0 | AA41: =INDIRECT(ADDRESS(ROW(),AA$18)) -> 0 | ... AC41: =INDIRECT(ADDRESS(ROW(),AC$18)) -> 0
B42: EVENT 4 | C42: PLACE | D42: ='print 10 lane'!J20 -> 0 | E42: ='print 10 lane'!M20 -> 1 | F42: ='print 10 lane'!P20 -> 0 | G42: ='print 10 lane'!S20 -> 5 | H42: ='print 10 lane'!V20 -> 2 | I42: ='print 10 lane'!Y20 -> 3 | J42: ='print 10 lane'!AB20 -> 4 | K42: ='print 10 lane'!AE20 -> 0 | L42: ='print 10 lane'!AH20 -> 0 | M42: ='print 10 lane'!AK20 -> 0
B43: ='Team 1'!B10 -> OPEN/MALE 9/11 4 X50M FREESTYLE RELAY | C43: TIME | D43: 0 | E43: 22169 | F43: 0 | G43: 25311 | H43: 22975 | I43: 23530 | J43: 25238 | S43: =AC43 -> 0 | T43: =INDIRECT(ADDRESS(ROW(),T$18)) -> TIME | U43: =INDIRECT(ADDRESS(ROW(),U$18)) -> 0 | V43: =INDIRECT(ADDRESS(ROW(),V$18)) -> 22169 | W43: =INDIRECT(ADDRESS(ROW(),W$18)) -> 0 | X43: =INDIRECT(ADDRESS(ROW(),X$18)) -> 25311 | Y43: =INDIRECT(ADDRESS(ROW(),Y$18)) -> 22975 | Z43: =INDIRECT(ADDRESS(ROW(),Z$18)) -> 23530 | AA43: =INDIRECT(ADDRESS(ROW(),AA$18)) -> 25238 | ... AC43: =INDIRECT(ADDRESS(ROW(),AC$18)) -> 0
C44: DQ REASON | D44: DNS | F44: 4.4 initiated the start before signal | S44: =AC44 -> 0 | T44: =INDIRECT(ADDRESS(ROW(),T$18)) -> DQ REASON | U44: =INDIRECT(ADDRESS(ROW(),U$18)) -> DNS | V44: =INDIRECT(ADDRESS(ROW(),V$18)) -> 0 | W44: =INDIRECT(ADDRESS(ROW(),W$18)) -> 4.4 initiated the start before signal | X44: =INDIRECT(ADDRESS(ROW(),X$18)) -> 0 | Y44: =INDIRECT(ADDRESS(ROW(),Y$18)) -> 0 | Z44: =INDIRECT(ADDRESS(ROW(),Z$18)) -> 0 | AA44: =INDIRECT(ADDRESS(ROW(),AA$18)) -> 0 | ... AC44: =INDIRECT(ADDRESS(ROW(),AC$18)) -> 0
B45: EVENT 5 | C45: PLACE | D45: ='print 10 lane'!J22 -> 2 | E45: ='print 10 lane'!M22 -> 4 | F45: ='print 10 lane'!P22 -> 1 | G45: ='print 10 lane'!S22 -> 3 | H45: ='print 10 lane'!V22 -> 5 | I45: ='print 10 lane'!Y22 -> 6 | J45: ='print 10 lane'!AB22 -> 0 | K45: ='print 10 lane'!AE22 -> 0 | L45: ='print 10 lane'!AH22 -> 0 | M45: ='print 10 lane'!AK22 -> 0
B46: ='Team 1'!B14 -> FEMALE 13/U 4 X 50M MEDLEY RELAY | C46: TIME | D46: 22221 | E46: 23054 | F46: 22072 | G46: 22286 | H46: 23066 | I46: 25048 | J46: 0 | S46: =AC46 -> 0 | T46: =INDIRECT(ADDRESS(ROW(),T$18)) -> TIME | U46: =INDIRECT(ADDRESS(ROW(),U$18)) -> 22221 | V46: =INDIRECT(ADDRESS(ROW(),V$18)) -> 23054 | W46: =INDIRECT(ADDRESS(ROW(),W$18)) -> 22072 | X46: =INDIRECT(ADDRESS(ROW(),X$18)) -> 22286 | Y46: =INDIRECT(ADDRESS(ROW(),Y$18)) -> 23066 | Z46: =INDIRECT(ADDRESS(ROW(),Z$18)) -> 25048 | AA46: =INDIRECT(ADDRESS(ROW(),AA$18)) -> 0 | ... AC46: =INDIRECT(ADDRESS(ROW(),AC$18)) -> 0
C47: DQ REASON | J47: 7.6 did not touch at the turn end with both hands simultaneously | S47: =AC47 -> 0 | T47: =INDIRECT(ADDRESS(ROW(),T$18)) -> DQ REASON | U47: =INDIRECT(ADDRESS(ROW(),U$18)) -> 0 | V47: =INDIRECT(ADDRESS(ROW(),V$18)) -> 0 | W47: =INDIRECT(ADDRESS(ROW(),W$18)) -> 0 | X47: =INDIRECT(ADDRESS(ROW(),X$18)) -> 0 | Y47: =INDIRECT(ADDRESS(ROW(),Y$18)) -> 0 | Z47: =INDIRECT(ADDRESS(ROW(),Z$18)) -> 0 | AA47: =INDIRECT(ADDRESS(ROW(),AA$18)) -> 7.6 did not touch at the turn end with both hands simultaneously | ... AC47: =INDIRECT(ADDRESS(ROW(),AC$18)) -> 0
B48: EVENT 6 | C48: PLACE | D48: ='print 10 lane'!J24 -> 5 | E48: ='print 10 lane'!M24 -> 4 | F48: ='print 10 lane'!P24 -> 3 | G48: ='print 10 lane'!S24 -> 7 | H48: ='print 10 lane'!V24 -> 6 | I48: ='print 10 lane'!Y24 -> 2 | J48: ='print 10 lane'!AB24 -> 1 | K48: ='print 10 lane'!AE24 -> 0 | L48: ='print 10 lane'!AH24 -> 0 | M48: ='print 10 lane'!AK24 -> 0
C49: TIME | D49: 23385 | E49: 22841 | F49: 22423 | G49: 24017 | H49: 23633 | I49: 21673 | J49: 21422 | O49: Any swim which requires no points to be awarded must have a zero entered into the time box. The reason for a no point allocation must be entered into the box below the swimmers name. Text will automatically allow space of approximately 30 letters (in the printout sheet) for this explanation. | S49: =AC49 -> 0 | T49: =INDIRECT(ADDRESS(ROW(),T$18)) -> TIME | U49: =INDIRECT(ADDRESS(ROW(),U$18)) -> 23385 | V49: =INDIRECT(ADDRESS(ROW(),V$18)) -> 22841 | W49: =INDIRECT(ADDRESS(ROW(),W$18)) -> 22423 | X49: =INDIRECT(ADDRESS(ROW(),X$18)) -> 24017 | Y49: =INDIRECT(ADDRESS(ROW(),Y$18)) -> 23633 | Z49: =INDIRECT(ADDRESS(ROW(),Z$18)) -> 21673 | AA49: =INDIRECT(ADDRESS(ROW(),AA$18)) -> 21422 | ... AC49: =INDIRECT(ADDRESS(ROW(),AC$18)) -> 0
B50: ='Team 1'!B18 -> OPEN/MALE 13/U 4 X 50M MEDLEY RELAY | C50: DQ REASON | S50: =AC50 -> 0 | T50: =INDIRECT(ADDRESS(ROW(),T$18)) -> DQ REASON | U50: =INDIRECT(ADDRESS(ROW(),U$18)) -> 0 | V50: =INDIRECT(ADDRESS(ROW(),V$18)) -> 0 | W50: =INDIRECT(ADDRESS(ROW(),W$18)) -> 0 | X50: =INDIRECT(ADDRESS(ROW(),X$18)) -> 0 | Y50: =INDIRECT(ADDRESS(ROW(),Y$18)) -> 0 | Z50: =INDIRECT(ADDRESS(ROW(),Z$18)) -> 0 | AA50: =INDIRECT(ADDRESS(ROW(),AA$18)) -> 0 | ... AC50: =INDIRECT(ADDRESS(ROW(),AC$18)) -> 0
B51: EVENT 7 | C51: PLACE | D51: ='print 10 lane'!J26 -> 7 | E51: ='print 10 lane'!M26 -> 6 | F51: ='print 10 lane'!P26 -> 4 | G51: ='print 10 lane'!S26 -> 5 | H51: ='print 10 lane'!V26 -> 1 | I51: ='print 10 lane'!Y26 -> 2 | J51: ='print 10 lane'!AB26 -> 3 | K51: ='print 10 lane'!AE26 -> 0 | L51: ='print 10 lane'!AH26 -> 0 | M51: ='print 10 lane'!AK26 -> 0
B52: ='Team 1'!B22 -> FEMALE 15/U 4 X 50M FREESTYLE RELAY | C52: TIME | D52: 20743 | E52: 20615 | F52: 20347 | G52: 20398 | H52: 20001 | I52: 20022 | J52: 20318 | S52: =AC52 -> 0 | T52: =INDIRECT(ADDRESS(ROW(),T$18)) -> TIME | U52: =INDIRECT(ADDRESS(ROW(),U$18)) -> 20743 | V52: =INDIRECT(ADDRESS(ROW(),V$18)) -> 20615 | W52: =INDIRECT(ADDRESS(ROW(),W$18)) -> 20347 | X52: =INDIRECT(ADDRESS(ROW(),X$18)) -> 20398 | Y52: =INDIRECT(ADDRESS(ROW(),Y$18)) -> 20001 | Z52: =INDIRECT(ADDRESS(ROW(),Z$18)) -> 20022 | AA52: =INDIRECT(ADDRESS(ROW(),AA$18)) -> 20318 | ... AC52: =INDIRECT(ADDRESS(ROW(),AC$18)) -> 0
C53: DQ REASON | S53: =AC53 -> 0 | T53: =INDIRECT(ADDRESS(ROW(),T$18)) -> DQ REASON | U53: =INDIRECT(ADDRESS(ROW(),U$18)) -> 0 | V53: =INDIRECT(ADDRESS(ROW(),V$18)) -> 0 | W53: =INDIRECT(ADDRESS(ROW(),W$18)) -> 0 | X53: =INDIRECT(ADDRESS(ROW(),X$18)) -> 0 | Y53: =INDIRECT(ADDRESS(ROW(),Y$18)) -> 0 | Z53: =INDIRECT(ADDRESS(ROW(),Z$18)) -> 0 | AA53: =INDIRECT(ADDRESS(ROW(),AA$18)) -> 0 | ... AC53: =INDIRECT(ADDRESS(ROW(),AC$18)) -> 0
B54: EVENT 8 | C54: PLACE | D54: ='print 10 lane'!J28 -> 7 | E54: ='print 10 lane'!M28 -> 5 | F54: ='print 10 lane'!P28 -> 6 | G54: ='print 10 lane'!S28 -> 4 | H54: ='print 10 lane'!V28 -> 2 | I54: ='print 10 lane'!Y28 -> 1 | J54: ='print 10 lane'!AB28 -> 3 | K54: ='print 10 lane'!AE28 -> 0 | L54: ='print 10 lane'!AH28 -> 0 | M54: ='print 10 lane'!AK28 -> 0
B55: ='Team 1'!B26 -> OPEN/MALE 15/U 4 X 50M FREESTYLE RELAY | C55: TIME | D55: 20615 | E55: 15705 | F55: 20397 | G55: 15457 | H55: 14954 | I55: 14904 | J55: 15388 | S55: =AC55 -> 0 | T55: =INDIRECT(ADDRESS(ROW(),T$18)) -> TIME | U55: =INDIRECT(ADDRESS(ROW(),U$18)) -> 20615 | V55: =INDIRECT(ADDRESS(ROW(),V$18)) -> 15705 | W55: =INDIRECT(ADDRESS(ROW(),W$18)) -> 20397 | X55: =INDIRECT(ADDRESS(ROW(),X$18)) -> 15457 | Y55: =INDIRECT(ADDRESS(ROW(),Y$18)) -> 14954 | Z55: =INDIRECT(ADDRESS(ROW(),Z$18)) -> 14904 | AA55: =INDIRECT(ADDRESS(ROW(),AA$18)) -> 15388 | ... AC55: =INDIRECT(ADDRESS(ROW(),AC$18)) -> 0
C56: DQ REASON | S56: =AC56 -> 0 | T56: =INDIRECT(ADDRESS(ROW(),T$18)) -> DQ REASON | U56: =INDIRECT(ADDRESS(ROW(),U$18)) -> 0 | V56: =INDIRECT(ADDRESS(ROW(),V$18)) -> 0 | W56: =INDIRECT(ADDRESS(ROW(),W$18)) -> 0 | X56: =INDIRECT(ADDRESS(ROW(),X$18)) -> 0 | Y56: =INDIRECT(ADDRESS(ROW(),Y$18)) -> 0 | Z56: =INDIRECT(ADDRESS(ROW(),Z$18)) -> 0 | AA56: =INDIRECT(ADDRESS(ROW(),AA$18)) -> 0 | ... AC56: =INDIRECT(ADDRESS(ROW(),AC$18)) -> 0
B57: EVENT 9 | C57: PLACE | D57: ='print 10 lane'!J30 -> 0 | E57: ='print 10 lane'!M30 -> 6 | F57: ='print 10 lane'!P30 -> 5 | G57: ='print 10 lane'!S30 -> 1 | H57: ='print 10 lane'!V30 -> 3 | I57: ='print 10 lane'!Y30 -> 4 | J57: ='print 10 lane'!AB30 -> 2 | K57: ='print 10 lane'!AE30 -> 0 | L57: ='print 10 lane'!AH30 -> 0 | M57: ='print 10 lane'!AK30 -> 0
B58: ='Team 1'!B30 -> FEMALE 16+ 4 X 50M MEDLEY RELAY | C58: TIME | D58: 0 | E58: 21986 | F58: 21945 | G58: 21111 | H58: 21657 | I58: 21848 | J58: 21219 | S58: =AC58 -> 0 | T58: =INDIRECT(ADDRESS(ROW(),T$18)) -> TIME | U58: =INDIRECT(ADDRESS(ROW(),U$18)) -> 0 | V58: =INDIRECT(ADDRESS(ROW(),V$18)) -> 21986 | W58: =INDIRECT(ADDRESS(ROW(),W$18)) -> 21945 | X58: =INDIRECT(ADDRESS(ROW(),X$18)) -> 21111 | Y58: =INDIRECT(ADDRESS(ROW(),Y$18)) -> 21657 | Z58: =INDIRECT(ADDRESS(ROW(),Z$18)) -> 21848 | AA58: =INDIRECT(ADDRESS(ROW(),AA$18)) -> 21219 | ... AC58: =INDIRECT(ADDRESS(ROW(),AC$18)) -> 0
C59: DQ REASON | D59: 10.12 Jump before incoming swimmer touched the wall | O59: Error correction. Simply overwrite the incorrect information. Do not use "Drag & Drop" or "Cut & Paste" as this will corrupt the programming | S59: =AC59 -> 0 | T59: =INDIRECT(ADDRESS(ROW(),T$18)) -> DQ REASON | U59: =INDIRECT(ADDRESS(ROW(),U$18)) -> 10.12 Jump before incoming swimmer touched the wall | V59: =INDIRECT(ADDRESS(ROW(),V$18)) -> 0 | W59: =INDIRECT(ADDRESS(ROW(),W$18)) -> 0 | X59: =INDIRECT(ADDRESS(ROW(),X$18)) -> 0 | Y59: =INDIRECT(ADDRESS(ROW(),Y$18)) -> 0 | Z59: =INDIRECT(ADDRESS(ROW(),Z$18)) -> 0 | AA59: =INDIRECT(ADDRESS(ROW(),AA$18)) -> 0 | ... AC59: =INDIRECT(ADDRESS(ROW(),AC$18)) -> 0
B60: EVENT 10 | C60: PLACE | D60: ='print 10 lane'!J32 -> 6 | E60: ='print 10 lane'!M32 -> 5 | F60: ='print 10 lane'!P32 -> 0 | G60: ='print 10 lane'!S32 -> 2 | H60: ='print 10 lane'!V32 -> 4 | I60: ='print 10 lane'!Y32 -> 1 | J60: ='print 10 lane'!AB32 -> 3 | K60: ='print 10 lane'!AE32 -> 0 | L60: ='print 10 lane'!AH32 -> 0 | M60: ='print 10 lane'!AK32 -> 0
C61: TIME | D61: 21752 | E61: 21002 | F61: 0 | G61: 15935 | H61: 20271 | I61: 15701 | J61: 20270 | S61: =AC61 -> 0 | T61: =INDIRECT(ADDRESS(ROW(),T$18)) -> TIME | U61: =INDIRECT(ADDRESS(ROW(),U$18)) -> 21752 | V61: =INDIRECT(ADDRESS(ROW(),V$18)) -> 21002 | W61: =INDIRECT(ADDRESS(ROW(),W$18)) -> 0 | X61: =INDIRECT(ADDRESS(ROW(),X$18)) -> 15935 | Y61: =INDIRECT(ADDRESS(ROW(),Y$18)) -> 20271 | Z61: =INDIRECT(ADDRESS(ROW(),Z$18)) -> 15701 | AA61: =INDIRECT(ADDRESS(ROW(),AA$18)) -> 20270 | ... AC61: =INDIRECT(ADDRESS(ROW(),AC$18)) -> 0
B62: ='Team 1'!B34 -> OPEN/MALE 16+ 4 X 50M MEDLEY RELAY | C62: DQ REASON | F62: 10.12 swimmer left the block before incoming swimmer touched the wall | S62: =AC62 -> 0 | T62: =INDIRECT(ADDRESS(ROW(),T$18)) -> DQ REASON | U62: =INDIRECT(ADDRESS(ROW(),U$18)) -> 0 | V62: =INDIRECT(ADDRESS(ROW(),V$18)) -> 0 | W62: =INDIRECT(ADDRESS(ROW(),W$18)) -> 10.12 swimmer left the block before incoming swimmer touched the wall | X62: =INDIRECT(ADDRESS(ROW(),X$18)) -> 0 | Y62: =INDIRECT(ADDRESS(ROW(),Y$18)) -> 0 | Z62: =INDIRECT(ADDRESS(ROW(),Z$18)) -> 0 | AA62: =INDIRECT(ADDRESS(ROW(),AA$18)) -> 0 | ... AC62: =INDIRECT(ADDRESS(ROW(),AC$18)) -> 0
B63: EVENT 11 | C63: PLACE | D63: ='print 10 lane'!J34 -> 4 | E63: ='print 10 lane'!M34 -> 5 | F63: ='print 10 lane'!P34 -> 0 | G63: ='print 10 lane'!S34 -> 2 | H63: ='print 10 lane'!V34 -> 1 | I63: ='print 10 lane'!Y34 -> 6 | J63: ='print 10 lane'!AB34 -> 3 | K63: ='print 10 lane'!AE34 -> 0 | L63: ='print 10 lane'!AH34 -> 0 | M63: ='print 10 lane'!AK34 -> 0
C64: TIME | D64: 4449 | E64: 4492 | F64: 0 | G64: 4030 | H64: 4019 | I64: 4619 | J64: 4281 | S64: =AC64 -> 0 | T64: =INDIRECT(ADDRESS(ROW(),T$18)) -> TIME | U64: =INDIRECT(ADDRESS(ROW(),U$18)) -> 4449 | V64: =INDIRECT(ADDRESS(ROW(),V$18)) -> 4492 | W64: =INDIRECT(ADDRESS(ROW(),W$18)) -> 0 | X64: =INDIRECT(ADDRESS(ROW(),X$18)) -> 4030 | Y64: =INDIRECT(ADDRESS(ROW(),Y$18)) -> 4019 | Z64: =INDIRECT(ADDRESS(ROW(),Z$18)) -> 4619 | AA64: =INDIRECT(ADDRESS(ROW(),AA$18)) -> 4281 | ... AC64: =INDIRECT(ADDRESS(ROW(),AC$18)) -> 0
B65: ='Team 1'!B38 -> Female 10/11 50m Backstroke | C65: SWIMMER | D65: ='print 10 lane'!I35 -> Eleanor Skinner | E65: ='print 10 lane'!L35 -> Esmae Green | F65: ='print 10 lane'!O35 -> Hannah Jounor | G65: ='print 10 lane'!R35 -> Chelsea Dare | H65: ='print 10 lane'!U35 -> Maisie Cooper | I65: ='print 10 lane'!X35 -> Mahika Chandrashekar | J65: ='print 10 lane'!AA35 -> Zara Jobanputra | K65: ='print 10 lane'!AD35 | L65: ='print 10 lane'!AG35 | M65: ='print 10 lane'!AJ35 | S65: =AC65 | T65: =INDIRECT(ADDRESS(ROW(),T$18)) -> SWIMMER | U65: =INDIRECT(ADDRESS(ROW(),U$18)) -> Eleanor Skinner | V65: =INDIRECT(ADDRESS(ROW(),V$18)) -> Esmae Green | W65: =INDIRECT(ADDRESS(ROW(),W$18)) -> Hannah Jounor | X65: =INDIRECT(ADDRESS(ROW(),X$18)) -> Chelsea Dare | Y65: =INDIRECT(ADDRESS(ROW(),Y$18)) -> Maisie Cooper | Z65: =INDIRECT(ADDRESS(ROW(),Z$18)) -> Mahika Chandrashekar | AA65: =INDIRECT(ADDRESS(ROW(),AA$18)) -> Zara Jobanputra | ... AC65: =INDIRECT(ADDRESS(ROW(),AC$18))
C66: DQ REASON | S66: =AC66 -> 0 | T66: =INDIRECT(ADDRESS(ROW(),T$18)) -> DQ REASON | U66: =INDIRECT(ADDRESS(ROW(),U$18)) -> 0 | V66: =INDIRECT(ADDRESS(ROW(),V$18)) -> 0 | W66: =INDIRECT(ADDRESS(ROW(),W$18)) -> 0 | X66: =INDIRECT(ADDRESS(ROW(),X$18)) -> 0 | Y66: =INDIRECT(ADDRESS(ROW(),Y$18)) -> 0 | Z66: =INDIRECT(ADDRESS(ROW(),Z$18)) -> 0 | AA66: =INDIRECT(ADDRESS(ROW(),AA$18)) -> 0 | ... AC66: =INDIRECT(ADDRESS(ROW(),AC$18)) -> 0
B67: EVENT 12 | C67: PLACE | D67: ='print 10 lane'!J37 -> 0 | E67: ='print 10 lane'!M37 -> 1 | F67: ='print 10 lane'!P37 -> 6 | G67: ='print 10 lane'!S37 -> 5 | H67: ='print 10 lane'!V37 -> 2 | I67: ='print 10 lane'!Y37 -> 3 | J67: ='print 10 lane'!AB37 -> 4 | K67: ='print 10 lane'!AE37 -> 0 | L67: ='print 10 lane'!AH37 -> 0 | M67: ='print 10 lane'!AK37 -> 0
C68: TIME | D68: 0 | E68: 4027 | F68: 4695 | G68: 4637 | H68: 4136 | I68: 4499 | J68: 4607 | O68: =O31 -> Any swim which requires no points to be awarded must have a zero entered into the time box. The reason for a no point allocation must be entered into the box below the swimmers name. Text will automatically allow space of approximately 30 letters (in the printout sheet) for this explanation. | S68: =AC68 -> 0 | T68: =INDIRECT(ADDRESS(ROW(),T$18)) -> TIME | U68: =INDIRECT(ADDRESS(ROW(),U$18)) -> 0 | V68: =INDIRECT(ADDRESS(ROW(),V$18)) -> 4027 | W68: =INDIRECT(ADDRESS(ROW(),W$18)) -> 4695 | X68: =INDIRECT(ADDRESS(ROW(),X$18)) -> 4637 | Y68: =INDIRECT(ADDRESS(ROW(),Y$18)) -> 4136 | Z68: =INDIRECT(ADDRESS(ROW(),Z$18)) -> 4499 | AA68: =INDIRECT(ADDRESS(ROW(),AA$18)) -> 4607 | ... AC68: =INDIRECT(ADDRESS(ROW(),AC$18)) -> 0
B69: ='Team 1'!B39 -> Open/Male 10/11 50m Backstroke | C69: SWIMMER | D69: ='print 10 lane'!I38 -> Leonardo Goad | E69: ='print 10 lane'!L38 -> James Winter | F69: ='print 10 lane'!O38 -> Liam Thompson | G69: ='print 10 lane'!R38 -> Simon Rosa | H69: ='print 10 lane'!U38 -> Myron Young | I69: ='print 10 lane'!X38 -> Macsen Roberts | J69: ='print 10 lane'!AA38 -> Christopher Li Mow Ching | K69: ='print 10 lane'!AD38 | L69: ='print 10 lane'!AG38 | M69: ='print 10 lane'!AJ38 | S69: =AC69 | T69: =INDIRECT(ADDRESS(ROW(),T$18)) -> SWIMMER | U69: =INDIRECT(ADDRESS(ROW(),U$18)) -> Leonardo Goad | V69: =INDIRECT(ADDRESS(ROW(),V$18)) -> James Winter | W69: =INDIRECT(ADDRESS(ROW(),W$18)) -> Liam Thompson | X69: =INDIRECT(ADDRESS(ROW(),X$18)) -> Simon Rosa | Y69: =INDIRECT(ADDRESS(ROW(),Y$18)) -> Myron Young | Z69: =INDIRECT(ADDRESS(ROW(),Z$18)) -> Macsen Roberts | AA69: =INDIRECT(ADDRESS(ROW(),AA$18)) -> Christopher Li Mow Ching | ... AC69: =INDIRECT(ADDRESS(ROW(),AC$18))
C70: DQ REASON | D70: 6.2 left position on back except when executing the turn | S70: =AC70 -> 0 | T70: =INDIRECT(ADDRESS(ROW(),T$18)) -> DQ REASON | U70: =INDIRECT(ADDRESS(ROW(),U$18)) -> 6.2 left position on back except when executing the turn | V70: =INDIRECT(ADDRESS(ROW(),V$18)) -> 0 | W70: =INDIRECT(ADDRESS(ROW(),W$18)) -> 0 | X70: =INDIRECT(ADDRESS(ROW(),X$18)) -> 0 | Y70: =INDIRECT(ADDRESS(ROW(),Y$18)) -> 0 | Z70: =INDIRECT(ADDRESS(ROW(),Z$18)) -> 0 | AA70: =INDIRECT(ADDRESS(ROW(),AA$18)) -> 0 | ... AC70: =INDIRECT(ADDRESS(ROW(),AC$18)) -> 0
B71: EVENT 13 | C71: PLACE | D71: ='print 10 lane'!J40 -> 1 | E71: ='print 10 lane'!M40 -> 5 | F71: ='print 10 lane'!P40 -> 2 | G71: ='print 10 lane'!S40 -> 3 | H71: ='print 10 lane'!V40 -> 6 | I71: ='print 10 lane'!Y40 -> 7 | J71: ='print 10 lane'!AB40 -> 4 | K71: ='print 10 lane'!AE40 -> 0 | L71: ='print 10 lane'!AH40 -> 0 | M71: ='print 10 lane'!AK40 -> 0
C72: TIME | D72: 12127 | E72: 13739 | F72: 12220 | G72: 13083 | H72: 13808 | I72: 14372 | J72: 13364 | S72: =AC72 -> 0 | T72: =INDIRECT(ADDRESS(ROW(),T$18)) -> TIME | U72: =INDIRECT(ADDRESS(ROW(),U$18)) -> 12127 | V72: =INDIRECT(ADDRESS(ROW(),V$18)) -> 13739 | W72: =INDIRECT(ADDRESS(ROW(),W$18)) -> 12220 | X72: =INDIRECT(ADDRESS(ROW(),X$18)) -> 13083 | Y72: =INDIRECT(ADDRESS(ROW(),Y$18)) -> 13808 | Z72: =INDIRECT(ADDRESS(ROW(),Z$18)) -> 14372 | AA72: =INDIRECT(ADDRESS(ROW(),AA$18)) -> 13364 | ... AC72: =INDIRECT(ADDRESS(ROW(),AC$18)) -> 0
B73: ='Team 1'!B40 -> Female 13/U 100m Breaststroke | C73: SWIMMER | D73: ='print 10 lane'!I41 -> Amy Hanson | E73: ='print 10 lane'!L41 -> Ruby Whitby | F73: ='print 10 lane'!O41 -> Mia Nelson | G73: ='print 10 lane'!R41 -> Frances Starsmore | H73: ='print 10 lane'!U41 -> Isabelle Reeve | I73: ='print 10 lane'!X41 -> Emma Sum | J73: ='print 10 lane'!AA41 -> Mia Curle | K73: ='print 10 lane'!AD41 | L73: ='print 10 lane'!AG41 | M73: ='print 10 lane'!AJ41 | S73: =AC73 | T73: =INDIRECT(ADDRESS(ROW(),T$18)) -> SWIMMER | U73: =INDIRECT(ADDRESS(ROW(),U$18)) -> Amy Hanson | V73: =INDIRECT(ADDRESS(ROW(),V$18)) -> Ruby Whitby | W73: =INDIRECT(ADDRESS(ROW(),W$18)) -> Mia Nelson | X73: =INDIRECT(ADDRESS(ROW(),X$18)) -> Frances Starsmore | Y73: =INDIRECT(ADDRESS(ROW(),Y$18)) -> Isabelle Reeve | Z73: =INDIRECT(ADDRESS(ROW(),Z$18)) -> Emma Sum | AA73: =INDIRECT(ADDRESS(ROW(),AA$18)) -> Mia Curle | ... AC73: =INDIRECT(ADDRESS(ROW(),AC$18))
C74: DQ REASON | S74: =AC74 -> 0 | T74: =INDIRECT(ADDRESS(ROW(),T$18)) -> DQ REASON | U74: =INDIRECT(ADDRESS(ROW(),U$18)) -> 0 | V74: =INDIRECT(ADDRESS(ROW(),V$18)) -> 0 | W74: =INDIRECT(ADDRESS(ROW(),W$18)) -> 0 | X74: =INDIRECT(ADDRESS(ROW(),X$18)) -> 0 | Y74: =INDIRECT(ADDRESS(ROW(),Y$18)) -> 0 | Z74: =INDIRECT(ADDRESS(ROW(),Z$18)) -> 0 | AA74: =INDIRECT(ADDRESS(ROW(),AA$18)) -> 0 | ... AC74: =INDIRECT(ADDRESS(ROW(),AC$18)) -> 0
B75: EVENT 14 | C75: PLACE | D75: ='print 10 lane'!J43 -> 7 | E75: ='print 10 lane'!M43 -> 5 | F75: ='print 10 lane'!P43 -> 3 | G75: ='print 10 lane'!S43 -> 6 | H75: ='print 10 lane'!V43 -> 2 | I75: ='print 10 lane'!Y43 -> 4 | J75: ='print 10 lane'!AB43 -> 1 | K75: ='print 10 lane'!AE43 -> 0 | L75: ='print 10 lane'!AH43 -> 0 | M75: ='print 10 lane'!AK43 -> 0
C76: TIME | D76: 14245 | E76: 13501 | F76: 13073 | G76: 14030 | H76: 13029 | I76: 13122 | J76: 11753 | S76: =AC76 -> 0 | T76: =INDIRECT(ADDRESS(ROW(),T$18)) -> TIME | U76: =INDIRECT(ADDRESS(ROW(),U$18)) -> 14245 | V76: =INDIRECT(ADDRESS(ROW(),V$18)) -> 13501 | W76: =INDIRECT(ADDRESS(ROW(),W$18)) -> 13073 | X76: =INDIRECT(ADDRESS(ROW(),X$18)) -> 14030 | Y76: =INDIRECT(ADDRESS(ROW(),Y$18)) -> 13029 | Z76: =INDIRECT(ADDRESS(ROW(),Z$18)) -> 13122 | AA76: =INDIRECT(ADDRESS(ROW(),AA$18)) -> 11753 | ... AC76: =INDIRECT(ADDRESS(ROW(),AC$18)) -> 0
B77: ='Team 1'!B41 -> Open/Male 13/U 100m Breaststroke | C77: SWIMMER | D77: ='print 10 lane'!I44 -> Albert Nezha | E77: ='print 10 lane'!L44 -> Kai Jun Wai Cheung | F77: ='print 10 lane'!O44 -> Ryan Wimpenny | G77: ='print 10 lane'!R44 -> Samuel Rosa | H77: ='print 10 lane'!U44 -> Bradley Rawlinson | I77: ='print 10 lane'!X44 -> Dylan Roberts | J77: ='print 10 lane'!AA44 -> Advay Bhatia | K77: ='print 10 lane'!AD44 | L77: ='print 10 lane'!AG44 | M77: ='print 10 lane'!AJ44 | S77: =AC77 | T77: =INDIRECT(ADDRESS(ROW(),T$18)) -> SWIMMER | U77: =INDIRECT(ADDRESS(ROW(),U$18)) -> Albert Nezha | V77: =INDIRECT(ADDRESS(ROW(),V$18)) -> Kai Jun Wai Cheung | W77: =INDIRECT(ADDRESS(ROW(),W$18)) -> Ryan Wimpenny | X77: =INDIRECT(ADDRESS(ROW(),X$18)) -> Samuel Rosa | Y77: =INDIRECT(ADDRESS(ROW(),Y$18)) -> Bradley Rawlinson | Z77: =INDIRECT(ADDRESS(ROW(),Z$18)) -> Dylan Roberts | AA77: =INDIRECT(ADDRESS(ROW(),AA$18)) -> Advay Bhatia | ... AC77: =INDIRECT(ADDRESS(ROW(),AC$18))
C78: DQ REASON | S78: =AC78 -> 0 | T78: =INDIRECT(ADDRESS(ROW(),T$18)) -> DQ REASON | U78: =INDIRECT(ADDRESS(ROW(),U$18)) -> 0 | V78: =INDIRECT(ADDRESS(ROW(),V$18)) -> 0 | W78: =INDIRECT(ADDRESS(ROW(),W$18)) -> 0 | X78: =INDIRECT(ADDRESS(ROW(),X$18)) -> 0 | Y78: =INDIRECT(ADDRESS(ROW(),Y$18)) -> 0 | Z78: =INDIRECT(ADDRESS(ROW(),Z$18)) -> 0 | AA78: =INDIRECT(ADDRESS(ROW(),AA$18)) -> 0 | ... AC78: =INDIRECT(ADDRESS(ROW(),AC$18)) -> 0
B79: EVENT 15 | C79: PLACE | D79: ='print 10 lane'!J46 -> 5 | E79: ='print 10 lane'!M46 -> 6 | F79: ='print 10 lane'!P46 -> 4 | G79: ='print 10 lane'!S46 -> 1 | H79: ='print 10 lane'!V46 -> 2 | I79: ='print 10 lane'!Y46 -> 3 | J79: ='print 10 lane'!AB46 -> 7 | K79: ='print 10 lane'!AE46 -> 0 | L79: ='print 10 lane'!AH46 -> 0 | M79: ='print 10 lane'!AK46 -> 0 | O79: Error correction. Simply overwrite the incorrect information. Do not use "Drag & Drop" or "Cut & Paste" as this will corrupt the programming
C80: TIME | D80: 11722 | E80: 11958 | F80: 11499 | G80: 10696 | H80: 11205 | I80: 11303 | J80: 12084 | S80: =AC80 -> 0 | T80: =INDIRECT(ADDRESS(ROW(),T$18)) -> TIME | U80: =INDIRECT(ADDRESS(ROW(),U$18)) -> 11722 | V80: =INDIRECT(ADDRESS(ROW(),V$18)) -> 11958 | W80: =INDIRECT(ADDRESS(ROW(),W$18)) -> 11499 | X80: =INDIRECT(ADDRESS(ROW(),X$18)) -> 10696 | Y80: =INDIRECT(ADDRESS(ROW(),Y$18)) -> 11205 | Z80: =INDIRECT(ADDRESS(ROW(),Z$18)) -> 11303 | AA80: =INDIRECT(ADDRESS(ROW(),AA$18)) -> 12084 | ... AC80: =INDIRECT(ADDRESS(ROW(),AC$18)) -> 0
B81: ='Team 1'!B42 -> Female 15/U 100m Backstroke | C81: SWIMMER | D81: ='print 10 lane'!I47 -> Shreya Bavishi | E81: ='print 10 lane'!L47 -> Daisy Harradine | F81: ='print 10 lane'!O47 -> Hannah Lovelock | G81: ='print 10 lane'!R47 -> Megan Johnson | H81: ='print 10 lane'!U47 -> Hollie Heighes | I81: ='print 10 lane'!X47 -> Alice Sharrock | J81: ='print 10 lane'!AA47 -> Keanna Roets | K81: ='print 10 lane'!AD47 | L81: ='print 10 lane'!AG47 | M81: ='print 10 lane'!AJ47 | S81: =AC81 | T81: =INDIRECT(ADDRESS(ROW(),T$18)) -> SWIMMER | U81: =INDIRECT(ADDRESS(ROW(),U$18)) -> Shreya Bavishi | V81: =INDIRECT(ADDRESS(ROW(),V$18)) -> Daisy Harradine | W81: =INDIRECT(ADDRESS(ROW(),W$18)) -> Hannah Lovelock | X81: =INDIRECT(ADDRESS(ROW(),X$18)) -> Megan Johnson | Y81: =INDIRECT(ADDRESS(ROW(),Y$18)) -> Hollie Heighes | Z81: =INDIRECT(ADDRESS(ROW(),Z$18)) -> Alice Sharrock | AA81: =INDIRECT(ADDRESS(ROW(),AA$18)) -> Keanna Roets | ... AC81: =INDIRECT(ADDRESS(ROW(),AC$18))
C82: DQ REASON | S82: =AC82 -> 0 | T82: =INDIRECT(ADDRESS(ROW(),T$18)) -> DQ REASON | U82: =INDIRECT(ADDRESS(ROW(),U$18)) -> 0 | V82: =INDIRECT(ADDRESS(ROW(),V$18)) -> 0 | W82: =INDIRECT(ADDRESS(ROW(),W$18)) -> 0 | X82: =INDIRECT(ADDRESS(ROW(),X$18)) -> 0 | Y82: =INDIRECT(ADDRESS(ROW(),Y$18)) -> 0 | Z82: =INDIRECT(ADDRESS(ROW(),Z$18)) -> 0 | AA82: =INDIRECT(ADDRESS(ROW(),AA$18)) -> 0 | ... AC82: =INDIRECT(ADDRESS(ROW(),AC$18)) -> 0
B83: EVENT 16 | C83: PLACE | D83: ='print 10 lane'!J49 -> 5 | E83: ='print 10 lane'!M49 -> 4 | F83: ='print 10 lane'!P49 -> 6 | G83: ='print 10 lane'!S49 -> 2 | H83: ='print 10 lane'!V49 -> 1 | I83: ='print 10 lane'!Y49 -> 0 | J83: ='print 10 lane'!AB49 -> 3 | K83: ='print 10 lane'!AE49 -> 0 | L83: ='print 10 lane'!AH49 -> 0 | M83: ='print 10 lane'!AK49 -> 0
C84: TIME | D84: 11965 | E84: 11082 | F84: 12483 | G84: 10710 | H84: 10460 | I84: 0 | J84: 11057 | S84: =AC84 -> 0 | T84: =INDIRECT(ADDRESS(ROW(),T$18)) -> TIME | U84: =INDIRECT(ADDRESS(ROW(),U$18)) -> 11965 | V84: =INDIRECT(ADDRESS(ROW(),V$18)) -> 11082 | W84: =INDIRECT(ADDRESS(ROW(),W$18)) -> 12483 | X84: =INDIRECT(ADDRESS(ROW(),X$18)) -> 10710 | Y84: =INDIRECT(ADDRESS(ROW(),Y$18)) -> 10460 | Z84: =INDIRECT(ADDRESS(ROW(),Z$18)) -> 0 | AA84: =INDIRECT(ADDRESS(ROW(),AA$18)) -> 11057 | ... AC84: =INDIRECT(ADDRESS(ROW(),AC$18)) -> 0
B85: ='Team 1'!B43 -> Open/Male 15/U 100m Backstroke | C85: SWIMMER | D85: ='print 10 lane'!I50 -> Zalan Tornay | E85: ='print 10 lane'!L50 -> Alexander Gregory | F85: ='print 10 lane'!O50 -> Alfie Bullock | G85: ='print 10 lane'!R50 -> Charles Raines | H85: ='print 10 lane'!U50 -> Albert Orley | I85: ='print 10 lane'!X50 -> Louis Waissman | J85: ='print 10 lane'!AA50 -> Tsz Kwai Chan | K85: ='print 10 lane'!AD50 | L85: ='print 10 lane'!AG50 | M85: ='print 10 lane'!AJ50 | S85: =AC85 | T85: =INDIRECT(ADDRESS(ROW(),T$18)) -> SWIMMER | U85: =INDIRECT(ADDRESS(ROW(),U$18)) -> Zalan Tornay | V85: =INDIRECT(ADDRESS(ROW(),V$18)) -> Alexander Gregory | W85: =INDIRECT(ADDRESS(ROW(),W$18)) -> Alfie Bullock | X85: =INDIRECT(ADDRESS(ROW(),X$18)) -> Charles Raines | Y85: =INDIRECT(ADDRESS(ROW(),Y$18)) -> Albert Orley | Z85: =INDIRECT(ADDRESS(ROW(),Z$18)) -> Louis Waissman | AA85: =INDIRECT(ADDRESS(ROW(),AA$18)) -> Tsz Kwai Chan | ... AC85: =INDIRECT(ADDRESS(ROW(),AC$18))
C86: DQ REASON | I86: 6.4 turn not initiated straight away once turned over | S86: =AC86 -> 0 | T86: =INDIRECT(ADDRESS(ROW(),T$18)) -> DQ REASON | U86: =INDIRECT(ADDRESS(ROW(),U$18)) -> 0 | V86: =INDIRECT(ADDRESS(ROW(),V$18)) -> 0 | W86: =INDIRECT(ADDRESS(ROW(),W$18)) -> 0 | X86: =INDIRECT(ADDRESS(ROW(),X$18)) -> 0 | Y86: =INDIRECT(ADDRESS(ROW(),Y$18)) -> 0 | Z86: =INDIRECT(ADDRESS(ROW(),Z$18)) -> 6.4 turn not initiated straight away once turned over | AA86: =INDIRECT(ADDRESS(ROW(),AA$18)) -> 0 | ... AC86: =INDIRECT(ADDRESS(ROW(),AC$18)) -> 0
B87: EVENT 17 | C87: PLACE | D87: ='print 10 lane'!J52 -> 3 | E87: ='print 10 lane'!M52 -> 7 | F87: ='print 10 lane'!P52 -> 6 | G87: ='print 10 lane'!S52 -> 1 | H87: ='print 10 lane'!V52 -> 2 | I87: ='print 10 lane'!Y52 -> 5 | J87: ='print 10 lane'!AB52 -> 4 | K87: ='print 10 lane'!AE52 -> 0 | L87: ='print 10 lane'!AH52 -> 0 | M87: ='print 10 lane'!AK52 -> 0
C88: TIME | D88: 11611 | E88: 11959 | F88: 11834 | G88: 10870 | H88: 11449 | I88: 11828 | J88: 11701 | O88: =O31 -> Any swim which requires no points to be awarded must have a zero entered into the time box. The reason for a no point allocation must be entered into the box below the swimmers name. Text will automatically allow space of approximately 30 letters (in the printout sheet) for this explanation. | S88: =AC88 -> 0 | T88: =INDIRECT(ADDRESS(ROW(),T$18)) -> TIME | U88: =INDIRECT(ADDRESS(ROW(),U$18)) -> 11611 | V88: =INDIRECT(ADDRESS(ROW(),V$18)) -> 11959 | W88: =INDIRECT(ADDRESS(ROW(),W$18)) -> 11834 | X88: =INDIRECT(ADDRESS(ROW(),X$18)) -> 10870 | Y88: =INDIRECT(ADDRESS(ROW(),Y$18)) -> 11449 | Z88: =INDIRECT(ADDRESS(ROW(),Z$18)) -> 11828 | AA88: =INDIRECT(ADDRESS(ROW(),AA$18)) -> 11701 | ... AC88: =INDIRECT(ADDRESS(ROW(),AC$18)) -> 0
B89: ='Team 1'!B44 -> Female 16+ 100m Butterfly | C89: SWIMMER | D89: ='print 10 lane'!I53 -> Maja Grzybek | E89: ='print 10 lane'!L53 -> Madeleine Bailiss | F89: ='print 10 lane'!O53 -> Sophie Clark | G89: ='print 10 lane'!R53 -> Libby Blissett | H89: ='print 10 lane'!U53 -> Kathryn Edwards | I89: ='print 10 lane'!X53 -> Laura Leksander | J89: ='print 10 lane'!AA53 -> Keira Brannigan | K89: ='print 10 lane'!AD53 | L89: ='print 10 lane'!AG53 | M89: ='print 10 lane'!AJ53 | S89: =AC89 | T89: =INDIRECT(ADDRESS(ROW(),T$18)) -> SWIMMER | U89: =INDIRECT(ADDRESS(ROW(),U$18)) -> Maja Grzybek | V89: =INDIRECT(ADDRESS(ROW(),V$18)) -> Madeleine Bailiss | W89: =INDIRECT(ADDRESS(ROW(),W$18)) -> Sophie Clark | X89: =INDIRECT(ADDRESS(ROW(),X$18)) -> Libby Blissett | Y89: =INDIRECT(ADDRESS(ROW(),Y$18)) -> Kathryn Edwards | Z89: =INDIRECT(ADDRESS(ROW(),Z$18)) -> Laura Leksander | AA89: =INDIRECT(ADDRESS(ROW(),AA$18)) -> Keira Brannigan | ... AC89: =INDIRECT(ADDRESS(ROW(),AC$18))
C90: DQ REASON | S90: =AC90 -> 0 | T90: =INDIRECT(ADDRESS(ROW(),T$18)) -> DQ REASON | U90: =INDIRECT(ADDRESS(ROW(),U$18)) -> 0 | V90: =INDIRECT(ADDRESS(ROW(),V$18)) -> 0 | W90: =INDIRECT(ADDRESS(ROW(),W$18)) -> 0 | X90: =INDIRECT(ADDRESS(ROW(),X$18)) -> 0 | Y90: =INDIRECT(ADDRESS(ROW(),Y$18)) -> 0 | Z90: =INDIRECT(ADDRESS(ROW(),Z$18)) -> 0 | AA90: =INDIRECT(ADDRESS(ROW(),AA$18)) -> 0 | ... AC90: =INDIRECT(ADDRESS(ROW(),AC$18)) -> 0
B91: EVENT 18 | C91: PLACE | D91: ='print 10 lane'!J55 -> 0 | E91: ='print 10 lane'!M55 -> 6 | F91: ='print 10 lane'!P55 -> 5 | G91: ='print 10 lane'!S55 -> 2 | H91: ='print 10 lane'!V55 -> 4 | I91: ='print 10 lane'!Y55 -> 1 | J91: ='print 10 lane'!AB55 -> 3 | K91: ='print 10 lane'!AE55 -> 0 | L91: ='print 10 lane'!AH55 -> 0 | M91: ='print 10 lane'!AK55 -> 0
C92: TIME | D92: 0 | E92: 13034 | F92: 10926 | G92: 10408 | H92: 10562 | I92: 10168 | J92: 10507 | S92: =AC92 -> 0 | T92: =INDIRECT(ADDRESS(ROW(),T$18)) -> TIME | U92: =INDIRECT(ADDRESS(ROW(),U$18)) -> 0 | V92: =INDIRECT(ADDRESS(ROW(),V$18)) -> 13034 | W92: =INDIRECT(ADDRESS(ROW(),W$18)) -> 10926 | X92: =INDIRECT(ADDRESS(ROW(),X$18)) -> 10408 | Y92: =INDIRECT(ADDRESS(ROW(),Y$18)) -> 10562 | Z92: =INDIRECT(ADDRESS(ROW(),Z$18)) -> 10168 | AA92: =INDIRECT(ADDRESS(ROW(),AA$18)) -> 10507 | ... AC92: =INDIRECT(ADDRESS(ROW(),AC$18)) -> 0
B93: ='Team 1'!B45 -> Open/Male 16+ 100m Butterfly | C93: SWIMMER | D93: ='print 10 lane'!I56 | E93: ='print 10 lane'!L56 -> Samuel Heraty | F93: ='print 10 lane'!O56 -> Luke Morley | G93: ='print 10 lane'!R56 -> Ellis Bunce | H93: ='print 10 lane'!U56 -> Daniel Parker | I93: ='print 10 lane'!X56 -> Shanil Ramaiya | J93: ='print 10 lane'!AA56 -> Liam Treanor | K93: ='print 10 lane'!AD56 | L93: ='print 10 lane'!AG56 | M93: ='print 10 lane'!AJ56 | S93: =AC93 | T93: =INDIRECT(ADDRESS(ROW(),T$18)) -> SWIMMER | U93: =INDIRECT(ADDRESS(ROW(),U$18)) | V93: =INDIRECT(ADDRESS(ROW(),V$18)) -> Samuel Heraty | W93: =INDIRECT(ADDRESS(ROW(),W$18)) -> Luke Morley | X93: =INDIRECT(ADDRESS(ROW(),X$18)) -> Ellis Bunce | Y93: =INDIRECT(ADDRESS(ROW(),Y$18)) -> Daniel Parker | Z93: =INDIRECT(ADDRESS(ROW(),Z$18)) -> Shanil Ramaiya | AA93: =INDIRECT(ADDRESS(ROW(),AA$18)) -> Liam Treanor | ... AC93: =INDIRECT(ADDRESS(ROW(),AC$18))
C94: DQ REASON | D94: DNS | S94: =AC94 -> 0 | T94: =INDIRECT(ADDRESS(ROW(),T$18)) -> DQ REASON | U94: =INDIRECT(ADDRESS(ROW(),U$18)) -> DNS | V94: =INDIRECT(ADDRESS(ROW(),V$18)) -> 0 | W94: =INDIRECT(ADDRESS(ROW(),W$18)) -> 0 | X94: =INDIRECT(ADDRESS(ROW(),X$18)) -> 0 | Y94: =INDIRECT(ADDRESS(ROW(),Y$18)) -> 0 | Z94: =INDIRECT(ADDRESS(ROW(),Z$18)) -> 0 | AA94: =INDIRECT(ADDRESS(ROW(),AA$18)) -> 0 | ... AC94: =INDIRECT(ADDRESS(ROW(),AC$18)) -> 0
B95: EVENT 19 | C95: PLACE | D95: ='print 10 lane'!J58 -> 1 | E95: ='print 10 lane'!M58 -> 3 | F95: ='print 10 lane'!P58 -> 2 | G95: ='print 10 lane'!S58 -> 5 | H95: ='print 10 lane'!V58 -> 7 | I95: ='print 10 lane'!Y58 -> 6 | J95: ='print 10 lane'!AB58 -> 4 | K95: ='print 10 lane'!AE58 -> 0 | L95: ='print 10 lane'!AH58 -> 0 | M95: ='print 10 lane'!AK58 -> 0
C96: TIME | D96: 3866 | E96: 4357 | F96: 4257 | G96: 4559 | H96: 4733 | I96: 4664 | J96: 4367 | S96: =AC96 -> 0 | T96: =INDIRECT(ADDRESS(ROW(),T$18)) -> TIME | U96: =INDIRECT(ADDRESS(ROW(),U$18)) -> 3866 | V96: =INDIRECT(ADDRESS(ROW(),V$18)) -> 4357 | W96: =INDIRECT(ADDRESS(ROW(),W$18)) -> 4257 | X96: =INDIRECT(ADDRESS(ROW(),X$18)) -> 4559 | Y96: =INDIRECT(ADDRESS(ROW(),Y$18)) -> 4733 | Z96: =INDIRECT(ADDRESS(ROW(),Z$18)) -> 4664 | AA96: =INDIRECT(ADDRESS(ROW(),AA$18)) -> 4367 | ... AC96: =INDIRECT(ADDRESS(ROW(),AC$18)) -> 0
B97: ='Team 1'!B46 -> Female 10/11 50m Butterfly | C97: SWIMMER | D97: ='print 10 lane'!I59 -> Claudia Savov | E97: ='print 10 lane'!L59 -> Maya Wegner | F97: ='print 10 lane'!O59 -> Scarlett Omand | G97: ='print 10 lane'!R59 -> Willow Brownbridge | H97: ='print 10 lane'!U59 -> Caoife Long | I97: ='print 10 lane'!X59 -> Miraya Patel | J97: ='print 10 lane'!AA59 -> Zara Jobanputra | K97: ='print 10 lane'!AD59 | L97: ='print 10 lane'!AG59 | M97: ='print 10 lane'!AJ59 | S97: =AC97 | T97: =INDIRECT(ADDRESS(ROW(),T$18)) -> SWIMMER | U97: =INDIRECT(ADDRESS(ROW(),U$18)) -> Claudia Savov | V97: =INDIRECT(ADDRESS(ROW(),V$18)) -> Maya Wegner | W97: =INDIRECT(ADDRESS(ROW(),W$18)) -> Scarlett Omand | X97: =INDIRECT(ADDRESS(ROW(),X$18)) -> Willow Brownbridge | Y97: =INDIRECT(ADDRESS(ROW(),Y$18)) -> Caoife Long | Z97: =INDIRECT(ADDRESS(ROW(),Z$18)) -> Miraya Patel | AA97: =INDIRECT(ADDRESS(ROW(),AA$18)) -> Zara Jobanputra | ... AC97: =INDIRECT(ADDRESS(ROW(),AC$18))
C98: DQ REASON | S98: =AC98 -> 0 | T98: =INDIRECT(ADDRESS(ROW(),T$18)) -> DQ REASON | U98: =INDIRECT(ADDRESS(ROW(),U$18)) -> 0 | V98: =INDIRECT(ADDRESS(ROW(),V$18)) -> 0 | W98: =INDIRECT(ADDRESS(ROW(),W$18)) -> 0 | X98: =INDIRECT(ADDRESS(ROW(),X$18)) -> 0 | Y98: =INDIRECT(ADDRESS(ROW(),Y$18)) -> 0 | Z98: =INDIRECT(ADDRESS(ROW(),Z$18)) -> 0 | AA98: =INDIRECT(ADDRESS(ROW(),AA$18)) -> 0 | ... AC98: =INDIRECT(ADDRESS(ROW(),AC$18)) -> 0
B99: EVENT 20 | C99: PLACE | D99: ='print 10 lane'!J61 -> 6 | E99: ='print 10 lane'!M61 -> 1 | F99: ='print 10 lane'!P61 -> 3 | G99: ='print 10 lane'!S61 -> 0 | H99: ='print 10 lane'!V61 -> 4 | I99: ='print 10 lane'!Y61 -> 2 | J99: ='print 10 lane'!AB61 -> 5 | K99: ='print 10 lane'!AE61 -> 0 | L99: ='print 10 lane'!AH61 -> 0 | M99: ='print 10 lane'!AK61 -> 0 | O99: Error correction. Simply overwrite the incorrect information. Do not use "Drag & Drop" or "Cut & Paste" as this will corrupt the programming
C100: TIME | D100: 5734 | E100: 3943 | F100: 4779 | G100: 0 | H100: 5018 | I100: 4120 | J100: 5022 | S100: =AC100 -> 0 | T100: =INDIRECT(ADDRESS(ROW(),T$18)) -> TIME | U100: =INDIRECT(ADDRESS(ROW(),U$18)) -> 5734 | V100: =INDIRECT(ADDRESS(ROW(),V$18)) -> 3943 | W100: =INDIRECT(ADDRESS(ROW(),W$18)) -> 4779 | X100: =INDIRECT(ADDRESS(ROW(),X$18)) -> 0 | Y100: =INDIRECT(ADDRESS(ROW(),Y$18)) -> 5018 | Z100: =INDIRECT(ADDRESS(ROW(),Z$18)) -> 4120 | AA100: =INDIRECT(ADDRESS(ROW(),AA$18)) -> 5022 | ... AC100: =INDIRECT(ADDRESS(ROW(),AC$18)) -> 0
...

Sheet Quick Check
D1: Gala Setup | F1: Gala Recording | H1: Time & Place Quick Check
B2: ='Gala Setup'!$S$4 -> NASL.2023 V6 | D2: LANE | F2: LANE | H2: LANE | J2: LANE | L2: LANE | N2: LANE | P2: LANE | R2: LANE | T2: LANE | V2: LANE
D3: ='Gala Setup'!N4 -> 1 | F3: ='Gala Setup'!N5 -> 2 | H3: ='Gala Setup'!N6 -> 3 | J3: ='Gala Setup'!N7 -> 4 | L3: ='Gala Setup'!N8 -> 5 | N3: ='Gala Setup'!N9 -> 6 | P3: ='Gala Setup'!N10 -> 7 | R3: ='Gala Setup'!N11 -> 0 | T3: ='Gala Setup'!N12 -> 0 | V3: ='Gala Setup'!N13 -> 0
