Workbook

Sheet Gala Setup
H1: 100M | I1: 200m | K1: Note to all those using this programme DO NOT USE "CUT & PASTE" or "DRAG & DROP" in any Arena documents
D2: ='Gala Setup'!J7 -> 3ER231478 | G2: =DATE(YEAR(NOW()),12,31) -> 45291 | H2: National Arena Swimming League | L2: Import or Edit Teams ↓ | N2: Enter Lane Numbers ALWAYS Starting with the lowest number ↓ | P2: Team names will show here when the team sheet is imported | Q2: Enter 4 digit club code HERE ↓ | AD2: =H2 -> National Arena Swimming League | AG2: =S4 -> NASL.2023 V6 | AH2: LANE | AI2: These are the names that have been entered on the team sheet
H3: Gala recorders:- Please fill in all red boxes.
B4: =H2 -> National Arena Swimming League | C4: =H6 -> AQUA VALE S & F CENTRE AYLESBURY | D4: =H6 -> AQUA VALE S & F CENTRE AYLESBURY | E4: =H7 -> 45269 | F4: =IF(J8=25,31,IF(J8=50,11)) -> 31 | G4: League | H4: LONDON | I4: Division | J4: ONE | L4: TEAM 1 | N4: 1 | O4: =IF(P4=0,"No Team Sheet",IF(M4=0,0,IF(M4=P4,"OK","ERROR"))) -> 0 | P4: =IF('Team 1'!E1=0,"The team in the lowest numbered lane must show here",'Team 1'!E1) -> HARINGEY AQUATICS | Q4: HABL | S4: NASL.2023 V6 | AD4: League | AE4: =H4 -> LONDON | AF4: DIVISION | AG4: =J4 -> ONE | AH4: LANE 1 | AI4: =P4 -> HARINGEY AQUATICS | AJ4: =M4 -> 0 | AK4: =IF(AJ4=0,"No Team Sheet",IF(AI4=0,0,IF(AI4=AJ4,"OK","ERROR"))) -> No Team Sheet | AL4: 6 LANES | AM4: 8 LANES | AN4: 10 LANES
E5: =TEXT(E4,"DD/MM/YY") -> 09/12/23 | G5: Round | H5: THREE | I5: Gala Number | J5: TWO | L5: TEAM 2 | N5: 2 | O5: =IF(P5=0,"No Team Sheet",IF(M5=0,0,IF(M5=P5,"OK","ERROR"))) -> 0 | P5: ='Team 2'!E$1 -> STEVENAGE | Q5: STET | AD5: Round | AE5: =H5 -> THREE | AF5: Gala Number | AG5: =J5 -> TWO | AH5: LANE 2 | AI5: =P5 -> STEVENAGE | AJ5: =M5 -> 0 | AK5: =IF(AJ5=0,"No Team Sheet",IF(AI5=0,0,IF(AI5=AJ5,"OK","ERROR"))) -> No Team Sheet
E6: =LEFT(E5,2)&MID(E5,4,2)&RIGHT(E5,2) -> 091223 | G6: Gala venue | H6: AQUA VALE S & F CENTRE AYLESBURY | L6: TEAM 3 | N6: 3 | O6: =IF(P6=0,"No Team Sheet",IF(M6=0,0,IF(M6=P6,"OK","ERROR"))) -> 0 | P6: ='Team 3'!E$1 -> BORO OF BROXBOURNE | Q6: BBST | AD6: Gala venue | AE6: =H6 -> AQUA VALE S & F CENTRE AYLESBURY | AH6: LANE 3 | AI6: =P6 -> BORO OF BROXBOURNE | AJ6: =M6 -> 0 | AK6: =IF(AJ6=0,"No Team Sheet",IF(AI6=0,0,IF(AI6=AJ6,"OK","ERROR"))) -> No Team Sheet
G7: Gala Date | H7: 45269 | I7: License Number (If applicable) | J7: 3ER231478 | L7: TEAM 4 | N7: 4 | O7: =IF(P7=0,"No Team Sheet",IF(M7=0,0,IF(M7=P7,"OK","ERROR"))) -> 0 | P7: ='Team 4'!E$1 -> AYLESBURY | Q7: AYBS | S7: ='Club Names & Codes'!A1 -> CLUB CODE LIST | AD7: Gala Date | AE7: =H7 -> 45269 | AH7: LANE 4 | AI7: =P7 -> AYLESBURY | AJ7: =M7 -> 0 | AK7: =IF(AJ7=0,"No Team Sheet",IF(AI7=0,0,IF(AI7=AJ7,"OK","ERROR"))) -> No Team Sheet
G8: Pool Length for all Arena galas is | J8: 25 | L8: TEAM 5 | N8: 5 | O8: =IF(P8=0,"No Team Sheet",IF(M8=0,0,IF(M8=P8,"OK","ERROR"))) -> 0 | P8: ='Team 5'!E$1 -> BRAINTREE & BOCKING | Q8: BTRT | AD8: Pool Length | AF8: =J8 -> 25 | AH8: LANE 5 | AI8: =P8 -> BRAINTREE & BOCKING | AJ8: =M8 -> 0 | AK8: =IF(AJ8=0,"No Team Sheet",IF(AI8=0,0,IF(AI8=AJ8,"OK","ERROR"))) -> No Team Sheet
G9: IM distance for all galas is | J9: 200M | L9: TEAM 6 | N9: 6 | O9: =IF(P9=0,"No Team Sheet",IF(M9=0,0,IF(M9=P9,"OK","ERROR"))) -> 0 | P9: ='Team 6'!E$1 -> Bo of Harrow | Q9: HAWL | S9: Swimmer Eligibilty | X9: Check a Result | AG9: Metre | AH9: LANE 6 | AI9: =P9 -> Bo of Harrow | AJ9: =M9 -> 0 | AK9: =IF(AJ9=0,"No Team Sheet",IF(AI9=0,0,IF(AI9=AJ9,"OK","ERROR"))) -> No Team Sheet
G10: Notes for Gala recorders. | L10: TEAM 7 | N10: 7 | O10: =IF(P10=0,"No Team Sheet",IF(M10=0,0,IF(M10=P10,"OK","ERROR"))) -> 0 | P10: ='Team 7'!E1 -> Hillingdon 'B' | Q10: HISL | R10: Results Printout 6 Lane | AH10: LANE 7 | AI10: =P10 -> Hillingdon 'B' | AJ10: =M10 -> 0 | AK10: =IF(AJ10=0,"No Team Sheet",IF(AI10=0,0,IF(AI10=AJ10,"OK","ERROR"))) -> No Team Sheet
G11: 1/ Please ensure that all gala details are correctly entered. Team names automatically appear as shown on the team sheets. The 4 digit club codes MUST then be entered on this page. 2/ Lane order is as supplied by your league secretary & lanes should be numbered on this sheet, to coincide with the pool setup. | L11: TEAM 8 | O11: =IF(P11=0,"No Team Sheet",IF(M11=0,0,IF(M11=P11,"OK","ERROR"))) -> No Team Sheet | P11: ='Team 8'!E1 -> 0 | R11: Results Printout 8 Lane | AD11: Medley distance | AF11: =J9 -> 200M | AH11: LANE 8 | AI11: =P11 -> 0 | AJ11: =M11 -> 0 | AK11: =IF(AJ11=0,"No Team Sheet",IF(AI11=0,0,IF(AI11=AJ11,"OK","ERROR"))) -> No Team Sheet
L12: TEAM 9 | O12: =IF(P12=0,"No Team Sheet",IF(M12=0,0,IF(M12=P12,"OK","ERROR"))) -> No Team Sheet | P12: ='Team 9'!E1 -> 0 | S12: Results Printout 10 Lane | AH12: LANE 9 | AI12: =P12 -> 0 | AJ12: =M12 -> 0 | AK12: =IF(AJ12=0,"No Team Sheet",IF(AI12=0,0,IF(AI12=AJ12,"OK","ERROR"))) -> No Team Sheet
G13: 3/ Team & lane data must always be entered starting with "Team 1" no matter how many teams are swimming or which number lanes are used. | L13: TEAM 10 | O13: =IF(P13=0,"No Team Sheet",IF(M13=0,0,IF(M13=P13,"OK","ERROR"))) -> No Team Sheet | P13: ='Team 10'!E1 -> 0 | S13: Rankings HDR file | X13: Rankings MRF file | AH13: LANE 0 | AI13: =P13 -> 0 | AJ13: =M13 -> 0 | AK13: =IF(AJ13=0,"No Team Sheet",IF(AI13=0,0,IF(AI13=AJ13,"OK","ERROR"))) -> No Team Sheet
G14: 4/ If an individual gala result is tied, places are automatically calculated on countback using all events. All placings are taken into account when necessary. | N14: → | P14: Print Lane timer sheets | X14: ←
G15: 5/ Navigation between the different parts of the programme can be either by selecting the links located within each page, or by using the sheet tabs at the bottom of the page. | L15: → | N15: Run the Gala | Y15: ←
G17: 6/ If a club name is made up entirely with numbers eg 1066 or 1930 then letters must be added for points to score correctly. SC is acceptable.
L19: ↗ | Y19: ↖
G20: Email this complete excel file to your league secretary as soon as possible & at the latest by Midday of the next day.

Sheet Club Names & Codes
A1: CLUB CODE LIST | D1: Gala set up | E1: Gala Recording | F1: COMPLETE ASA CLUB CODE DATABASE 2017
A2: CLUB | B2: CODE | C2: Rankings Name | D2: ='Gala Setup'!S4 -> NASL.2023 V6 | F2: Club Name | G2: Code | H2: Region | I2: County
A3: 1066 Swimmers | B3: TENS | C3: 1066swimmers | F3: Club Name | G3: Code | H3: District | I3: County
A4: 1930 ASC | B4: ENTX | C4: 1930 | F4: 1066 Swimmers | G4: TENS | H4: S | I4: SSXS
A5: 4 Shires Swimming Club | B5: FRSS | C5: 4 Shires | F5: 1930 ASC | G5: ENTX | H5: X | I5: SEDX
A6: A.N.T. Swimming Club Of Somerset | B6: ANTW | C6: A.N.T. SC | F6: 4 Shires Swimming Club | G6: FRSS | H6: S | I6: ONBS
A7: Aberavon | B7: ABVY | C7: Aberavon | F7: Aberaeron SC | G7: ABEY | H7: Y | I7: WWAY
A8: Aberdare Comets Diving Club | B8: ACDY | C8: Aberdare Com | F8: Aberavon | G8: ABVY | H8: Y | I8: WWAY
A9: Aberdeen ASC | B9: NANX | C9: Aberdeen | F9: Aberdare Comets Diving Club | G9: ACDY | H9: Y | I9: EWAY
A10: Aberdeen Diving Club | B10: NAVX | C10: Aberdeen DC | F10: Aberdeen ASC | G10: NANX | H10: X | I10: SNDX
A11: Aberdeen Dolphins ASC | B11: NADX | C11: Aberdeen Dol | F11: Aberdeen Diving Club | G11: NAVX | H11: X | I11: SNDX
A12: Aberdeen University Diving Club | B12: NABX | C12: Adeen Uni DC | F12: Aberdeen Dolphins ASC | G12: NADX | H12: X | I12: SNDX
A13: Aberdeen University Swimming and WPC | B13: NAUX | C13: Aberdeen Uni | F13: Aberdeen University Diving Club | G13: NABX | H13: X | I13: SNDX
A14: Abergavenny Swimming Club | B14: ABAY | C14: Abergavenny | F14: Aberdeen University Swimming and Water Polo Club | G14: NAUX | H14: X | I14: SNDX
A15: Abertillery Piranhas SC | B15: ABTY | C15: Abertillery | F15: Abergavenny Swimming Club | G15: ABAY | H15: Y | I15: EWAY
A16: Aberystwyth | B16: ABRY | C16: Aberystwyth | F16: Abertillery Piranhas SC | G16: ABTY | H16: Y | I16: EWAY
... A707: Loughborough Perforamance Centre | B707: LOGI | C707: L'borogh PC | F707: Lanark | G707: WLKX | H707: X | I707: SCWX
A708: Loughborough Town SC | B708: LOUA | C708: Loughborough
A709: Loughborough University Swimming | B709: LCLA | C709: Lboro Uni | F709: Lancashire County WPSA | G709: LNCN | H709: N | I709: LNCN
A710: Loughton Masters Swimming Club | B710: LOMT | C710: Loughton Mas | F710: Lancaster City SC | G710: LANN | H710: N | I710: LNCN
A711: Louth Dolphins SC | B711: LODA | C711: Louth | F711: Larkfield SC | G711: LARS | H711: S | I711: KNTQ
A712: Lucton Typhoon SC | B712: LCMM | C712: L Typhoon | F712: Larkhall Avondale ASC | G712: WLAX | H712: X | I712: SCWX
A713: Ludlow Swimming Club | B713: LUDM | C713: Ludlow | F713: Larkhall Water Polo Club | G713: WLWX | H713: X | I713: SCWX
A714: Luton Diving Club | B714: LKDT | C714: Luton Diving | F714: Launceston SC | G714: LSCW | H714: W | I714: CWLW
A715: Lydney SC | B715: LYDW | C715: Lydney | F715: Leamington Spa SC | G715: SPAM | H715: M | I715: WWKM
A716: Lymington SC | B716: LYMS | C716: Lymington | F716: Leander SC | G716: LEAL | H716: L | I716: SRYQ
A717: Lytham St Annes SC | B717: YLSN | C717: Lytham St A | F717: Leatherhead SC | G717: LETS | H717: S | I717: SRYQ
A718: Maidenhead ASC | B718: MADS | C718: Maidenhead | F718: Ledbury & District SC | G718: LADM | H718: M | I718: WRCM
A719: Maidstone SC | B719: MAIS | C719: Maidstone SC | F719: Leek ASC | G719: LEEM | H719: M | I719: STFM
A720: Making Waves ASC | B720: WMSX | C720: Making Waves | F720: Leicester Masters | G720: LEMA | H720: A | I720: LECA
... A1287: Ythan ASC | B1287: NYNX | C1287: Ythan | F1287: Welsh Wanderers | G1287: WWPY | H1287: Y | I1287: EWAY
A1288: Derby Excel | B1288: DEXA | F1288: Welshpool | G1288: WELY | H1288: Y | I1288: NWAY
F1289: Welwyn Garden SC | G1289: WELT | H1289: T | I1289: HRTT
F1290: Wessex Diving Club | G1290: WXDW | H1290: W | I1290: DRSW
F1291: West Dorset SC | G1291: WDOW | H1291: W | I1291: DRSW
F1292: West Dunbartonshire ASC | G1292: WDDX | H1292: X | I1292: SCWX
F1293: West Kirby ASC | G1293: WEKN | H1293: N | I1293: CHRN
F1294: West London Penguin Swimming & Water Polo Club | G1294: HAPL | H1294: L | I1294: MDXL
F1295: West Midland Region | G1295: WESM | H1295: M | I1295: EASA
F1296: West Midlands Police SC | G1296: WMPM | H1296: M | I1296: WWKM
...

Sheet Lane Timer sheets
D1: Gala Setup | E1: Gala Recording | F1: Check a Result | G1: Check a Swimmer | H1: Final Result | I1: Team sheets ↓
A2: Lane Timer sheets are now required at Arena League Galas 1. Ensure that you have processed any team changes before printing out these sheets. 2. Now - From this page, Press - Ctrl+P on the keyboard. 3. The default setting is for 10 lanes, with 2 pages per lane 20 pages, so please select the number of pages to equal the number of lanes in use. Examples 6 lanes = pages 1 - 12 8 lanes = pages 1 - 16 Please note Only 1 copy should be selected, as that will print 1 copy of each lane. Hand the printed sheets to the Referee who will issue them to the timekeepers. | I2: TEAM 1 | K2: ='Gala Setup'!$H7 -> 45269 | O2: ='Gala Setup'!$H4 -> LONDON | P2: ='Gala Setup'!$J4 -> ONE | Q2: ='Gala Setup'!$H7 -> 45269 | U2: ='Gala Setup'!H4 -> LONDON | V2: ='Gala Setup'!J4 -> ONE | W2: ='Gala Setup'!$H7 -> 45269 | AA2: ='Gala Setup'!$H4 -> LONDON | AB2: ='Gala Setup'!$J4 -> ONE | AC2: ='Gala Setup'!$H7 -> 45269 | AG2: ='Gala Setup'!$H4 -> LONDON | AH2: ='Gala Setup'!$J4 -> ONE | AI2: ='Gala Setup'!$H7 -> 45269 | AM2: ='Gala Setup'!$H4 -> LONDON | AN2: ='Gala Setup'!$J4 -> ONE | AO2: ='Gala Setup'!$H7 -> 45269 | AS2: ='Gala Setup'!$H4 -> LONDON | AT2: ='Gala Setup'!$J4 -> ONE | AU2: ='Gala Setup'!$H7 -> 45269 | AY2: ='Gala Setup'!$H4 -> LONDON | AZ2: ='Gala Setup'!$J4 -> ONE | BA2: ='Gala Setup'!$H7 -> 45269 | BE2: ='Gala Setup'!$H4 -> LONDON | BF2: ='Gala Setup'!$J4 -> ONE | BG2: ='Gala Setup'!$H7 -> 45269 | BK2: ='Gala Setup'!$H4 -> LONDON | BL2: ='Gala Setup'!$J4 -> ONE | BM2: ='Gala Setup'!$H7 -> 45269 | BQ2: ='Gala Setup'!$H4 -> LONDON | BR2: ='Gala Setup'!$J4 -> ONE
I3: TEAM 2 | K3: ='Gala Setup'!$H6 -> AQUA VALE S & F CENTRE AYLESBURY | Q3: ='Gala Setup'!$H6 -> AQUA VALE S & F CENTRE AYLESBURY | W3: ='Gala Setup'!$H6 -> AQUA VALE S & F CENTRE AYLESBURY | AC3: ='Gala Setup'!$H6 -> AQUA VALE S & F CENTRE AYLESBURY | AI3: ='Gala Setup'!$H6 -> AQUA VALE S & F CENTRE AYLESBURY | AO3: ='Gala Setup'!$H6 -> AQUA VALE S & F CENTRE AYLESBURY | AU3: ='Gala Setup'!$H6 -> AQUA VALE S & F CENTRE AYLESBURY | BA3: ='Gala Setup'!$H6 -> AQUA VALE S & F CENTRE AYLESBURY | BG3: ='Gala Setup'!$H6 -> AQUA VALE S & F CENTRE AYLESBURY | BM3: ='Gala Setup'!H6 -> AQUA VALE S & F CENTRE AYLESBURY
I4: TEAM 3 | K4: Events | O4: ='Gala Setup'!P4 -> HARINGEY AQUATICS | P4: Time | Q4: Events | U4: ='Gala Setup'!P5 -> STEVENAGE | V4: Time | W4: Events | AA4: ='Gala Setup'!P6 -> BORO OF BROXBOURNE | AB4: Time | AC4: Events | AG4: ='Gala Setup'!P7 -> AYLESBURY | AH4: Time | AI4: Events | AM4: ='Gala Setup'!P8 -> BRAINTREE & BOCKING | AN4: Time | AO4: Events | AS4: ='Gala Setup'!P9 -> Bo of Harrow | AT4: Time | AU4: Events | AY4: ='Gala Setup'!P10 -> Hillingdon 'B' | AZ4: Time | BA4: Events | BE4: ='Gala Setup'!P11 -> 0 | BF4: Time | BG4: Events | BK4: ='Gala Setup'!P12 -> 0 | BL4: Time | BM4: Events | BQ4: ='Gala Setup'!P13 -> 0 | BR4: Time
I5: TEAM 4 | O5: LANE | U5: LANE | AA5: LANE | AG5: LANE | AM5: LANE | AS5: LANE | AY5: LANE | BE5: LANE | BK5: LANE | BQ5: LANE
I6: TEAM 5 | O6: ='Gala Setup'!N4 -> 1 | U6: ='Gala Setup'!N5 -> 2 | AA6: ='Gala Setup'!N6 -> 3 | AG6: ='Gala Setup'!N7 -> 4 | AM6: ='Gala Setup'!N8 -> 5 | AS6: ='Gala Setup'!N9 -> 6 | AY6: ='Gala Setup'!N10 -> 7 | BE6: ='Gala Setup'!N11 -> 0 | BK6: ='Gala Setup'!N12 -> 0 | BQ6: ='Gala Setup'!N13 -> 0
I7: TEAM 6 | K7: 1 | L7: Female 16+ 200m IM | M7: ='Team 1'!F4 -> Bianca | N7: ='Team 1'!G4 -> Gomez-Velasco | O7: =CONCATENATE(M7, " ",N7) -> Bianca Gomez-Velasco | Q7: 1 | R7: Female 16+ 200m IM | S7: ='Team 2'!F4 -> Sophie | T7: ='Team 2'!G4 -> Stelmach | U7: =CONCATENATE(S7, " ",T7) -> Sophie Stelmach | W7: 1 | X7: Female 16+ 200m IM | Y7: ='Team 3'!F4 -> Hannah | Z7: ='Team 3'!G4 -> Lovelock | AA7: =CONCATENATE(Y7, " ",Z7) -> Hannah Lovelock | AC7: 1 | AD7: Female 16+ 200m IM | AE7: ='Team 4'!F4 -> LIBBY | AF7: ='Team 4'!G4 -> BLISSETT | AG7: =CONCATENATE(AE7, " ",AF7) -> LIBBY BLISSETT | AI7: 1 | AJ7: Female 16+ 200m IM | AK7: ='Team 5'!F4 -> Isabelle | AL7: ='Team 5'!G4 -> Talbot | AM7: =CONCATENATE(AK7, " ",AL7) -> Isabelle Talbot | AO7: 1 | AP7: Female 16+ 200m IM | AQ7: ='Team 6'!F4 -> Alice | AR7: ='Team 6'!G4 -> Sharrock | AS7: =CONCATENATE(AQ7, " ",AR7) -> Alice Sharrock | AU7: 1 | AV7: Female 16+ 200m IM | AW7: ='Team 7'!F4 -> Laura | AX7: ='Team 7'!G4 -> Hibberd | AY7: =CONCATENATE(AW7, " ",AX7) -> Laura Hibberd | BA7: 1 | BB7: Female 16+ 200m IM | BC7: ='Team 8'!F4 -> 0 | BD7: ='Team 8'!G4 -> 0 | BE7: =CONCATENATE(BC7, " ",BD7) -> 0 0 | BG7: 1 | BH7: Female 16+ 200m IM | BI7: ='Team 9'!F4 -> 0 | BJ7: ='Team 9'!G4 -> 0 | BK7: =CONCATENATE(BI7, " ",BJ7) -> 0 0 | BM7: 1 | BN7: Female 16+ 200m IM | BO7: ='Team 10'!F4 -> 0 | BP7: ='Team 10'!G4 -> 0 | BQ7: =CONCATENATE(BO7, " ",BP7) -> 0 0
I8: TEAM 7 | K8: 2 | L8: Open/Male 16+ 200m IM | M8: ='Team 1'!F5 -> Zente | N8: ='Team 1'!G5 -> Buzsik | O8: =CONCATENATE(M8, " ",N8) -> Zente Buzsik | Q8: 2 | R8: Open/Male 16+ 200m IM | S8: ='Team 2'!F5 -> Harry | T8: ='Team 2'!G5 -> Chapman | U8: =CONCATENATE(S8, " ",T8) -> Harry Chapman | W8: 2 | X8: Open/Male 16+ 200m IM | Y8: ='Team 3'!F5 -> George | Z8: ='Team 3'!G5 -> Lovelock | AA8: =CONCATENATE(Y8, " ",Z8) -> George Lovelock | AC8: 2 | AD8: Open/Male 16+ 200m IM | AE8: ='Team 4'!F5 -> ELLIS | AF8: ='Team 4'!G5 -> BUNCE | AG8: =CONCATENATE(AE8, " ",AF8) -> ELLIS BUNCE | AI8: 2 | AJ8: Open/Male 16+ 200m IM | AK8: ='Team 5'!F5 -> Albert | AL8: ='Team 5'!G5 -> Orley | AM8: =CONCATENATE(AK8, " ",AL8) -> Albert Orley | AO8: 2 | AP8: Open/Male 16+ 200m IM | AQ8: ='Team 6'!F5 -> Razvan | AR8: ='Team 6'!G5 -> Lembac | AS8: =CONCATENATE(AQ8, " ",AR8) -> Razvan Lembac | AU8: 2 | AV8: Open/Male 16+ 200m IM | AW8: ='Team 7'!F5 -> Liam | AX8: ='Team 7'!G5 -> Treanor | AY8: =CONCATENATE(AW8, " ",AX8) -> Liam Treanor | BA8: 2 | BB8: Open/Male 16+ 200m IM | BC8: ='Team 8'!F5 -> 0 | BD8: ='Team 8'!G5 -> 0 | BE8: =CONCATENATE(BC8, " ",BD8) -> 0 0 | BG8: 2 | BH8: Open/Male 16+ 200m IM | BI8: ='Team 9'!F5 -> 0 | BJ8: ='Team 9'!G5 -> 0 | BK8: =CONCATENATE(BI8, " ",BJ8) -> 0 0 | BM8: 2 | BN8: Open/Male 16+ 200m IM | BO8: ='Team 10'!F5 -> 0 | BP8: ='Team 10'!G5 -> 0 | BQ8: =CONCATENATE(BO8, " ",BP8) -> 0 0
I9: TEAM 8 | K9: 3 | L9: Female 9/11 4 X 50M FREESTYLE RELAY | M9: ='Team 1'!F6 -> Ines | N9: ='Team 1'!G6 -> Puente | O9: =CONCATENATE(M9, " ",N9) -> Ines Puente | Q9: 3 | R9: Female 9/11 4 X 50M FREESTYLE RELAY | S9: ='Team 2'!F6 -> Seren | T9: ='Team 2'!G6 -> Cooper | U9: =CONCATENATE(S9, " ",T9) -> Seren Cooper | W9: 3 | X9: Female 9/11 4 X 50M FREESTYLE RELAY | Y9: ='Team 3'!F6 -> Hannah | Z9: ='Team 3'!G6 -> Jounor | AA9: =CONCATENATE(Y9, " ",Z9) -> Hannah Jounor | AC9: 3 | AD9: Female 9/11 4 X 50M FREESTYLE RELAY | AE9: ='Team 4'!F6 -> WILLOW | AF9: ='Team 4'!G6 -> BROWNBRIDGE | AG9: =CONCATENATE(AE9, " ",AF9) -> WILLOW BROWNBRIDGE | AI9: 3 | AJ9: Female 9/11 4 X 50M FREESTYLE RELAY | AK9: ='Team 5'!F6 -> Layla | AL9: ='Team 5'!G6 -> Cook | AM9: =CONCATENATE(AK9, " ",AL9) -> Layla Cook | AO9: 3 | AP9: Female 9/11 4 X 50M FREESTYLE RELAY | AQ9: ='Team 6'!F6 -> Mahika | AR9: ='Team 6'!G6 -> Chandrashekar | AS9: =CONCATENATE(AQ9, " ",AR9) -> Mahika Chandrashekar | AU9: 3 | AV9: Female 9/11 4 X 50M FREESTYLE RELAY | AW9: ='Team 7'!F6 -> Zara | AX9: ='Team 7'!G6 -> Jobanputra | AY9: =CONCATENATE(AW9, " ",AX9) -> Zara Jobanputra | BA9: 3 | BB9: Female 9/11 4 X 50M FREESTYLE RELAY | BC9: ='Team 8'!F6 -> 0 | BD9: ='Team 8'!G6 -> 0 | BE9: =CONCATENATE(BC9, " ",BD9) -> 0 0 | BG9: 3 | BH9: Female 9/11 4 X 50M FREESTYLE RELAY | BI9: ='Team 9'!F6 -> 0 | BJ9: ='Team 9'!G6 -> 0 | BK9: =CONCATENATE(BI9, " ",BJ9) -> 0 0 | BM9: 3 | BN9: Female 9/11 4 X 50M FREESTYLE RELAY | BO9: ='Team 10'!F6 -> 0 | BP9: ='Team 10'!G6 -> 0 | BQ9: =CONCATENATE(BO9, " ",BP9) -> 0 0
M10: ='Team 1'!F7 -> Aaliyah | N10: ='Team 1'!G7 -> Gordon | O10: =CONCATENATE(M10, " ",N10) -> Aaliyah Gordon | S10: ='Team 2'!F7 -> Annabelle | T10: ='Team 2'!G7 -> Harris | U10: =CONCATENATE(S10, " ",T10) -> Annabelle Harris | Y10: ='Team 3'!F7 -> Niamh | Z10: ='Team 3'!G7 -> Holland | AA10: =CONCATENATE(Y10, " ",Z10) -> Niamh Holland | AE10: ='Team 4'!F7 -> CHELSEA | AF10: ='Team 4'!G7 -> DARE | AG10: =CONCATENATE(AE10, " ",AF10) -> CHELSEA DARE | AK10: ='Team 5'!F7 -> Megan | AL10: ='Team 5'!G7 -> Alexander | AM10: =CONCATENATE(AK10, " ",AL10) -> Megan Alexander | AQ10: ='Team 6'!F7 -> Miraya | AR10: ='Team 6'!G7 -> Patel | AS10: =CONCATENATE(AQ10, " ",AR10) -> Miraya Patel | AW10: ='Team 7'!F7 -> Alexa | AX10: ='Team 7'!G7 -> Homer | AY10: =CONCATENATE(AW10, " ",AX10) -> Alexa Homer | BC10: ='Team 8'!F7 -> 0 | BD10: ='Team 8'!G7 -> 0 | BE10: =CONCATENATE(BC10, " ",BD10) -> 0 0 | BI10: ='Team 9'!F7 -> 0 | BJ10: ='Team 9'!G7 -> 0 | BK10: =CONCATENATE(BI10, " ",BJ10) -> 0 0 | BO10: ='Team 10'!F7 -> 0 | BP10: ='Team 10'!G7 -> 0 | BQ10: =CONCATENATE(BO10, " ",BP10) -> 0 0
M11: ='Team 1'!F8 -> Eleanor | N11: ='Team 1'!G8 -> Skinner | O11: =CONCATENATE(M11, " ",N11) -> Eleanor Skinner | S11: ='Team 2'!F8 -> Jasmin | T11: ='Team 2'!G8 -> Hunt | U11: =CONCATENATE(S11, " ",T11) -> Jasmin Hunt | Y11: ='Team 3'!F8 -> Scarlett | Z11: ='Team 3'!G8 -> Omand | AA11: =CONCATENATE(Y11, " ",Z11) -> Scarlett Omand | AE11: ='Team 4'!F8 -> Olivia | AF11: ='Team 4'!G8 -> Genge | AG11: =CONCATENATE(AE11, " ",AF11) -> Olivia Genge | AK11: ='Team 5'!F8 -> Caoife | AL11: ='Team 5'!G8 -> Long | AM11: =CONCATENATE(AK11, " ",AL11) -> Caoife Long | AQ11: ='Team 6'!F8 -> Anna | AR11: ='Team 6'!G8 -> Rescia | AS11: =CONCATENATE(AQ11, " ",AR11) -> Anna Rescia | AW11: ='Team 7'!F8 -> Lara | AX11: ='Team 7'!G8 -> Shah | AY11: =CONCATENATE(AW11, " ",AX11) -> Lara Shah | BC11: ='Team 8'!F8 -> 0 | BD11: ='Team 8'!G8 -> 0 | BE11: =CONCATENATE(BC11, " ",BD11) -> 0 0 | BI11: ='Team 9'!F8 -> 0 | BJ11: ='Team 9'!G8 -> 0 | BK11: =CONCATENATE(BI11, " ",BJ11) -> 0 0 | BO11: ='Team 10'!F8 -> 0 | BP11: ='Team 10'!G8 -> 0 | BQ11: =CONCATENATE(BO11, " ",BP11) -> 0 0
I12: TEAM 9 | M12: ='Team 1'!F9 -> Claudia | N12: ='Team 1'!G9 -> Savov | O12: =CONCATENATE(M12, " ",N12) -> Claudia Savov | S12: ='Team 2'!F9 -> Maya | T12: ='Team 2'!G9 -> Wegner | U12: =CONCATENATE(S12, " ",T12) -> Maya Wegner | Y12: ='Team 3'!F9 -> Chloe | Z12: ='Team 3'!G9 -> Wimpenny | AA12: =CONCATENATE(Y12, " ",Z12) -> Chloe Wimpenny | AE12: ='Team 4'!F9 -> MIA | AF12: ='Team 4'!G9 -> ZUBCEVIC | AG12: =CONCATENATE(AE12, " ",AF12) -> MIA ZUBCEVIC | AK12: ='Team 5'!F9 -> Maisie | AL12: ='Team 5'!G9 -> Cooper | AM12: =CONCATENATE(AK12, " ",AL12) -> Maisie Cooper | AQ12: ='Team 6'!F9 -> Roya | AR12: ='Team 6'!G9 -> Malliwal | AS12: =CONCATENATE(AQ12, " ",AR12) -> Roya Malliwal | AW12: ='Team 7'!F9 -> Arabella | AX12: ='Team 7'!G9 -> Connick | AY12: =CONCATENATE(AW12, " ",AX12) -> Arabella Connick | BC12: ='Team 8'!F9 -> 0 | BD12: ='Team 8'!G9 -> 0 | BE12: =CONCATENATE(BC12, " ",BD12) -> 0 0 | BI12: ='Team 9'!F9 -> 0 | BJ12: ='Team 9'!G9 -> 0 | BK12: =CONCATENATE(BI12, " ",BJ12) -> 0 0 | BO12: ='Team 10'!F9 -> 0 | BP12: ='Team 10'!G9 -> 0 | BQ12: =CONCATENATE(BO12, " ",BP12) -> 0 0
I13: TEAM 10 | K13: 4 | L13: Open/Male 9/11 4 X 50M FREESTYLE RELAY | M13: ='Team 1'!F10 -> 0 | N13: ='Team 1'!G10 -> 0 | O13: =CONCATENATE(M13, " ",N13) -> 0 0 | Q13: 4 | R13: Open/Male 9/11 4 X 50M FREESTYLE RELAY | S13: ='Team 2'!F10 -> James | T13: ='Team 2'!G10 -> Winter | U13: =CONCATENATE(S13, " ",T13) -> James Winter | W13: 4 | X13: Open/Male 9/11 4 X 50M FREESTYLE RELAY | Y13: ='Team 3'!F10 -> Liam | Z13: ='Team 3'!G10 -> Thompson | AA13: =CONCATENATE(Y13, " ",Z13) -> Liam Thompson | AC13: 4 | AD13: Open/Male 9/11 4 X 50M FREESTYLE RELAY | AE13: ='Team 4'!F10 -> JAMES | AF13: ='Team 4'!G10 -> MOHAMMED | AG13: =CONCATENATE(AE13, " ",AF13) -> JAMES MOHAMMED | AI13: 4 | AJ13: Open/Male 9/11 4 X 50M FREESTYLE RELAY | AK13: ='Team 5'!F10 -> Mohammed | AL13: ='Team 5'!G10 -> Malek | AM13: =CONCATENATE(AK13, " ",AL13) -> Mohammed Malek | AO13: 4 | AP13: Open/Male 9/11 4 X 50M FREESTYLE RELAY | AQ13: ='Team 6'!F10 -> Mikhail | AR13: ='Team 6'!G10 -> Fedorov | AS13: =CONCATENATE(AQ13, " ",AR13) -> Mikhail Fedorov | AU13: 4 | AV13: Open/Male 9/11 4 X 50M FREESTYLE RELAY | AW13: ='Team 7'!F10 -> Arush | AX13: ='Team 7'!G10 -> Agarwal | AY13: =CONCATENATE(AW13, " ",AX13) -> Arush Agarwal | BA13: 4 | BB13: Open/Male 9/11 4 X 50M FREESTYLE RELAY | BC13: ='Team 8'!F10 -> 0 | BD13: ='Team 8'!G10 -> 0 | BE13: =CONCATENATE(BC13, " ",BD13) -> 0 0 | BG13: 4 | BH13: Open/Male 9/11 4 X 50M FREESTYLE RELAY | BI13: ='Team 9'!F10 -> 0 | BJ13: ='Team 9'!G10 -> 0 | BK13: =CONCATENATE(BI13, " ",BJ13) -> 0 0 | BM13: 4 | BN13: Open/Male 9/11 4 X 50M FREESTYLE RELAY | BO13: ='Team 10'!F10 -> 0 | BP13: ='Team 10'!G10 -> 0 | BQ13: =CONCATENATE(BO13, " ",BP13) -> 0 0
I14: ↑ Team sheets | M14: ='Team 1'!F11 -> 0 | N14: ='Team 1'!G11 -> 0 | O14: =CONCATENATE(M14, " ",N14) -> 0 0 | S14: ='Team 2'!F11 -> Alex | T14: ='Team 2'!G11 -> Cash | U14: =CONCATENATE(S14, " ",T14) -> Alex Cash | Y14: ='Team 3'!F11 -> Maxwell | Z14: ='Team 3'!G11 -> Croft | AA14: =CONCATENATE(Y14, " ",Z14) -> Maxwell Croft | AE14: ='Team 4'!F11 -> SIMON | AF14: ='Team 4'!G11 -> ROSA | AG14: =CONCATENATE(AE14, " ",AF14) -> SIMON ROSA | AK14: ='Team 5'!F11 -> Myron | AL14: ='Team 5'!G11 -> Young | AM14: =CONCATENATE(AK14, " ",AL14) -> Myron Young | AQ14: ='Team 6'!F11 -> Macsen | AR14: ='Team 6'!G11 -> Roberts | AS14: =CONCATENATE(AQ14, " ",AR14) -> Macsen Roberts | AW14: ='Team 7'!F11 -> Christopher | AX14: ='Team 7'!G11 -> Li Mow Ching | AY14: =CONCATENATE(AW14, " ",AX14) -> Christopher Li Mow Ching | BC14: ='Team 8'!F11 -> 0 | BD14: ='Team 8'!G11 -> 0 | BE14: =CONCATENATE(BC14, " ",BD14) -> 0 0 | BI14: ='Team 9'!F11 -> 0 | BJ14: ='Team 9'!G11 -> 0 | BK14: =CONCATENATE(BI14, " ",BJ14) -> 0 0 | BO14: ='Team 10'!F11 -> 0 | BP14: ='Team 10'!G11 -> 0 | BQ14: =CONCATENATE(BO14, " ",BP14) -> 0 0
M15: ='Team 1'!F12 -> 0 | N15: ='Team 1'!G12 -> 0 | O15: =CONCATENATE(M15, " ",N15) -> 0 0 | S15: ='Team 2'!F12 -> Kai Jun Wai | T15: ='Team 2'!G12 -> Cheung | U15: =CONCATENATE(S15, " ",T15) -> Kai Jun Wai Cheung | Y15: ='Team 3'!F12 -> Harry | Z15: ='Team 3'!G12 -> Lythgoe | AA15: =CONCATENATE(Y15, " ",Z15) -> Harry Lythgoe | AE15: ='Team 4'!F12 -> CHARLIE | AF15: ='Team 4'!G12 -> COJEEN | AG15: =CONCATENATE(AE15, " ",AF15) -> CHARLIE COJEEN | AK15: ='Team 5'!F12 -> Hayden | AL15: ='Team 5'!G12 -> Whele | AM15: =CONCATENATE(AK15, " ",AL15) -> Hayden Whele | AQ15: ='Team 6'!F12 -> Aaron | AR15: ='Team 6'!G12 -> Lal | AS15: =CONCATENATE(AQ15, " ",AR15) -> Aaron Lal | AW15: ='Team 7'!F12 -> Jai | AX15: ='Team 7'!G12 -> Bhuwania | AY15: =CONCATENATE(AW15, " ",AX15) -> Jai Bhuwania | BC15: ='Team 8'!F12 -> 0 | BD15: ='Team 8'!G12 -> 0 | BE15: =CONCATENATE(BC15, " ",BD15) -> 0 0 | BI15: ='Team 9'!F12 -> 0 | BJ15: ='Team 9'!G12 -> 0 | BK15: =CONCATENATE(BI15, " ",BJ15) -> 0 0 | BO15: ='Team 10'!F12 -> 0 | BP15: ='Team 10'!G12 -> 0 | BQ15: =CONCATENATE(BO15, " ",BP15) -> 0 0
M16: ='Team 1'!F13 -> 0 | N16: ='Team 1'!G13 -> 0 | O16: =CONCATENATE(M16, " ",N16) -> 0 0 | S16: ='Team 2'!F13 -> Charlie | T16: ='Team 2'!G13 -> Pritchard | U16: =CONCATENATE(S16, " ",T16) -> Charlie Pritchard | Y16: ='Team 3'!F13 -> Fabio | Z16: ='Team 3'!G13 -> Giambrone | AA16: =CONCATENATE(Y16, " ",Z16) -> Fabio Giambrone | AE16: ='Team 4'!F13 -> SOLOMON | AF16: ='Team 4'!G13 -> HAWKES | AG16: =CONCATENATE(AE16, " ",AF16) -> SOLOMON HAWKES | AK16: ='Team 5'!F13 -> Braden | AL16: ='Team 5'!G13 -> Barnacle | AM16: =CONCATENATE(AK16, " ",AL16) -> Braden Barnacle | AQ16: ='Team 6'!F13 -> Zayn | AR16: ='Team 6'!G13 -> Tang | AS16: =CONCATENATE(AQ16, " ",AR16) -> Zayn Tang | AW16: ='Team 7'!F13 -> Siddharth | AX16: ='Team 7'!G13 -> Kanjalkar | AY16: =CONCATENATE(AW16, " ",AX16) -> Siddharth Kanjalkar | BC16: ='Team 8'!F13 -> 0 | BD16: ='Team 8'!G13 -> 0 | BE16: =CONCATENATE(BC16, " ",BD16) -> 0 0 | BI16: ='Team 9'!F13 -> 0 | BJ16: ='Team 9'!G13 -> 0 | BK16: =CONCATENATE(BI16, " ",BJ16) -> 0 0 | BO16: ='Team 10'!F13 -> 0 | BP16: ='Team 10'!G13 -> 0 | BQ16: =CONCATENATE(BO16, " ",BP16) -> 0 0
K17: 5 | L17: Female 13/U 4 X 50M MEDLEY RELAY | M17: ='Team 1'!F14 -> Edanur | N17: ='Team 1'!G14 -> Yigit | O17: =CONCATENATE(M17, " ",N17) -> Edanur Yigit | Q17: 5 | R17: Female 13/U 4 X 50M MEDLEY RELAY | S17: ='Team 2'!F14 -> Sophie | T17: ='Team 2'!G14 -> Heraty | U17: =CONCATENATE(S17, " ",T17) -> Sophie Heraty | W17: 5 | X17: Female 13/U 4 X 50M MEDLEY RELAY | Y17: ='Team 3'!F14 -> Maya | Z17: ='Team 3'!G14 -> Robu | AA17: =CONCATENATE(Y17, " ",Z17) -> Maya Robu | AC17: 5 | AD17: Female 13/U 4 X 50M MEDLEY RELAY | AE17: ='Team 4'!F14 -> ANNABELLA | AF17: ='Team 4'!G14 -> COJEEN | AG17: =CONCATENATE(AE17, " ",AF17) -> ANNABELLA COJEEN | AI17: 5 | AJ17: Female 13/U 4 X 50M MEDLEY RELAY | AK17: ='Team 5'!F14 -> Orlagh | AL17: ='Team 5'!G14 -> Northgrave | AM17: =CONCATENATE(AK17, " ",AL17) -> Orlagh Northgrave | AO17: 5 | AP17: Female 13/U 4 X 50M MEDLEY RELAY | AQ17: ='Team 6'!F14 -> Polina | AR17: ='Team 6'!G14 -> Fedorova | AS17: =CONCATENATE(AQ17, " ",AR17) -> Polina Fedorova | AU17: 5 | AV17: Female 13/U 4 X 50M MEDLEY RELAY | AW17: ='Team 7'!F14 -> Maria | AX17: ='Team 7'!G14 -> Tzanidaki | AY17: =CONCATENATE(AW17, " ",AX17) -> Maria Tzanidaki | BA17: 5 | BB17: Female 13/U 4 X 50M MEDLEY RELAY | BC17: ='Team 8'!F14 -> 0 | BD17: ='Team 8'!G14 -> 0 | BE17: =CONCATENATE(BC17, " ",BD17) -> 0 0 | BG17: 5 | BH17: Female 13/U 4 X 50M MEDLEY RELAY | BI17: ='Team 9'!F14 -> 0 | BJ17: ='Team 9'!G14 -> 0 | BK17: =CONCATENATE(BI17, " ",BJ17) -> 0 0 | BM17: 5 | BN17: Female 13/U 4 X 50M MEDLEY RELAY | BO17: ='Team 10'!F14 -> 0 | BP17: ='Team 10'!G14 -> 0 | BQ17: =CONCATENATE(BO17, " ",BP17) -> 0 0
M18: ='Team 1'!F15 -> Amy | N18: ='Team 1'!G15 -> Hanson | O18: =CONCATENATE(M18, " ",N18) -> Amy Hanson | S18: ='Team 2'!F15 -> Ruby | T18: ='Team 2'!G15 -> Whitby | U18: =CONCATENATE(S18, " ",T18) -> Ruby Whitby | Y18: ='Team 3'!F15 -> Mia | Z18: ='Team 3'!G15 -> Nelson | AA18: =CONCATENATE(Y18, " ",Z18) -> Mia Nelson | AE18: ='Team 4'!F15 -> FRANCES | AF18: ='Team 4'!G15 -> STARSMORE | AG18: =CONCATENATE(AE18, " ",AF18) -> FRANCES STARSMORE | AK18: ='Team 5'!F15 -> Isabelle | AL18: ='Team 5'!G15 -> Reeve | AM18: =CONCATENATE(AK18, " ",AL18) -> Isabelle Reeve | AQ18: ='Team 6'!F15 -> Emma | AR18: ='Team 6'!G15 -> Sum | AS18: =CONCATENATE(AQ18, " ",AR18) -> Emma Sum | AW18: ='Team 7'!F15 -> Eliza | AX18: ='Team 7'!G15 -> Mayor | AY18: =CONCATENATE(AW18, " ",AX18) -> Eliza Mayor | BC18: ='Team 8'!F15 -> 0 | BD18: ='Team 8'!G15 -> 0 | BE18: =CONCATENATE(BC18, " ",BD18) -> 0 0 | BI18: ='Team 9'!F15 -> 0 | BJ18: ='Team 9'!G15 -> 0 | BK18: =CONCATENATE(BI18, " ",BJ18) -> 0 0 | BO18: ='Team 10'!F15 -> 0 | BP18: ='Team 10'!G15 -> 0 | BQ18: =CONCATENATE(BO18, " ",BP18) -> 0 0
M19: ='Team 1'!F16 -> Ane | N19: ='Team 1'!G16 -> Pedraza-Eguia | O19: =CONCATENATE(M19, " ",N19) -> Ane Pedraza-Eguia | S19: ='Team 2'!F16 -> Jasmin | T19: ='Team 2'!G16 -> Hunt | U19: =CONCATENATE(S19, " ",T19) -> Jasmin Hunt | Y19: ='Team 3'!F16 -> Niamh | Z19: ='Team 3'!G16 -> Holland | AA19: =CONCATENATE(Y19, " ",Z19) -> Niamh Holland | AE19: ='Team 4'!F16 -> ISLA | AF19: ='Team 4'!G16 -> MOHAMMED | AG19: =CONCATENATE(AE19, " ",AF19) -> ISLA MOHAMMED | AK19: ='Team 5'!F16 -> Aimee | AL19: ='Team 5'!G16 -> Baker | AM19: =CONCATENATE(AK19, " ",AL19) -> Aimee Baker | AQ19: ='Team 6'!F16 -> Mahika | AR19: ='Team 6'!G16 -> Chandrashekar | AS19: =CONCATENATE(AQ19, " ",AR19) -> Mahika Chandrashekar | AW19: ='Team 7'!F16 -> Mia | AX19: ='Team 7'!G16 -> Curle | AY19: =CONCATENATE(AW19, " ",AX19) -> Mia Curle | BC19: ='Team 8'!F16 -> 0 | BD19: ='Team 8'!G16 -> 0 | BE19: =CONCATENATE(BC19, " ",BD19) -> 0 0 | BI19: ='Team 9'!F16 -> 0 | BJ19: ='Team 9'!G16 -> 0 | BK19: =CONCATENATE(BI19, " ",BJ19) -> 0 0 | BO19: ='Team 10'!F16 -> 0 | BP19: ='Team 10'!G16 -> 0 | BQ19: =CONCATENATE(BO19, " ",BP19) -> 0 0
M20: ='Team 1'!F17 -> Maryla | N20: ='Team 1'!G17 -> Koslacz | O20: =CONCATENATE(M20, " ",N20) -> Maryla Koslacz | S20: ='Team 2'!F17 -> Gracie | T20: ='Team 2'!G17 -> Fleming-Jacobs | U20: =CONCATENATE(S20, " ",T20) -> Gracie Fleming-Jacobs | Y20: ='Team 3'!F17 -> Olivia | Z20: ='Team 3'!G17 -> Croft | AA20: =CONCATENATE(Y20, " ",Z20) -> Olivia Croft | AE20: ='Team 4'!F17 -> AVA | AF20: ='Team 4'!G17 -> IANNONE | AG20: =CONCATENATE(AE20, " ",AF20) -> AVA IANNONE | AK20: ='Team 5'!F17 -> Kayla | AL20: ='Team 5'!G17 -> Paxton | AM20: =CONCATENATE(AK20, " ",AL20) -> Kayla Paxton | AQ20: ='Team 6'!F17 -> Miraya | AR20: ='Team 6'!G17 -> Patel | AS20: =CONCATENATE(AQ20, " ",AR20) -> Miraya Patel | AW20: ='Team 7'!F17 -> Vaari | AX20: ='Team 7'!G17 -> Mepani | AY20: =CONCATENATE(AW20, " ",AX20) -> Vaari Mepani | BC20: ='Team 8'!F17 -> 0 | BD20: ='Team 8'!G17 -> 0 | BE20: =CONCATENATE(BC20, " ",BD20) -> 0 0 | BI20: ='Team 9'!F17 -> 0 | BJ20: ='Team 9'!G17 -> 0 | BK20: =CONCATENATE(BI20, " ",BJ20) -> 0 0 | BO20: ='Team 10'!F17 -> 0 | BP20: ='Team 10'!G17 -> 0 | BQ20: =CONCATENATE(BO20, " ",BP20) -> 0 0
C21: ='Gala Setup'!S4 -> NASL.2023 V6 | K21: 6 | L21: Open/Male 13/U 4 X 50M MEDLEY RELAY | M21: ='Team 1'!F18 -> Albert | N21: ='Team 1'!G18 -> Nezha | O21: =CONCATENATE(M21, " ",N21) -> Albert Nezha | Q21: 6 | R21: Open/Male 13/U 4 X 50M MEDLEY RELAY | S21: ='Team 2'!F18 -> James | T21: ='Team 2'!G18 -> Winter | U21: =CONCATENATE(S21, " ",T21) -> James Winter | W21: 6 | X21: Open/Male 13/U 4 X 50M MEDLEY RELAY | Y21: ='Team 3'!F18 -> Ryan | Z21: ='Team 3'!G18 -> Wimpenny | AA21: =CONCATENATE(Y21, " ",Z21) -> Ryan Wimpenny | AC21: 6 | AD21: Open/Male 13/U 4 X 50M MEDLEY RELAY | AE21: ='Team 4'!F18 -> RILEY | AF21: ='Team 4'!G18 -> BUNCE | AG21: =CONCATENATE(AE21, " ",AF21) -> RILEY BUNCE | AI21: 6 | AJ21: Open/Male 13/U 4 X 50M MEDLEY RELAY | AK21: ='Team 5'!F18 -> Liam | AL21: ='Team 5'!G18 -> Hurst | AM21: =CONCATENATE(AK21, " ",AL21) -> Liam Hurst | AO21: 6 | AP21: Open/Male 13/U 4 X 50M MEDLEY RELAY | AQ21: ='Team 6'!F18 -> Petros | AR21: ='Team 6'!G18 -> Soteriou | AS21: =CONCATENATE(AQ21, " ",AR21) -> Petros Soteriou | AU21: 6 | AV21: Open/Male 13/U 4 X 50M MEDLEY RELAY | AW21: ='Team 7'!F18 -> Nikhil | AX21: ='Team 7'!G18 -> Dawett | AY21: =CONCATENATE(AW21, " ",AX21) -> Nikhil Dawett | BA21: 6 | BB21: Open/Male 13/U 4 X 50M MEDLEY RELAY | BC21: ='Team 8'!F18 -> 0 | BD21: ='Team 8'!G18 -> 0 | BE21: =CONCATENATE(BC21, " ",BD21) -> 0 0 | BG21: 6 | BH21: Open/Male 13/U 4 X 50M MEDLEY RELAY | BI21: ='Team 9'!F18 -> 0 | BJ21: ='Team 9'!G18 -> 0 | BK21: =CONCATENATE(BI21, " ",BJ21) -> 0 0 | BM21: 6 | BN21: Open/Male 13/U 4 X 50M MEDLEY RELAY | BO21: ='Team 10'!F18 -> 0 | BP21: ='Team 10'!G18 -> 0 | BQ21: =CONCATENATE(BO21, " ",BP21) -> 0 0
M22: ='Team 1'!F19 -> Yigit | N22: ='Team 1'!G19 -> Ilhan | O22: =CONCATENATE(M22, " ",N22) -> Yigit Ilhan | S22: ='Team 2'!F19 -> Kai Jun Wai | T22: ='Team 2'!G19 -> Cheung | U22: =CONCATENATE(S22, " ",T22) -> Kai Jun Wai Cheung | Y22: ='Team 3'!F19 -> Luigi | Z22: ='Team 3'!G19 -> Giambrone | AA22: =CONCATENATE(Y22, " ",Z22) -> Luigi Giambrone | AE22: ='Team 4'!F19 -> SAMUEL | AF22: ='Team 4'!G19 -> ROSA | AG22: =CONCATENATE(AE22, " ",AF22) -> SAMUEL ROSA | AK22: ='Team 5'!F19 -> Bradley | AL22: ='Team 5'!G19 -> Rawlinson | AM22: =CONCATENATE(AK22, " ",AL22) -> Bradley Rawlinson | AQ22: ='Team 6'!F19 -> Gert | AR22: ='Team 6'!G19 -> Zeqiri | AS22: =CONCATENATE(AQ22, " ",AR22) -> Gert Zeqiri | AW22: ='Team 7'!F19 -> Advay | AX22: ='Team 7'!G19 -> Bhatia | AY22: =CONCATENATE(AW22, " ",AX22) -> Advay Bhatia | BC22: ='Team 8'!F19 -> 0 | BD22: ='Team 8'!G19 -> 0 | BE22: =CONCATENATE(BC22, " ",BD22) -> 0 0 | BI22: ='Team 9'!F19 -> 0 | BJ22: ='Team 9'!G19 -> 0 | BK22: =CONCATENATE(BI22, " ",BJ22) -> 0 0 | BO22: ='Team 10'!F19 -> 0 | BP22: ='Team 10'!G19 -> 0 | BQ22: =CONCATENATE(BO22, " ",BP22) -> 0 0
M23: ='Team 1'!F20 -> Ned Peter | N23: ='Team 1'!G20 -> Andrews | O23: =CONCATENATE(M23, " ",N23) -> Ned Peter Andrews | S23: ='Team 2'!F20 -> Oliver | T23: ='Team 2'!G20 -> Tubridy | U23: =CONCATENATE(S23, " ",T23) -> Oliver Tubridy | Y23: ='Team 3'!F20 -> Mikhail | Z23: ='Team 3'!G20 -> Zharinov | AA23: =CONCATENATE(Y23, " ",Z23) -> Mikhail Zharinov | AE23: ='Team 4'!F20 -> ROWAN | AF23: ='Team 4'!G20 -> FULLER | AG23: =CONCATENATE(AE23, " ",AF23) -> ROWAN FULLER | AK23: ='Team 5'!F20 -> Poyraz | AL23: ='Team 5'!G20 -> Akbiyik | AM23: =CONCATENATE(AK23, " ",AL23) -> Poyraz Akbiyik | AQ23: ='Team 6'!F20 -> Cosmin Ioan | AR23: ='Team 6'!G20 -> Iojan | AS23: =CONCATENATE(AQ23, " ",AR23) -> Cosmin Ioan Iojan | AW23: ='Team 7'!F20 -> Daniel | AX23: ='Team 7'!G20 -> Celi | AY23: =CONCATENATE(AW23, " ",AX23) -> Daniel Celi | BC23: ='Team 8'!F20 -> 0 | BD23: ='Team 8'!G20 -> 0 | BE23: =CONCATENATE(BC23, " ",BD23) -> 0 0 | BI23: ='Team 9'!F20 -> 0 | BJ23: ='Team 9'!G20 -> 0 | BK23: =CONCATENATE(BI23, " ",BJ23) -> 0 0 | BO23: ='Team 10'!F20 -> 0 | BP23: ='Team 10'!G20 -> 0 | BQ23: =CONCATENATE(BO23, " ",BP23) -> 0 0
M24: ='Team 1'!F21 -> Zente | N24: ='Team 1'!G21 -> Buzsik | O24: =CONCATENATE(M24, " ",N24) -> Zente Buzsik | S24: ='Team 2'!F21 -> Joseph | T24: ='Team 2'!G21 -> Bagshaw | U24: =CONCATENATE(S24, " ",T24) -> Joseph Bagshaw | Y24: ='Team 3'!F21 -> Ewan | Z24: ='Team 3'!G21 -> Thompson | AA24: =CONCATENATE(Y24, " ",Z24) -> Ewan Thompson | AE24: ='Team 4'!F21 -> RUFUS | AF24: ='Team 4'!G21 -> MARTIN | AG24: =CONCATENATE(AE24, " ",AF24) -> RUFUS MARTIN | AK24: ='Team 5'!F21 -> Benjamin | AL24: ='Team 5'!G21 -> Holland | AM24: =CONCATENATE(AK24, " ",AL24) -> Benjamin Holland | AQ24: ='Team 6'!F21 -> Dragos | AR24: ='Team 6'!G21 -> Musteate | AS24: =CONCATENATE(AQ24, " ",AR24) -> Dragos Musteate | AW24: ='Team 7'!F21 -> Bruno | AX24: ='Team 7'!G21 -> Francisco | AY24: =CONCATENATE(AW24, " ",AX24) -> Bruno Francisco | BC24: ='Team 8'!F21 -> 0 | BD24: ='Team 8'!G21 -> 0 | BE24: =CONCATENATE(BC24, " ",BD24) -> 0 0 | BI24: ='Team 9'!F21 -> 0 | BJ24: ='Team 9'!G21 -> 0 | BK24: =CONCATENATE(BI24, " ",BJ24) -> 0 0 | BO24: ='Team 10'!F21 -> 0 | BP24: ='Team 10'!G21 -> 0 | BQ24: =CONCATENATE(BO24, " ",BP24) -> 0 0
K25: 7 | L25: Female 15/U 4 X 50M FREESTYLE RELAY | M25: ='Team 1'!F22 -> Shreya | N25: ='Team 1'!G22 -> Bavishi | O25: =CONCATENATE(M25, " ",N25) -> Shreya Bavishi | Q25: 7 | R25: Female 15/U 4 X 50M FREESTYLE RELAY | S25: ='Team 2'!F22 -> Sophie | T25: ='Team 2'!G22 -> Stelmach | U25: =CONCATENATE(S25, " ",T25) -> Sophie Stelmach | W25: 7 | X25: Female 15/U 4 X 50M FREESTYLE RELAY | Y25: ='Team 3'!F22 -> Jessica | Z25: ='Team 3'!G22 -> MacKenzie | AA25: =CONCATENATE(Y25, " ",Z25) -> Jessica MacKenzie | AC25: 7 | AD25: Female 15/U 4 X 50M FREESTYLE RELAY | AE25: ='Team 4'!F22 -> MEGAN | AF25: ='Team 4'!G22 -> JOHNSON | AG25: =CONCATENATE(AE25, " ",AF25) -> MEGAN JOHNSON | AI25: 7 | AJ25: Female 15/U 4 X 50M FREESTYLE RELAY | AK25: ='Team 5'!F22 -> Esmee | AL25: ='Team 5'!G22 -> Reeve | AM25: =CONCATENATE(AK25, " ",AL25) -> Esmee Reeve | AO25: 7 | AP25: Female 15/U 4 X 50M FREESTYLE RELAY | AQ25: ='Team 6'!F22 -> Hannah | AR25: ='Team 6'!G22 -> Barrios | AS25: =CONCATENATE(AQ25, " ",AR25) -> Hannah Barrios | AU25: 7 | AV25: Female 15/U 4 X 50M FREESTYLE RELAY | AW25: ='Team 7'!F22 -> Keira | AX25: ='Team 7'!G22 -> Brannigan | AY25: =CONCATENATE(AW25, " ",AX25) -> Keira Brannigan | BA25: 7 | BB25: Female 15/U 4 X 50M FREESTYLE RELAY | BC25: ='Team 8'!F22 -> 0 | BD25: ='Team 8'!G22 -> 0 | BE25: =CONCATENATE(BC25, " ",BD25) -> 0 0 | BG25: 7 | BH25: Female 15/U 4 X 50M FREESTYLE RELAY | BI25: ='Team 9'!F22 -> 0 | BJ25: ='Team 9'!G22 -> 0 | BK25: =CONCATENATE(BI25, " ",BJ25) -> 0 0 | BM25: 7 | BN25: Female 15/U 4 X 50M FREESTYLE RELAY | BO25: ='Team 10'!F22 -> 0 | BP25: ='Team 10'!G22 -> 0 | BQ25: =CONCATENATE(BO25, " ",BP25) -> 0 0
M26: ='Team 1'!F23 -> Emily | N26: ='Team 1'!G23 -> Hudszky | O26: =CONCATENATE(M26, " ",N26) -> Emily Hudszky | S26: ='Team 2'!F23 -> Gracie | T26: ='Team 2'!G23 -> Fleming-Jacobs | U26: =CONCATENATE(S26, " ",T26) -> Gracie Fleming-Jacobs | Y26: ='Team 3'!F23 -> Hannah | Z26: ='Team 3'!G23 -> Lovelock | AA26: =CONCATENATE(Y26, " ",Z26) -> Hannah Lovelock | AE26: ='Team 4'!F23 -> ABIGAIL | AF26: ='Team 4'!G23 -> JOHNSON | AG26: =CONCATENATE(AE26, " ",AF26) -> ABIGAIL JOHNSON | AK26: ='Team 5'!F23 -> Francesca | AL26: ='Team 5'!G23 -> Baker | AM26: =CONCATENATE(AK26, " ",AL26) -> Francesca Baker | AQ26: ='Team 6'!F23 -> Laura | AR26: ='Team 6'!G23 -> Leksander | AS26: =CONCATENATE(AQ26, " ",AR26) -> Laura Leksander | AW26: ='Team 7'!F23 -> Jessica | AX26: ='Team 7'!G23 -> Sharp | AY26: =CONCATENATE(AW26, " ",AX26) -> Jessica Sharp | BC26: ='Team 8'!F23 -> 0 | BD26: ='Team 8'!G23 -> 0 | BE26: =CONCATENATE(BC26, " ",BD26) -> 0 0 | BI26: ='Team 9'!F23 -> 0 | BJ26: ='Team 9'!G23 -> 0 | BK26: =CONCATENATE(BI26, " ",BJ26) -> 0 0 | BO26: ='Team 10'!F23 -> 0 | BP26: ='Team 10'!G23 -> 0 | BQ26: =CONCATENATE(BO26, " ",BP26) -> 0 0
M27: ='Team 1'!F24 -> Taisia | N27: ='Team 1'!G24 -> Flury | O27: =CONCATENATE(M27, " ",N27) -> Taisia Flury | S27: ='Team 2'!F24 -> Daisy | T27: ='Team 2'!G24 -> Harradine | U27: =CONCATENATE(S27, " ",T27) -> Daisy Harradine | Y27: ='Team 3'!F24 -> Molly | Z27: ='Team 3'!G24 -> Bartup | AA27: =CONCATENATE(Y27, " ",Z27) -> Molly Bartup | AE27: ='Team 4'!F24 -> ZAHRA | AF27: ='Team 4'!G24 -> WALLER | AG27: =CONCATENATE(AE27, " ",AF27) -> ZAHRA WALLER | AK27: ='Team 5'!F24 -> Hollie | AL27: ='Team 5'!G24 -> Heighes | AM27: =CONCATENATE(AK27, " ",AL27) -> Hollie Heighes | AQ27: ='Team 6'!F24 -> Polina | AR27: ='Team 6'!G24 -> Fedorova | AS27: =CONCATENATE(AQ27, " ",AR27) -> Polina Fedorova | AW27: ='Team 7'!F24 -> Lara | AX27: ='Team 7'!G24 -> Lydon | AY27: =CONCATENATE(AW27, " ",AX27) -> Lara Lydon | BC27: ='Team 8'!F24 -> 0 | BD27: ='Team 8'!G24 -> 0 | BE27: =CONCATENATE(BC27, " ",BD27) -> 0 0 | BI27: ='Team 9'!F24 -> 0 | BJ27: ='Team 9'!G24 -> 0 | BK27: =CONCATENATE(BI27, " ",BJ27) -> 0 0 | BO27: ='Team 10'!F24 -> 0 | BP27: ='Team 10'!G24 -> 0 | BQ27: =CONCATENATE(BO27, " ",BP27) -> 0 0
M28: ='Team 1'!F25 -> Zoe | N28: ='Team 1'!G25 -> Panayi | O28: =CONCATENATE(M28, " ",N28) -> Zoe Panayi | S28: ='Team 2'!F25 -> Charlotte | T28: ='Team 2'!G25 -> Lyon | U28: =CONCATENATE(S28, " ",T28) -> Charlotte Lyon | Y28: ='Team 3'!F25 -> Isabel | Z28: ='Team 3'!G25 -> Mullings | AA28: =CONCATENATE(Y28, " ",Z28) -> Isabel Mullings | AE28: ='Team 4'!F25 -> AVA | AF28: ='Team 4'!G25 -> IANNONE | AG28: =CONCATENATE(AE28, " ",AF28) -> AVA IANNONE | AK28: ='Team 5'!F25 -> Mia | AL28: ='Team 5'!G25 -> Macklin | AM28: =CONCATENATE(AK28, " ",AL28) -> Mia Macklin | AQ28: ='Team 6'!F25 -> Alice | AR28: ='Team 6'!G25 -> Sharrock | AS28: =CONCATENATE(AQ28, " ",AR28) -> Alice Sharrock | AW28: ='Team 7'!F25 -> Vaari | AX28: ='Team 7'!G25 -> Mepani | AY28: =CONCATENATE(AW28, " ",AX28) -> Vaari Mepani | BC28: ='Team 8'!F25 -> 0 | BD28: ='Team 8'!G25 -> 0 | BE28: =CONCATENATE(BC28, " ",BD28) -> 0 0 | BI28: ='Team 9'!F25 -> 0 | BJ28: ='Team 9'!G25 -> 0 | BK28: =CONCATENATE(BI28, " ",BJ28) -> 0 0 | BO28: ='Team 10'!F25 -> 0 | BP28: ='Team 10'!G25 -> 0 | BQ28: =CONCATENATE(BO28, " ",BP28) -> 0 0
K29: 8 | L29: Open/Male 15/U 4 X 50M FREESTYLE RELAY | M29: ='Team 1'!F26 -> Yigit | N29: ='Team 1'!G26 -> Ilhan | O29: =CONCATENATE(M29, " ",N29) -> Yigit Ilhan | Q29: 8 | R29: Open/Male 15/U 4 X 50M FREESTYLE RELAY | S29: ='Team 2'!F26 -> Alexander | T29: ='Team 2'!G26 -> Gregory | U29: =CONCATENATE(S29, " ",T29) -> Alexander Gregory | W29: 8 | X29: Open/Male 15/U 4 X 50M FREESTYLE RELAY | Y29: ='Team 3'!F26 -> Alfie | Z29: ='Team 3'!G26 -> Bullock | AA29: =CONCATENATE(Y29, " ",Z29) -> Alfie Bullock | AC29: 8 | AD29: Open/Male 15/U 4 X 50M FREESTYLE RELAY | AE29: ='Team 4'!F26 -> CHARLES | AF29: ='Team 4'!G26 -> RAINES | AG29: =CONCATENATE(AE29, " ",AF29) -> CHARLES RAINES | AI29: 8 | AJ29: Open/Male 15/U 4 X 50M FREESTYLE RELAY | AK29: ='Team 5'!F26 -> Albert | AL29: ='Team 5'!G26 -> Orley | AM29: =CONCATENATE(AK29, " ",AL29) -> Albert Orley | AO29: 8 | AP29: Open/Male 15/U 4 X 50M FREESTYLE RELAY | AQ29: ='Team 6'!F26 -> Gianluca | AR29: ='Team 6'!G26 -> Safahe | AS29: =CONCATENATE(AQ29, " ",AR29) -> Gianluca Safahe | AU29: 8 | AV29: Open/Male 15/U 4 X 50M FREESTYLE RELAY | AW29: ='Team 7'!F26 -> Aaran | AX29: ='Team 7'!G26 -> Parmar | AY29: =CONCATENATE(AW29, " ",AX29) -> Aaran Parmar | BA29: 8 | BB29: Open/Male 15/U 4 X 50M FREESTYLE RELAY | BC29: ='Team 8'!F26 -> 0 | BD29: ='Team 8'!G26 -> 0 | BE29: =CONCATENATE(BC29, " ",BD29) -> 0 0 | BG29: 8 | BH29: Open/Male 15/U 4 X 50M FREESTYLE RELAY | BI29: ='Team 9'!F26 -> 0 | BJ29: ='Team 9'!G26 -> 0 | BK29: =CONCATENATE(BI29, " ",BJ29) -> 0 0 | BM29: 8 | BN29: Open/Male 15/U 4 X 50M FREESTYLE RELAY | BO29: ='Team 10'!F26 -> 0 | BP29: ='Team 10'!G26 -> 0 | BQ29: =CONCATENATE(BO29, " ",BP29) -> 0 0
M30: ='Team 1'!F27 -> Zente | N30: ='Team 1'!G27 -> Buzsik | O30: =CONCATENATE(M30, " ",N30) -> Zente Buzsik | S30: ='Team 2'!F27 -> Samuel | T30: ='Team 2'!G27 -> Heraty | U30: =CONCATENATE(S30, " ",T30) -> Samuel Heraty | Y30: ='Team 3'!F27 -> Ryan | Z30: ='Team 3'!G27 -> Wimpenny | AA30: =CONCATENATE(Y30, " ",Z30) -> Ryan Wimpenny | AE30: ='Team 4'!F27 -> RAFI | AF30: ='Team 4'!G27 -> GIBSON | AG30: =CONCATENATE(AE30, " ",AF30) -> RAFI GIBSON | AK30: ='Team 5'!F27 -> Nathaniel | AL30: ='Team 5'!G27 -> Coburn | AM30: =CONCATENATE(AK30, " ",AL30) -> Nathaniel Coburn | AQ30: ='Team 6'!F27 -> Owen | AR30: ='Team 6'!G27 -> Roberts | AS30: =CONCATENATE(AQ30, " ",AR30) -> Owen Roberts | AW30: ='Team 7'!F27 -> Tsz Kwai | AX30: ='Team 7'!G27 -> Chan | AY30: =CONCATENATE(AW30, " ",AX30) -> Tsz Kwai Chan | BC30: ='Team 8'!F27 -> 0 | BD30: ='Team 8'!G27 -> 0 | BE30: =CONCATENATE(BC30, " ",BD30) -> 0 0 | BI30: ='Team 9'!F27 -> 0 | BJ30: ='Team 9'!G27 -> 0 | BK30: =CONCATENATE(BI30, " ",BJ30) -> 0 0 | BO30: ='Team 10'!F27 -> 0 | BP30: ='Team 10'!G27 -> 0 | BQ30: =CONCATENATE(BO30, " ",BP30) -> 0 0
M31: ='Team 1'!F28 -> Michael | N31: ='Team 1'!G28 -> Manassero | O31: =CONCATENATE(M31, " ",N31) -> Michael Manassero | S31: ='Team 2'!F28 -> Daniel | T31: ='Team 2'!G28 -> Humphreys | U31: =CONCATENATE(S31, " ",T31) -> Daniel Humphreys | Y31: ='Team 3'!F28 -> Theo | Z31: ='Team 3'!G28 -> Smith | AA31: =CONCATENATE(Y31, " ",Z31) -> Theo Smith | AE31: ='Team 4'!F28 -> MAKSYMILIAN | AF31: ='Team 4'!G28 -> WOZNICKI | AG31: =CONCATENATE(AE31, " ",AF31) -> MAKSYMILIAN WOZNICKI | AK31: ='Team 5'!F28 -> Daniel | AL31: ='Team 5'!G28 -> Pirie | AM31: =CONCATENATE(AK31, " ",AL31) -> Daniel Pirie | AQ31: ='Team 6'!F28 -> Louis | AR31: ='Team 6'!G28 -> Waissman | AS31: =CONCATENATE(AQ31, " ",AR31) -> Louis Waissman | AW31: ='Team 7'!F28 -> Advay | AX31: ='Team 7'!G28 -> Bhatia | AY31: =CONCATENATE(AW31, " ",AX31) -> Advay Bhatia | BC31: ='Team 8'!F28 -> 0 | BD31: ='Team 8'!G28 -> 0 | BE31: =CONCATENATE(BC31, " ",BD31) -> 0 0 | BI31: ='Team 9'!F28 -> 0 | BJ31: ='Team 9'!G28 -> 0 | BK31: =CONCATENATE(BI31, " ",BJ31) -> 0 0 | BO31: ='Team 10'!F28 -> 0 | BP31: ='Team 10'!G28 -> 0 | BQ31: =CONCATENATE(BO31, " ",BP31) -> 0 0
M32: ='Team 1'!F29 -> Zalan | N32: ='Team 1'!G29 -> Tornay | O32: =CONCATENATE(M32, " ",N32) -> Zalan Tornay | S32: ='Team 2'!F29 -> Joseph | T32: ='Team 2'!G29 -> Bagshaw | U32: =CONCATENATE(S32, " ",T32) -> Joseph Bagshaw | Y32: ='Team 3'!F29 -> Luigi | Z32: ='Team 3'!G29 -> Giambrone | AA32: =CONCATENATE(Y32, " ",Z32) -> Luigi Giambrone | AE32: ='Team 4'!F29 -> SEBASTIAN | AF32: ='Team 4'!G29 -> BROWN | AG32: =CONCATENATE(AE32, " ",AF32) -> SEBASTIAN BROWN | AK32: ='Team 5'!F29 -> Joshua | AL32: ='Team 5'!G29 -> Parker | AM32: =CONCATENATE(AK32, " ",AL32) -> Joshua Parker | AQ32: ='Team 6'!F29 -> Gabriel | AR32: ='Team 6'!G29 -> Rebelo | AS32: =CONCATENATE(AQ32, " ",AR32) -> Gabriel Rebelo | AW32: ='Team 7'!F29 -> Daniel | AX32: ='Team 7'!G29 -> Celi | AY32: =CONCATENATE(AW32, " ",AX32) -> Daniel Celi | BC32: ='Team 8'!F29 -> 0 | BD32: ='Team 8'!G29 -> 0 | BE32: =CONCATENATE(BC32, " ",BD32) -> 0 0 | BI32: ='Team 9'!F29 -> 0 | BJ32: ='Team 9'!G29 -> 0 | BK32: =CONCATENATE(BI32, " ",BJ32) -> 0 0 | BO32: ='Team 10'!F29 -> 0 | BP32: ='Team 10'!G29 -> 0 | BQ32: =CONCATENATE(BO32, " ",BP32) -> 0 0
K33: 9 | L33: Female 16+ 4 X 50M MEDLEY RELAY | M33: ='Team 1'!F30 -> Isabel | N33: ='Team 1'!G30 -> Spyrou | O33: =CONCATENATE(M33, " ",N33) -> Isabel Spyrou | Q33: 9 | R33: Female 16+ 4 X 50M MEDLEY RELAY | S33: ='Team 2'!F30 -> Sophie | T33: ='Team 2'!G30 -> Lyon | U33: =CONCATENATE(S33, " ",T33) -> Sophie Lyon | W33: 9 | X33: Female 16+ 4 X 50M MEDLEY RELAY | Y33: ='Team 3'!F30 -> Grace | Z33: ='Team 3'!G30 -> Sofokleous-Ames | AA33: =CONCATENATE(Y33, " ",Z33) -> Grace Sofokleous-Ames | AC33: 9 | AD33: Female 16+ 4 X 50M MEDLEY RELAY | AE33: ='Team 4'!F30 -> LUCY | AF33: ='Team 4'!G30 -> BURNHAM | AG33: =CONCATENATE(AE33, " ",AF33) -> LUCY BURNHAM | AI33: 9 | AJ33: Female 16+ 4 X 50M MEDLEY RELAY | AK33: ='Team 5'!F30 -> Isabelle | AL33: ='Team 5'!G30 -> Talbot | AM33: =CONCATENATE(AK33, " ",AL33) -> Isabelle Talbot | AO33: 9 | AP33: Female 16+ 4 X 50M MEDLEY RELAY | AQ33: ='Team 6'!F30 -> Laura | AR33: ='Team 6'!G30 -> Leksander | AS33: =CONCATENATE(AQ33, " ",AR33) -> Laura Leksander | AU33: 9 | AV33: Female 16+ 4 X 50M MEDLEY RELAY | AW33: ='Team 7'!F30 -> Kayla | AX33: ='Team 7'!G30 -> Van Zyl | AY33: =CONCATENATE(AW33, " ",AX33) -> Kayla Van Zyl | BA33: 9 | BB33: Female 16+ 4 X 50M MEDLEY RELAY | BC33: ='Team 8'!F30 -> 0 | BD33: ='Team 8'!G30 -> 0 | BE33: =CONCATENATE(BC33, " ",BD33) -> 0 0 | BG33: 9 | BH33: Female 16+ 4 X 50M MEDLEY RELAY | BI33: ='Team 9'!F30 -> 0 | BJ33: ='Team 9'!G30 -> 0 | BK33: =CONCATENATE(BI33, " ",BJ33) -> 0 0 | BM33: 9 | BN33: Female 16+ 4 X 50M MEDLEY RELAY | BO33: ='Team 10'!F30 -> 0 | BP33: ='Team 10'!G30 -> 0 | BQ33: =CONCATENATE(BO33, " ",BP33) -> 0 0
M34: ='Team 1'!F31 -> Amy | N34: ='Team 1'!G31 -> Hanson | O34: =CONCATENATE(M34, " ",N34) -> Amy Hanson | S34: ='Team 2'!F31 -> Daisy | T34: ='Team 2'!G31 -> Harradine | U34: =CONCATENATE(S34, " ",T34) -> Daisy Harradine | Y34: ='Team 3'!F31 -> Molly | Z34: ='Team 3'!G31 -> Bartup | AA34: =CONCATENATE(Y34, " ",Z34) -> Molly Bartup | AE34: ='Team 4'!F31 -> LIBBY | AF34: ='Team 4'!G31 -> BLISSETT | AG34: =CONCATENATE(AE34, " ",AF34) -> LIBBY BLISSETT | AK34: ='Team 5'!F31 -> Marcie | AL34: ='Team 5'!G31 -> Aley | AM34: =CONCATENATE(AK34, " ",AL34) -> Marcie Aley | AQ34: ='Team 6'!F31 -> Alice | AR34: ='Team 6'!G31 -> Sharrock | AS34: =CONCATENATE(AQ34, " ",AR34) -> Alice Sharrock | AW34: ='Team 7'!F31 -> Keira | AX34: ='Team 7'!G31 -> Brannigan | AY34: =CONCATENATE(AW34, " ",AX34) -> Keira Brannigan | BC34: ='Team 8'!F31 -> 0 | BD34: ='Team 8'!G31 -> 0 | BE34: =CONCATENATE(BC34, " ",BD34) -> 0 0 | BI34: ='Team 9'!F31 -> 0 | BJ34: ='Team 9'!G31 -> 0 | BK34: =CONCATENATE(BI34, " ",BJ34) -> 0 0 | BO34: ='Team 10'!F31 -> 0 | BP34: ='Team 10'!G31 -> 0 | BQ34: =CONCATENATE(BO34, " ",BP34) -> 0 0
M35: ='Team 1'!F32 -> Charlotte | N35: ='Team 1'!G32 -> Skinner | O35: =CONCATENATE(M35, " ",N35) -> Charlotte Skinner | S35: ='Team 2'!F32 -> Madeleine | T35: ='Team 2'!G32 -> Bailiss | U35: =CONCATENATE(S35, " ",T35) -> Madeleine Bailiss | Y35: ='Team 3'!F32 -> Sophie | Z35: ='Team 3'!G32 -> Clark | AA35: =CONCATENATE(Y35, " ",Z35) -> Sophie Clark | AE35: ='Team 4'!F32 -> HANNAH | AF35: ='Team 4'!G32 -> BOLTON | AG35: =CONCATENATE(AE35, " ",AF35) -> HANNAH BOLTON | AK35: ='Team 5'!F32 -> Kathryn | AL35: ='Team 5'!G32 -> Edwards | AM35: =CONCATENATE(AK35, " ",AL35) -> Kathryn Edwards | AQ35: ='Team 6'!F32 -> Mina | AR35: ='Team 6'!G32 -> Safahe | AS35: =CONCATENATE(AQ35, " ",AR35) -> Mina Safahe | AW35: ='Team 7'!F32 -> Laura | AX35: ='Team 7'!G32 -> Hibberd | AY35: =CONCATENATE(AW35, " ",AX35) -> Laura Hibberd | BC35: ='Team 8'!F32 -> 0 | BD35: ='Team 8'!G32 -> 0 | BE35: =CONCATENATE(BC35, " ",BD35) -> 0 0 | BI35: ='Team 9'!F32 -> 0 | BJ35: ='Team 9'!G32 -> 0 | BK35: =CONCATENATE(BI35, " ",BJ35) -> 0 0 | BO35: ='Team 10'!F32 -> 0 | BP35: ='Team 10'!G32 -> 0 | BQ35: =CONCATENATE(BO35, " ",BP35) -> 0 0
M36: ='Team 1'!F33 -> Maja | N36: ='Team 1'!G33 -> Grzybek | O36: =CONCATENATE(M36, " ",N36) -> Maja Grzybek | S36: ='Team 2'!F33 -> Sophie | T36: ='Team 2'!G33 -> Stelmach | U36: =CONCATENATE(S36, " ",T36) -> Sophie Stelmach | Y36: ='Team 3'!F33 -> Jessica | Z36: ='Team 3'!G33 -> MacKenzie | AA36: =CONCATENATE(Y36, " ",Z36) -> Jessica MacKenzie | AE36: ='Team 4'!F33 -> AMBER | AF36: ='Team 4'!G33 -> CURTIS | AG36: =CONCATENATE(AE36, " ",AF36) -> AMBER CURTIS | AK36: ='Team 5'!F33 -> Lily | AL36: ='Team 5'!G33 -> Threadgold | AM36: =CONCATENATE(AK36, " ",AL36) -> Lily Threadgold | AQ36: ='Team 6'!F33 -> Crina Stefania | AR36: ='Team 6'!G33 -> Bostan | AS36: =CONCATENATE(AQ36, " ",AR36) -> Crina Stefania Bostan | AW36: ='Team 7'!F33 -> Aoife | AX36: ='Team 7'!G33 -> O'Leary | AY36: =CONCATENATE(AW36, " ",AX36) -> Aoife O'Leary | BC36: ='Team 8'!F33 -> 0 | BD36: ='Team 8'!G33 -> 0 | BE36: =CONCATENATE(BC36, " ",BD36) -> 0 0 | BI36: ='Team 9'!F33 -> 0 | BJ36: ='Team 9'!G33 -> 0 | BK36: =CONCATENATE(BI36, " ",BJ36) -> 0 0 | BO36: ='Team 10'!F33 -> 0 | BP36: ='Team 10'!G33 -> 0 | BQ36: =CONCATENATE(BO36, " ",BP36) -> 0 0
K37: 10 | L37: Open/Male 16+ 4 X 50M MEDLEY RELAY | M37: ='Team 1'!F34 -> Zalan | N37: ='Team 1'!G34 -> Tornay | O37: =CONCATENATE(M37, " ",N37) -> Zalan Tornay | Q37: 10 | R37: Open/Male 16+ 4 X 50M MEDLEY RELAY | S37: ='Team 2'!F34 -> Matthew | T37: ='Team 2'!G34 -> Costello | U37: =CONCATENATE(S37, " ",T37) -> Matthew Costello | W37: 10 | X37: Open/Male 16+ 4 X 50M MEDLEY RELAY | Y37: ='Team 3'!F34 -> Charlie | Z37: ='Team 3'!G34 -> Cropley | AA37: =CONCATENATE(Y37, " ",Z37) -> Charlie Cropley | AC37: 10 | AD37: Open/Male 16+ 4 X 50M MEDLEY RELAY | AE37: ='Team 4'!F34 -> MATTHEW | AF37: ='Team 4'!G34 -> MASTERS | AG37: =CONCATENATE(AE37, " ",AF37) -> MATTHEW MASTERS | AI37: 10 | AJ37: Open/Male 16+ 4 X 50M MEDLEY RELAY | AK37: ='Team 5'!F34 -> Jamie | AL37: ='Team 5'!G34 -> Hartnup | AM37: =CONCATENATE(AK37, " ",AL37) -> Jamie Hartnup | AO37: 10 | AP37: Open/Male 16+ 4 X 50M MEDLEY RELAY | AQ37: ='Team 6'!F34 -> Razvan | AR37: ='Team 6'!G34 -> Lembac | AS37: =CONCATENATE(AQ37, " ",AR37) -> Razvan Lembac | AU37: 10 | AV37: Open/Male 16+ 4 X 50M MEDLEY RELAY | AW37: ='Team 7'!F34 -> Tsz Kwai | AX37: ='Team 7'!G34 -> Chan | AY37: =CONCATENATE(AW37, " ",AX37) -> Tsz Kwai Chan | BA37: 10 | BB37: Open/Male 16+ 4 X 50M MEDLEY RELAY | BC37: ='Team 8'!F34 -> 0 | BD37: ='Team 8'!G34 -> 0 | BE37: =CONCATENATE(BC37, " ",BD37) -> 0 0 | BG37: 10 | BH37: Open/Male 16+ 4 X 50M MEDLEY RELAY | BI37: ='Team 9'!F34 -> 0 | BJ37: ='Team 9'!G34 -> 0 | BK37: =CONCATENATE(BI37, " ",BJ37) -> 0 0 | BM37: 10 | BN37: Open/Male 16+ 4 X 50M MEDLEY RELAY | BO37: ='Team 10'!F34 -> 0 | BP37: ='Team 10'!G34 -> 0 | BQ37: =CONCATENATE(BO37, " ",BP37) -> 0 0
M38: ='Team 1'!F35 -> Michael | N38: ='Team 1'!G35 -> Manassero | O38: =CONCATENATE(M38, " ",N38) -> Michael Manassero | S38: ='Team 2'!F35 -> Samuel | T38: ='Team 2'!G35 -> Heraty | U38: =CONCATENATE(S38, " ",T38) -> Samuel Heraty | Y38: ='Team 3'!F35 -> George | Z38: ='Team 3'!G35 -> Lovelock | AA38: =CONCATENATE(Y38, " ",Z38) -> George Lovelock | AE38: ='Team 4'!F35 -> MAX | AF38: ='Team 4'!G35 -> WALLER | AG38: =CONCATENATE(AE38, " ",AF38) -> MAX WALLER | AK38: ='Team 5'!F35 -> Robert | AL38: ='Team 5'!G35 -> Elliston | AM38: =CONCATENATE(AK38, " ",AL38) -> Robert Elliston | AQ38: ='Team 6'!F35 -> Dawid | AR38: ='Team 6'!G35 -> Otulak | AS38: =CONCATENATE(AQ38, " ",AR38) -> Dawid Otulak | AW38: ='Team 7'!F35 -> Andrew | AX38: ='Team 7'!G35 -> May | AY38: =CONCATENATE(AW38, " ",AX38) -> Andrew May | BC38: ='Team 8'!F35 -> 0 | BD38: ='Team 8'!G35 -> 0 | BE38: =CONCATENATE(BC38, " ",BD38) -> 0 0 | BI38: ='Team 9'!F35 -> 0 | BJ38: ='Team 9'!G35 -> 0 | BK38: =CONCATENATE(BI38, " ",BJ38) -> 0 0 | BO38: ='Team 10'!F35 -> 0 | BP38: ='Team 10'!G35 -> 0 | BQ38: =CONCATENATE(BO38, " ",BP38) -> 0 0
M39: ='Team 1'!F36 -> James | N39: ='Team 1'!G36 -> Smeaton | O39: =CONCATENATE(M39, " ",N39) -> James Smeaton | S39: ='Team 2'!F36 -> Daniel | T39: ='Team 2'!G36 -> Humphreys | U39: =CONCATENATE(S39, " ",T39) -> Daniel Humphreys | Y39: ='Team 3'!F36 -> Luke | Z39: ='Team 3'!G36 -> Morley | AA39: =CONCATENATE(Y39, " ",Z39) -> Luke Morley | AE39: ='Team 4'!F36 -> ELLIS | AF39: ='Team 4'!G36 -> BUNCE | AG39: =CONCATENATE(AE39, " ",AF39) -> ELLIS BUNCE | AK39: ='Team 5'!F36 -> Oliver | AL39: ='Team 5'!G36 -> Murray | AM39: =CONCATENATE(AK39, " ",AL39) -> Oliver Murray | AQ39: ='Team 6'!F36 -> Shanil | AR39: ='Team 6'!G36 -> Ramaiya | AS39: =CONCATENATE(AQ39, " ",AR39) -> Shanil Ramaiya | AW39: ='Team 7'!F36 -> Liam | AX39: ='Team 7'!G36 -> Treanor | AY39: =CONCATENATE(AW39, " ",AX39) -> Liam Treanor | BC39: ='Team 8'!F36 -> 0 | BD39: ='Team 8'!G36 -> 0 | BE39: =CONCATENATE(BC39, " ",BD39) -> 0 0 | BI39: ='Team 9'!F36 -> 0 | BJ39: ='Team 9'!G36 -> 0 | BK39: =CONCATENATE(BI39, " ",BJ39) -> 0 0 | BO39: ='Team 10'!F36 -> 0 | BP39: ='Team 10'!G36 -> 0 | BQ39: =CONCATENATE(BO39, " ",BP39) -> 0 0
M40: ='Team 1'!F37 -> Gabriel | N40: ='Team 1'!G37 -> Bhonsle | O40: =CONCATENATE(M40, " ",N40) -> Gabriel Bhonsle | S40: ='Team 2'!F37 -> Harry | T40: ='Team 2'!G37 -> Chapman | U40: =CONCATENATE(S40, " ",T40) -> Harry Chapman | Y40: ='Team 3'!F37 -> Ethan | Z40: ='Team 3'!G37 -> Saldanha | AA40: =CONCATENATE(Y40, " ",Z40) -> Ethan Saldanha | AE40: ='Team 4'!F37 -> CHARLIE | AF40: ='Team 4'!G37 -> STARSMORE | AG40: =CONCATENATE(AE40, " ",AF40) -> CHARLIE STARSMORE | AK40: ='Team 5'!F37 -> Matthew | AL40: ='Team 5'!G37 -> Pack | AM40: =CONCATENATE(AK40, " ",AL40) -> Matthew Pack | AQ40: ='Team 6'!F37 -> Wiktor | AR40: ='Team 6'!G37 -> Brejnak | AS40: =CONCATENATE(AQ40, " ",AR40) -> Wiktor Brejnak | AW40: ='Team 7'!F37 -> Aaron | AX40: ='Team 7'!G37 -> Skinner | AY40: =CONCATENATE(AW40, " ",AX40) -> Aaron Skinner | BC40: ='Team 8'!F37 -> 0 | BD40: ='Team 8'!G37 -> 0 | BE40: =CONCATENATE(BC40, " ",BD40) -> 0 0 | BI40: ='Team 9'!F37 -> 0 | BJ40: ='Team 9'!G37 -> 0 | BK40: =CONCATENATE(BI40, " ",BJ40) -> 0 0 | BO40: ='Team 10'!F37 -> 0 | BP40: ='Team 10'!G37 -> 0 | BQ40: =CONCATENATE(BO40, " ",BP40) -> 0 0
...

Sheet Recording
B1: Todays date is | D1: License Number (if applicable) | E1: National Arena Swimming League Gala Recording Sheet | L1: ='Gala Setup'!S4 -> NASL.2023 V6 | BJ1: Please select the printout sheet relevant to your gala. There are 6 ,8 or 10 lane sheets to choose from
B2: =TODAY() -> 45279 | D2: ='Gala Setup'!J7 -> 3ER231478
B3: Navigate the programme with these links. | C3: →→ | D3: Edit Team 1 | E3: Edit Team 2 | F3: Edit Team 3 | G3: Edit Team 4 | H3: Edit Team 5 | I3: Edit Team 6 | J3: Edit Team 7 | K3: Edit Team 8 | L3: Edit Team 9 | M3: Edit Team 10
C4: →→ | D4: Gala Set-up | E4: Check a Result | F4: Eligibility | G4: Final result | H4: Printout 6 Lane | I4: Printout 8 Lane | J4: Printout 10 Lane | K4: Club Codes | L4: Rankings HDR File | M4: Rankings MRF File | O4: Place | P4: Club | R4: Points | AI4: Should more than 2 teams be on equal points & blank spaces occur during the gala, please refer to the points shown at the head of the events list.
B5: CLUBS | D5: ='Gala Setup'!P4 -> HARINGEY AQUATICS | E5: ='Gala Setup'!P5 -> STEVENAGE | F5: ='Gala Setup'!P6 -> BORO OF BROXBOURNE | G5: ='Gala Setup'!P7 -> AYLESBURY | H5: ='Gala Setup'!P8 -> BRAINTREE & BOCKING | I5: ='Gala Setup'!P9 -> Bo of Harrow | J5: ='Gala Setup'!P10 -> Hillingdon 'B' | K5: ='Gala Setup'!P11 -> 0 | L5: ='Gala Setup'!P12 -> 0 | M5: ='Gala Setup'!P13 -> 0 | N5: =IF(D25>0,1) -> 1 | O5: ='Final result'!H17 -> 1st | P5: =IF(O5=0,0,'Final result'!G17) -> BRAINTREE & BOCKING | R5: ='Final result'!M17 -> 252 | AF5: =IF(AH5=0,0,"1st") -> 1st | AG5: =IF(D$26="1st",D$24,IF(E$26="1st",E$24,IF(F$26="1st",F$24,IF(G$26="1st",G$24,IF(H$26="1st",H$24,IF(I$26="1st",I$24,IF(J$26="1st",J$24,IF(K$26="1st",K$24,IF(L$26="1st",L$24,IF(M$26="1st",M$24)))))))))) -> BRAINTREE & BOCKING | AH5: =IF(D$26="1st",D$25,IF(E$26="1st",E$25,IF(F$26="1st",F$25,IF(G$26="1st",G$25,IF(H$26="1st",H$25,IF(I$26="1st",I$25,IF(J$26="1st",J$25,IF(K$26="1st",K$25,IF(L$26="1st",L$25,IF(M$26="1st",M$25,)))))))))) -> 252
AG6: =IF(D$26=1,D$24,IF(E$26=1,E$24,IF(F$26=1,F$24,IF(G$26=1,G$24,IF(H$26=1,H$24,IF(I$26=1,I$24,IF(J$26=1,J$24,IF(K$26=1,K$24,IF(L$26=1,L$24,IF(M$26=1,M$24)))))))))) -> FALSE
AG7: =IF(D$26=1,D$24,IF(E$26=1,E$24,IF(F$26=1,F$24,IF(G$26=1,G$24,IF(H$26=1,H$24,IF(I$26=1,I$24,IF(J$26=1,J$24,IF(K$26=1,K$24,IF(L$26=1,L$24,IF(M$26=1,M$24)))))))))) -> FALSE
AG8: =IF(D$26=1,D$24,IF(E$26=1,E$24,IF(F$26=1,F$24,IF(G$26=1,G$24,IF(H$26=1,H$24,IF(I$26=1,I$24,IF(J$26=1,J$24,IF(K$26=1,K$24,IF(L$26=1,L$24,IF(M$26=1,M$24)))))))))) -> FALSE
AG9: =IF(D$26=1,D$24,IF(E$26=1,E$24,IF(F$26=1,F$24,IF(G$26=1,G$24,IF(H$26=1,H$24,IF(I$26=1,I$24,IF(J$26=1,J$24,IF(K$26=1,K$24,IF(L$26=1,L$24,IF(M$26=1,M$24)))))))))) -> FALSE
AG10: =IF(D$26=1,D$24,IF(E$26=1,E$24,IF(F$26=1,F$24,IF(G$26=1,G$24,IF(H$26=1,H$24,IF(I$26=1,I$24,IF(J$26=1,J$24,IF(K$26=1,K$24,IF(L$26=1,L$24,IF(M$26=1,M$24)))))))))) -> FALSE
AG11: =IF(D$26=1,D$24,IF(E$26=1,E$24,IF(F$26=1,F$24,IF(G$26=1,G$24,IF(H$26=1,H$24,IF(I$26=1,I$24,IF(J$26=1,J$24,IF(K$26=1,K$24,IF(L$26=1,L$24,IF(M$26=1,M$24)))))))))) -> FALSE
AG12: =IF(D$26=1,D$24,IF(E$26=1,E$24,IF(F$26=1,F$24,IF(G$26=1,G$24,IF(H$26=1,H$24,IF(I$26=1,I$24,IF(J$26=1,J$24,IF(K$26=1,K$24,IF(L$26=1,L$24,IF(M$26=1,M$24)))))))))) -> FALSE
AG13: =IF(D$26=1,D$24,IF(E$26=1,E$24,IF(F$26=1,F$24,IF(G$26=1,G$24,IF(H$26=1,H$24,IF(I$26=1,I$24,IF(J$26=1,J$24,IF(K$26=1,K$24,IF(L$26=1,L$24,IF(M$26=1,M$24)))))))))) -> FALSE
AG14: =IF(D$26=1,D$24,IF(E$26=1,E$24,IF(F$26=1,F$24,IF(G$26=1,G$24,IF(H$26=1,H$24,IF(I$26=1,I$24,IF(J$26=1,J$24,IF(K$26=1,K$24,IF(L$26=1,L$24,IF(M$26=1,M$24)))))))))) -> FALSE
