Workbook
Name Boys: Data!$B$17:$B$44
Name Girls: Data!$C$17:$C$44
Name Mixed: Data!$B$17:$B$72

Sheet Data
B1: Name of Club | D1: Weybourne ASC | G1: Version Dated 28/08/2026
B2: Gala Type | D2: Minor League
B3: Team Coach | D3: Marion Hollow & Tel No | G3: Instructions for Completion
B4: Meet at | D4: Weybourne Leisure Centre | G4: Complete the areas in blue in the format described in the examples
B5: Swimming at | D5: Ribstone L C | G5: - do not drag information from one cell to another - it corrupts the data elsewhere
B6: Gala Date | D6: 46305 | F6: =TEXT(C6,"ddd") -> Sat
B7: Coach Time | D7: 1.45pm. | G7: Go to the "Selection" Tab and print off this page - it is suitable for the Club Notice Board
B8: Warm Up | D8: 5.00pm
B9: Start Time | D9: 5.30pm
B10: Team Manager (Female) | D10: Mary Wray
B11: Team Manager (Female) Tel | D11: 07777 666666
B12: Team Manager (Open/Male) | D12: Alan Stomp | G12: Once confirmations are returned go to relevant tab e.g. NatSwimming where a drop down box
B13: Team Manager (Open/Male) Tel | D13: 07888 111111 | G13: is available for each event to chose the swimmer(s) for that event
G15: The Leagues that are available are:-
B16: Open/Male | C16: Female | D16: Example
A17: 1 | D17: Tom Beech | G17: National Swimming League North West - Div 1 & Div 2
A18: 2 | D18: Mary Brown | G18: National Swimming League North West (Minor)
A19: 3
A20: 4
A21: 5
A22: 6
A23: 7
A24: 8
A25: 9
A26: 10
A27: 11
A28: 12
A29: 13
A30: 14
... A44: 28
B45: =C17 -> 0
B46: =C18 -> 0
B47: =C19 -> 0
B48: =C20 -> 0
B49: =C21 -> 0
B50: =C22 -> 0
B51: =C23 -> 0
B52: =C24 -> 0
B53: =C25 -> 0
B54: =C26 -> 0
...

Sheet Selection
K1: =Data!C1 -> 0
K2: =Data!C2 -> 0
I4: Team Sheet
A5: Swimmers selected to swim in the MEET detailed below, who are unable to swim
A6: PLEASE inform as soon as possible | L6: =Data!C3 -> 0
A8: Meet at: | D8: =Data!C4 -> 0 | N8: Date: | P8: =Data!C6 -> 0 | W8: =Data!F6 -> Sat
A9: Venue: | D9: =Data!C5 -> 0 | N9: Coach Time | R9: =Data!C7 -> 0
A10: Warm Up: | D10: =Data!C8 -> 0 | H10: Start: | J10: =Data!C9 -> 0 | N10: Team Manager | S10: =Data!C10 -> 0
N11: Team Manager | S11: =Data!C12 -> 0
E13: OPEN/MALE | M13: FEMALE
E14: =Data!B17 -> 0 | M14: =Data!C17 -> 0
E15: =Data!B18 -> 0 | F15: =Data!B18 -> 0 | M15: =Data!C18 -> 0
E16: =Data!B19 -> 0 | F16: =Data!B19 -> 0 | M16: =Data!C19 -> 0
E17: =Data!B20 -> 0 | F17: =Data!B20 -> 0 | M17: =Data!C20 -> 0
E18: =Data!B21 -> 0 | F18: =Data!B21 -> 0 | M18: =Data!C21 -> 0
E19: =Data!B22 -> 0 | F19: =Data!B22 -> 0 | M19: =Data!C22 -> 0
E20: =Data!B23 -> 0 | F20: =Data!B23 -> 0 | M20: =Data!C23 -> 0
E21: =Data!B24 -> 0 | F21: =Data!B24 -> 0 | M21: =Data!C24 -> 0
E22: =Data!B25 -> 0 | F22: =Data!B25 -> 0 | M22: =Data!C25 -> 0
E23: =Data!B26 -> 0 | F23: =Data!B26 -> 0 | M23: =Data!C26 -> 0
E24: =Data!B27 -> 0 | F24: =Data!B27 -> 0 | M24: =Data!C27 -> 0
E25: =Data!B28 -> 0 | F25: =Data!B28 -> 0 | M25: =Data!C28 -> 0
E26: =Data!B29 -> 0 | F26: =Data!B29 -> 0 | M26: =Data!C29 -> 0
... E41: =Data!B44 -> 0 | F41: =Data!B44 -> 0 | M41: =Data!C44 -> 0

Sheet NatSwimming - Div 1 & 2 
A1: NATIONAL SWIMMING LEAGUE NORTH WEST
A3: ="Team Sheet for " & Data!C1 -> Team Sheet for
A4: Venue | C4: =Data!C5 -> 0 | H4: Date | I4: =Data!C6 -> 0
G5: Times
A6: 1 | B6: Female | C6: Open | D6: Ind. Medley | E6: 200
A7: 2 | B7: Open | C7: Open | D7: Ind. Medley | E7: 200
A8: 3 | B8: Female | C8: 9-11 | D8: F/style Relay | E8: 4*50
D9: Times
A10: 4 | B10: Open | C10: 9-11 | D10: F/style Relay | E10: 4*50
D11: Times
A12: 5 | B12: Female | C12: 13/U | D12: Medley Relay | E12: 4*50
D13: Times
A14: 6 | B14: Open | C14: 13/U | D14: Medley Relay | E14: 4*50
D15: Times
A16: 7 | B16: Female | C16: 15/U | D16: F/style Relay | E16: 4*50
D17: Times
A18: 8 | B18: Open | C18: 15/U | D18: F/style Relay | E18: 4*50
D19: Times
A20: 9 | B20: Female | C20: Open | D20: Medley Relay | E20: 4*50
D21: Times
A22: 10 | B22: Open | C22: Open | D22: Medley Relay | E22: 4*50
D23: Times
A24: 11 | B24: Female | C24: 10-11 | D24: Backstroke | E24: 50
A25: 12 | B25: Open | C25: 10-11 | D25: Backstroke | E25: 50
A26: 13 | B26: Female | C26: 13/U | D26: Breaststroke | E26: 100
A27: 14 | B27: Open | C27: 13/U | D27: Breaststroke | E27: 100
A28: 15 | B28: Female | C28: 15/U | D28: Backstroke | E28: 100
A29: 16 | B29: Open | C29: 15/U | D29: Backstroke | E29: 100
A30: 17 | B30: Female | C30: Open | D30: Butterfly | E30: 100
A31: 18 | B31: Open | C31: Open | D31: Butterfly | E31: 100
A32: 19 | B32: Female | C32: 10-11 | D32: Butterfly | E32: 50
A33: 20 | B33: Open | C33: 10-11 | D33: Butterfly | E33: 50
A34: 21 | B34: Female | C34: 13/U | D34: Backstroke | E34: 100
A35: 22 | B35: Open | C35: 13/U | D35: Backstroke | E35: 100
... A55: 42 | B55: Open | C55: Open | D55: Freestyle | E55: 100
A56: 43 | B56: Female | C56: 9-11 | D56: Medley Relay | E56: 4*50
D57: Times
A58: 44 | B58: Open | C58: 9-11 | D58: Medley Relay | E58: 4*50
D59: Times
A60: 45 | B60: Female | C60: 13/U | D60: F/style Relay | E60: 4*50
...

Sheet NatSwimming (Minor)
A1: NATIONAL SWIMMING LEAGUE NORTH WEST
F2: Minor Division
A3: ="Team Sheet for " & Data!C1 -> Team Sheet for
A4: Venue | C4: =Data!C5 -> 0 | H4: Date | I4: =Data!C6 -> 0
G5: Times
A6: 1 | B6: Female | C6: 10 - 11 | D6: Breaststroke | E6: 50
A7: 2 | B7: Open | C7: 10 - 11 | D7: Breaststroke | E7: 50
A8: 3 | B8: Female | C8: 15/U | D8: Backstroke | E8: 100
A9: 4 | B9: Open | C9: 15/U | D9: Backstroke | E9: 100
A10: 5 | B10: Female | C10: 13/U | D10: Butterfly | E10: 50
A11: 6 | B11: Open | C11: 13/U | D11: Butterfly | E11: 50
A12: 7 | B12: Female | C12: Open | D12: Freestyle | E12: 100
A13: 8 | B13: Open | C13: Open | D13: Freestyle | E13: 100
A14: 9 | B14: Female | C14: 10 - 11 | D14: Backstroke | E14: 50
A15: 10 | B15: Open | C15: 10 - 11 | D15: Backstroke | E15: 50
A16: 11 | B16: Female | C16: 15/U | D16: Butterfly | E16: 100
A17: 12 | B17: Open | C17: 15/U | D17: Butterfly | E17: 100
... A21: 16 | B21: Open | C21: Open | D21: Breaststroke | E21: 100
A22: 17 | B22: Mixed | C22: 9-11 | D22: Medley Relay | E22: 4*50
D23: Times
A24: 18 | B24: Mixed | C24: 15/U | D24: Medley Relay | E24: 4*50
D25: Times
A26: 19 | B26: Mixed | C26: 13/U | D26: Medley Relay | E26: 4*50
D27: Times
A28: 20 | B28: Mixed | C28: Open | D28: Medley Relay | E28: 4*50
D29: Times
A30: 21 | B30: Female | C30: 10 -11 | D30: Butterfly | E30: 50
A31: 22 | B31: Open | C31: 10 -11 | D31: Butterfly | E31: 50
A32: 23 | B32: Female | C32: 15/U | D32: Freestyle | E32: 100
A33: 24 | B33: Open | C33: 15/U | D33: Freestyle | E33: 100
A34: 25 | B34: Female | C34: 13/U | D34: Breaststroke | E34: 50
A35: 26 | B35: Open | C35: 13/U | D35: Breaststroke | E35: 50
A36: 27 | B36: Female | C36: Open | D36: Backstroke | E36: 100
A37: 28 | B37: Open | C37: Open | D37: Backstroke | E37: 100
A38: 29 | B38: Female | C38: 10 - 11 | D38: Freestyle | E38: 50
A39: 30 | B39: Open | C39: 10 - 11 | D39: Freestyle | E39: 50
A40: 31 | B40: Female | C40: 15/U | D40: Breaststroke | E40: 100
A41: 32 | B41: Open | C41: 15/U | D41: Breaststroke | E41: 100
... A45: 36 | B45: Open | C45: Open | D45: Butterfly | E45: 100
A46: 37 | B46: Mixed | C46: 9 -11 | D46: F/style Relay | E46: 4*50
...
